{"text_format":"1","workbook":"xlsx","n_sheets":4,"sheets":["Introducción","A","Resumen","C"],"not_rendered":{"charts":1,"images":6,"macros":1,"external_links":2,"defined_names":53,"comments":3,"pivot_tables":0},"unopened":[],"bounds":{"document_bytes":16777216,"sheet_cells":100000,"rows_first":2000,"rows_last":500,"rows_between":2000,"halvings":0,"cell_chars":16384,"cell_head_chars":4096},"cells_cut":0,"cells_raw":0,"read":"whole","date_system":"1900"}

{"sheet":"Introducción","index":0,"n_rows":138,"n_cols":2,"rows_kept":138,"cut":false,"hidden":false,"merged":[[33,1,34,1],[60,1,61,1],[63,1,64,1],[20,1,21,1],[22,1,23,1],[24,1,25,1],[26,1,27,1],[28,1,29,1],[30,1,31,1]]}
[]
[]
[]
[null,"Herramienta para Respuesta de los Cultivos a Nutrientes"]
[null,"(CNRT) v4.1"]
[null,"Planilla de cálculo para estimar la dosis óptima económica de aplicación de nutrientes"]
[]
[]
[null,"Traducción y adaptación al castellano"]
[null,"Ing. Agr. María M. Ron"]
[null,"Ing. Agr. Juan M. Martínez"]
[]
[null,"Ultima Revisión: 26/11/2012"]
[]
[]
[]
[]
[null,"IPNI Programa  Latinoamérica Cono Sur"]
[]
[null,"Presentación"]
[null,"Su principal objetivo es ofrecer, a partir de datos limitados -un solo ensayo-, la mejor estimación posible de la \"dosis óptima económica” (DOE) basada en la respuesta a la fertilización de un cultivo, es decir la dosis más económicamente rentable para aplicar un insumo limitante."]
[]
[null,"La DOE se calcula sin tener en cuenta efectos residuales en los cultivos subsiguientes.  Por lo tanto el análisis resulta de mayor practicidad para nitrógeno (N), y menos útil para nutrientes como el fósforo (P) y el potasio (K). "]
[]
[null,"Puede servir, además, como una herramienta para registrar datos. La hoja de cálculo de resumen provee almacenamiento en una sola fila para 1000 o más años-sitios."]
[]
[null,"Para obtener los mejores resultados, los ensayos deberían tener al menos cuatro (4) dosis, y una de ellas debería ser cero (0) o menor al 25% de la dosis más alta. "]
[]
[null,"Las DOE se calculan a partir de curvas ajustadas sin evaluación de su significancia estadística. No se calcula la probabilidad de que no difieran de cero."]
[]
[null,"La interpretación de los datos no debería basarse sólo sobre la DOE calculada.  Debería incluir: i) inspección visual de la relación entre la curva ajustada y los datos originales ; y ii) conocimiento de la confiabilidad de los datos."]
[]
[]
[null,"NOTA: Para computadoras sin el complemento Solver, o si el macro \"ajuste\" no se puede ejecutar, las curvas de respuesta pueden ajustarse manualmente  modificando sucesivamente los coeficientes ABC (Hoja C)  hasta obtener \"visualmente\" un buen ajuste y maximizar el R2."]
[]
[]
[null,"ECUACIONES UTILIZADAS 1, 2:"]
[null,"Cuadrática(Q)"]
[null," Y = A + BX + CXX"]
[null,"DOE = (R-B)/(2C) ; A = intercepto; B = pendiente inicial; C = curvatura"]
[]
[null,"Cuadrática- Plateau (QP)"]
[null,"Y = A + BX + CXX cuando X<B/-2C; de lo contrario Y=A + BB/-2C + BB/4C"]
[null,"DOE = (R-B)/(2C) ; A = intercepto; B = pendiente inicial; C = curvatura"]
[]
[null,"Mitscherlich (M)"]
[null,"Y = A + Bexp(CX)"]
[null,"DOE = (1/B)*ln(R/(B*C)) ; A = maximo rendimiento; B = intercepto menos máximo; C = curvatura"]
[]
[null,"Linear-Plateau (LP)"]
[null,"Y = A + BX cuando X < (C - A)/B; de lo contrario Y = C "]
[null,"DOE = (C-A)/B si B>R; de lo contrario MERN = 0 ; A = intercepto; B = pendiente; C = máximo rendimiento"]
[]
[null,"Esférica-plateau (S)"]
[null,"Y = A + B(3X/(2C) - 0.5(X/C)^3) cuando X < C; de lo contrario Y = A + B"]
[null,"DOE = RAIZ(C^2 - 2*BR*C^3/(3*B)) ; A = intercepto; B = máximo menos intercepto; C = mínima dosis para máximo rendimiento"]
[]
[null,"1R = relación de precios nutriente:grano"]
[null,"2Cuando las respuestas son casi lineales, los modelos cuadrático y llineal-plateu se acercarán a modelos lineales. "]
[]
[null,"*Para corregir el valor por  diferencias de humedad o calidad de grano entre tratamientos de fertilización, convertir el valor en unidades de rendimiento y hacer los ajustes correspondientes a los datos ingresados. "]
[]
[]
[null,"Esta planilla de cálculo fue originalmente desarrollada por el  Dr. TW Bruulsema, con la aprobación del  Dr. TS Murrell,   Director de IPNI Centro Norte de Norteamérica"]
[]
[]
[null,"Contacto del autor"]
[null,"Tom Bruulsema, PhD, CCA"]
[null,"Director, Northeast Region, North America Program "]
[null,"International Plant Nutrition Institute"]
[null,"18 Maplewood Drive"]
[null,"Guelph, Ontario, Canada  N1G 1L8"]
[null,"cell: (519) 835-2499"]
[null,"email: Tom.Bruulsema@ipni.net"]
[null,"http://www.ipni.net/cnrt"]
[]
[null,"Referencias:"]
[null,"Bruulsema, TW, PE Fixen, and CS Snyder. 2004. Fertilizer Nutrient Recovery in Sustainable Cropping Systems. "]
[null,"Snyder, CS, and TW Bruulsema. 2007. Nutrient Use Efficiency and Effectiveness in North America: Indices of Agronomic and Environmental Benefit"]
[]
[]
[]
[]
["Listas: se usan para menus desplegables en algunas de las celdas para información del sitio."]
[]
["cultivo antecesor"]
[]
["Cebada"]
["Legumbres"]
["Forraje  <33% leguminosa"]
["Forraje  33- 50 %  leguminosa"]
["Forraje  > 50 %  leguminosa"]
["Maíz (para grano)"]
["Avena"]
["Maíz (para silaje"]
["Soja"]
["Trigo"]
["Trigo-trébol"]
["Cereal-trébol"]
["NA"]
[]
["Textura del suelo"]
[]
["Arcilloso"]
["Franco arcilloso"]
["Arcilloso pesado"]
["Franco "]
["Arenoso franco"]
["Arenoso"]
["Areno arcilloso"]
["Franco areno arcilloso"]
["Franco arenoso"]
["Franco limoso"]
["Arcillo limoso"]
["Franco limo arcilloso"]
["NA"]
[]
[]
["Labranza"]
[]
["Siembra directa"]
["Labranza conservacionista"]
["cincel (en primavera)"]
["Reja (en primavera)"]
["cincel (en otoño)"]
["Reja (en otoño)"]
["Convencional"]
["NA"]
[]
[]
["Momento y forma de aplicación"]
[]
["Presiembra en superficie"]
["Presiembra incorporado"]
["Preemergencia al voleo"]
["Entre líneas en superficie"]
["Entre líneas inyectado"]
["NA"]

{"sheet":"A","index":1,"n_rows":32,"n_cols":11,"rows_kept":32,"cut":false,"hidden":false,"merged":[[0,0,0,3],[5,0,5,1],[4,0,4,1],[1,2,3,2],[1,3,3,3],[1,0,1,1],[3,0,3,1],[2,0,2,1]]}
["Herramienta para respuesta de cultivos a los nutrientes  (CNRT) v4.1",null,null,null,null,"Media ponderada por R2 ","Cuadrática (Q)","Cuadrática- Plateau (QP)","Mitscherlich (M)","Lineal- Plateau (LP)","Esférica- Plateau (SP)"]
["Paso 1: Ingresar datos de dosis y rendimientos.",null,"Dosis de nutriente  (kg/ha)","Rendimiento (kg/ha)","A:",null,2445.0852001512581,2435.7514861117083,3077.5282049202965,2428.0001266456306,2435.4098673580602]
["Paso 2: Ingresar datos del sitio, precios de los cultivos y de los fertilizantes",null,null,null,"B:",null,14.200970377105991,15.835478469829104,-650.64634837394533,13.90003003757398,610.90871199360879]
["Paso 3: Cliquear el botón \"Ajustar\" ",null,null,null,"C:",null,-7.7619134219724467E-2,-0.10105087480626736,-3.4869480558241843E-2,3038.9994704232167,66.038159426272884]
["Paso 4: Cliquear para agregar información a la hoja Resumen",null,0,2428,"R2:",null,{"$f":"IF(ISERROR(1-((SUM('C'!G5:G40)/COUNT('C'!G5:G40))/VAR($D5:$D40))),\"no data\",1-((SUM('C'!G5:G40)/COUNT('C'!G5:G40))/VAR($D5:$D40)))","v":0.99129431109580446},{"$f":"IF(ISERROR(1-((SUM('C'!H5:H40)/COUNT('C'!H5:H40))/VAR($D5:$D40))),\"no data\",1-((SUM('C'!H5:H40)/COUNT('C'!H5:H40))/VAR($D5:$D40)))","v":0.99116992255370795},{"$f":"IF(ISERROR(1-((SUM('C'!I5:I40)/COUNT('C'!I5:I40))/VAR($D5:$D40))),\"no data\",1-((SUM('C'!I5:I40)/COUNT('C'!I5:I40))/VAR($D5:$D40)))","v":0.99307651119922646},{"$f":"IF(ISERROR(1-((SUM('C'!J5:J40)/COUNT('C'!J5:J40))/VAR($D5:$D40))),\"no data\",1-((SUM('C'!J5:J40)/COUNT('C'!J5:J40))/VAR($D5:$D40)))","v":0.98603117840444288},{"$f":"IF(ISERROR(1-((SUM('C'!K5:K40)/COUNT('C'!K5:K40))/VAR($D5:$D40))),\"no data\",1-((SUM('C'!K5:K40)/COUNT('C'!K5:K40))/VAR($D5:$D40)))","v":0.98630885651142353}]
["DATOS DEL SITIO",null,30,2845,"DOE (kg/ha):",{"$f":"IF(AND(ISNUMBER(G5),ISNUMBER(B29),'C'!M49),(G6*G$5+H6*H$5+I6*I$5+J6*J$5+K6*K$5)/SUM(G$5:K$5),\"NA\")","v":37.853494780449218},{"$f":"IF(AND(ISNUMBER(G5),ISNUMBER(B29),'C'!M49),MIN((1+0.1*G5)*MAX($C5:$C40),IF(G4<0,MAX((G3-B29)/(-2*G4),0),IF(G3>B29,MAX($C5:$C40),0))),\"NA$\")","v":37.797619767070145},{"$f":"IF(AND(ISNUMBER(H5),ISNUMBER(B29),'C'!M49),MIN((1+0.1*H5)*MAX($C5:$C40),IF(H4<0,MAX((H3-B29)/(-2*H4),0),IF(H3>B29,MAX($C5:$C40),0))),\"NA$\")","v":37.12063428881109},{"$f":"IF(AND(ISNUMBER(I5),ISNUMBER(B29),'C'!M49),MIN((1+0.1*I5)*MAX($C5:$C40),MAX((1/I4)*LN(B29/(I3*I4)),0)),\"NA$\")","v":28.723094917674839},{"$f":"IF(AND(ISNUMBER(J5),ISNUMBER(B29),'C'!M49),MIN((1+0.1*J5)*MAX($C5:$C40),IF(J3>B29,(J4-J2)/J3,0)),\"NA$\")","v":43.956692332747352},{"$f":"IF(AND(ISNUMBER(K5),ISNUMBER(B29),'C'!M49),IF(ISNUMBER(SQRT(K4^2-2*B29*K4^3/(3*K3))),MIN((1+0.1*K5)*MAX($C5:$C40),SQRT(K4^2-2*B29*K4^3/(3*K3))),0),\"NA$\")","v":41.737694340651188}]
["Sitio","INTA Bordenave",60,2989,"Rendimiento @ DOE (kg/ha)",{"$f":"IF(ISNUMBER(F6),VLOOKUP(F6,'C'!B44:H294,7),\"NA\")","v":2887.2732304997776},{"$f":"IF(ISNUMBER(G6),G2+G3*G6+G4*G6^2,\"NA\")","v":2870.9567218326897},{"$f":"IF(ISNUMBER(H6),H2+H3*H6+H4*H6^2,\"NA\")","v":2884.3322981818551},{"$f":"IF(ISNUMBER(I6),I2+I3*EXP(I6*I4),\"NA\")","v":2838.5417560279957},{"$f":"IF(ISNUMBER(J6),IF(J3>'C'!O22,MIN(J4,J2+J3*J6),J2),\"NA\")","v":3038.9994704232167},{"$f":"IF(AND(ISNUMBER(K6),K6>0),IF(K6<A!K$4,A!K$2+A!K$3*(3*K6/(2*A!K$4)-0.5*(K6/A!K$4)^3),A!K$3+A!K$2),\"NA\")","v":2937.4568071497019}]
["Año","xxxxxx",90,3089,"Productividad Parcial del Factor (PPF)",{"$f":"IF(ISNUMBER(F7/F6),F7/F6,\"NA\")","v":76.274944948835014},75.956018911378919,77.701589788061654,98.824369872526887,69.136218153502611,70.378990827212803]
["Localidad","Bordenave",120,3039,"Efficiencia Agronómica (EAN)",{"$f":"IF(ISNUMBER(F12/F6),F12/F6,\"NA\")","v":11.968373864815783},{"$f":"IF(ISNUMBER((G7-G2)/G6),(G7-G2)/G6,\"NA\")","v":11.267151855219659},{"$f":"IF(ISNUMBER((H7-H2)/H6),(H7-H2)/H6,\"NA\")","v":12.084405901581215},{"$f":"IF(ISNUMBER((I7-(I2+I3))/I6),(I7-(I2+I3))/I6,\"NA\")","v":14.332017516271494},{"$f":"IF(ISNUMBER((J7-J2)/J6),(J7-J2)/J6,\"NA\")","v":13.90003003757398},{"$f":"IF(ISNUMBER((K7-K2)/K6),(K7-K2)/K6,\"NA\")","v":12.028621794344399}]
["Partido o Departamento","Puan",null,null,"Balance Parcial de Nutriente (BPN):",{"$f":"IF(AND(F6>0,ISNUMBER(F6)),F7*B30/(F6+B25),\"NA\")","v":1.5254988989767002},{"$f":"IF(AND(G6>0,ISNUMBER(G6)),G7*$B30/(G6+$B24),\"NA\")","v":1.5191203782275784},{"$f":"IF(AND(H6>0,ISNUMBER(H6)),H7*$B30/(H6+$B24),\"NA\")","v":1.5540317957612333},{"$f":"IF(AND(I6>0,ISNUMBER(I6)),I7*$B30/(I6+$B25),\"NA\")","v":1.9764873974505379},{"$f":"IF(AND(J6>0,ISNUMBER(J6)),J7*B30/(J6+B25),\"NA\")","v":1.3827243630700523},{"$f":"IF(AND(K6>0,ISNUMBER(K6)),K7*$B30/(K6+$B24),\"NA\")","v":1.4075798165442561}]
["Estado o Provincia","Buenos Aires",null,null,"Eficiencia de Recuperación (ERN)",{"$f":"IF(AND(F6>0,ISNUMBER(F6)),(F12/F6)*B30*(1/B31),\"NA\")","v":0.35726489148703827},{"$f":"IF(AND(G6>0,ISNUMBER(G6)),((G7-G2)*$B30*(1/$B31))/G6,\"NA\")","v":0.33633289120058679},{"$f":"IF(AND(H6>0,ISNUMBER(H6)),((H7-H2)*$B30*(1/$B31))/H6,\"NA\")","v":0.36072853437555868},{"$f":"IF(AND(I6>0,ISNUMBER(I6)),((I7-(I2+I3))*B30*(1/B31))/I6,\"NA\")","v":0.42782141839616394},{"$f":"IF(AND(J6>0,ISNUMBER(J6)),J3*B30*(1/B31),\"NA\")","v":0.41492626977832781},{"$f":"IF(AND(K6>0,ISNUMBER(K6)),((K7-K2)*$B30*(1/$B31))/K6,\"NA\")","v":0.35906333714460886}]
["Latitud",null,null,null,"Δ Rendimiento (kg/ha)",{"$f":"IF(ISNUMBER(F7),F7-VLOOKUP(0,'C'!B44:H294,7),\"NA\")","v":453.04477762226907},{"$f":"IF(ISNUMBER(G7),G7-G2,\"NA\")","v":425.87152168143166},{"$f":"IF(ISNUMBER(H7),H7-H2,\"NA\")","v":448.58081207014675},{"$f":"IF(ISNUMBER(I7),I7-(I2+I3),\"NA\")","v":411.65989948164452},{"$f":"IF(ISNUMBER(J7),J7-J2,\"NA\")","v":610.99934377758609},{"$f":"IF(ISNUMBER(K7),K7-K2,\"NA\")","v":502.04693979164176}]
["Longitud",null,null,null,"Rendimiento Relativo (%)",{"$f":"IF(ISNUMBER(F7),(F7-F12)/F7,\"NA\")","v":0.84308905273095736},{"$f":"IF(ISNUMBER(G7),G2/G7,\"NA\")","v":0.8516621590138167},{"$f":"IF(ISNUMBER(H7),H2/H7,\"NA\")","v":0.84447672261864193},{"$f":"IF(ISNUMBER(I7),(I2+I3)/I7,\"NA\")","v":0.85497486566564196},{"$f":"IF(ISNUMBER(J7),J2/J7,\"NA\")","v":0.79894720294488986},{"$f":"IF(ISNUMBER(K7),K2/K7,\"NA\")","v":0.82908789039223618}]
["Altitud",null,null,null,"Ganancia neta (kg/ha)",{"$f":"IF(ISNUMBER(F12),F12-(F6*$B$29),\"NA\")","v":137.59898778519221},{"$f":"IF(ISNUMBER(G12),G12-(G6*$B$29),\"NA\")","v":110.89135695584707},{"$f":"IF(ISNUMBER(H12),H12-(H6*$B$29),\"NA\")","v":139.24219299672097},172.3007751676875,244.6935743380248,154.23282028621514]
["Clase textural","Franco arenoso"]
["Cultivo antecesor","Trigo"]
["Rendimiento esperado (kg/ha)"]
["Momento y forma de aplicación","Preemergencia al voleo"]
["Sistema de labranza","Labranza conservacionista"]
["Grados-día del sitio"]
["Cultivo","trigo"]
["Cultivar"]
["N-nitratos (mg/kg)"]
["N de estiércol (kg/ha)"]
["Fecha de siembra"]
["Fecha de cosecha"]
["Precio Cultivo ($/kg)",120]
["Costo Nutriente del fertilizante ($/kg)",1000]
["Relación de precios ",{"$f":"B28/B27","v":8.3333333333333339}]
["Contenido de N del cultivo (kg N/kg grano)",0.02]
["Indice de cosecha de N",0.67]
["Fuente fertilizante","Urea"]

{"sheet":"Resumen","index":2,"n_rows":4,"n_cols":62,"rows_kept":4,"cut":false,"hidden":false,"merged":[[0,0,0,2],[0,4,1,5],[0,6,0,8]]}
["Resumen base de datos de múltiples años-sitios",null,null,{"$f":"COUNTA(A5:A957)","v":0},null,null,"El año-sitio actual se muestra en la fila 4- No borrar"]
[]
[{"$f":"A!A7","v":"Sitio"},{"$f":"A!A8","v":"Año"},{"$f":"A!A9","v":"Localidad"},{"$f":"A!A10","v":"Partido o Departamento"},{"$f":"A!A11","v":"Estado o Provincia"},{"$f":"A!A12","v":"Latitud"},{"$f":"A!A13","v":"Longitud"},{"$f":"A!A14","v":"Altitud"},{"$f":"A!A15","v":"Clase textural"},{"$f":"A!A16","v":"Cultivo antecesor"},{"$f":"A!A17","v":"Rendimiento esperado (kg/ha)"},{"$f":"A!A18","v":"Momento y forma de aplicación"},{"$f":"A!A19","v":"Sistema de labranza"},{"$f":"A!A20","v":"Grados-día del sitio"},{"$f":"A!A21","v":"Cultivo"},{"$f":"A!A22","v":"Cultivar"},{"$f":"A!A23","v":"N-nitratos (mg/kg)"},{"$f":"A!A24","v":"N de estiércol (kg/ha)"},{"$f":"A!A25","v":"Fecha de siembra"},{"$f":"A!A26","v":"Fecha de cosecha"},{"$f":"A!A27","v":"Precio Cultivo ($/kg)"},{"$f":"A!A28","v":"Costo Nutriente del fertilizante ($/kg)"},{"$f":"A!A29","v":"Relación de precios "},{"$f":"A!A30","v":"Contenido de N del cultivo (kg N/kg grano)"},{"$f":"A!A31","v":"Indice de cosecha de N"},{"$f":"A!A32","v":"Fuente fertilizante"},{"$f":"A!A33","v":0},{"$f":"A!A34","v":0},{"$f":"A!A35","v":0},{"$f":"A!A36","v":0},{"$f":"A!A37","v":0},{"$f":"A!A38","v":0},{"$f":"A!A39","v":0},{"$f":"A!A40","v":0},{"$f":"A!E6","v":"DOE (kg/ha):"},{"$f":"A!E7","v":"Rendimiento @ DOE (kg/ha)"},"PFP","AEN","PNB","REN",{"$f":"A!E12","v":"Δ Rendimiento (kg/ha)"},{"$f":"A!E13","v":"Rendimiento Relativo (%)"},"QA","QB","QC","QPA","QPB","QPC","MA","MB","MC","LPA","LPB","LPC","SA","SB","SC","QR2","QPR2","MR2","LPR2","SR2"]
[{"$f":"A!B7","v":"INTA Bordenave"},{"$f":"A!B8","v":"xxxxxx"},{"$f":"A!B9","v":"Bordenave"},{"$f":"A!B10","v":"Puan"},{"$f":"A!B11","v":"Buenos Aires"},{"$f":"A!B12","v":0},{"$f":"A!B13","v":0},{"$f":"A!B14","v":0},{"$f":"A!B15","v":"Franco arenoso"},{"$f":"A!B16","v":"Trigo"},{"$f":"A!B17","v":0},{"$f":"A!B18","v":"Preemergencia al voleo"},{"$f":"A!B19","v":"Labranza conservacionista"},{"$f":"A!B20","v":0},{"$f":"A!B21","v":"trigo"},{"$f":"A!B22","v":0},{"$f":"A!B23","v":0},{"$f":"A!B24","v":0},{"$f":"A!B25","v":0},{"$f":"A!B26","v":0},{"$f":"A!B27","v":120},{"$f":"A!B28","v":1000},{"$f":"A!B29","v":8.3333333333333339},{"$f":"A!B30","v":0.02},{"$f":"A!B31","v":0.67},{"$f":"A!B32","v":"Urea"},{"$f":"A!B33","v":0},{"$f":"A!B34","v":0},{"$f":"A!B35","v":0},{"$f":"A!B36","v":0},{"$f":"A!B37","v":0},{"$f":"A!B38","v":0},{"$f":"A!B39","v":0},{"$f":"A!B40","v":0},{"$f":"A!F6","v":37.853494780449218},{"$f":"A!F7","v":2887.2732304997776},{"$f":"A!F8","v":76.274944948835014},{"$f":"A!F9","v":11.968373864815783},{"$f":"A!F10","v":1.5254988989767002},{"$f":"A!F11","v":0.35726489148703827},{"$f":"A!F12","v":453.04477762226907},{"$f":"A!F13","v":0.84308905273095736},{"$f":"A!G2","v":2445.0852001512581},{"$f":"A!G3","v":14.200970377105991},{"$f":"A!G4","v":-7.7619134219724467E-2},{"$f":"A!H2","v":2435.7514861117083},{"$f":"A!H3","v":15.835478469829104},{"$f":"A!H4","v":-0.10105087480626736},{"$f":"A!I2","v":3077.5282049202965},{"$f":"A!I3","v":-650.64634837394533},{"$f":"A!I4","v":-3.4869480558241843E-2},{"$f":"A!J2","v":2428.0001266456306},{"$f":"A!J3","v":13.90003003757398},{"$f":"A!J4","v":3038.9994704232167},{"$f":"A!K2","v":2435.4098673580602},{"$f":"A!K3","v":610.90871199360879},{"$f":"A!K4","v":66.038159426272884},{"$f":"A!G5","v":0.99129431109580446},{"$f":"A!H5","v":0.99116992255370795},{"$f":"A!I5","v":0.99307651119922646},{"$f":"A!J5","v":0.98603117840444288},{"$f":"A!K5","v":0.98630885651142353}]

{"sheet":"C","index":3,"n_rows":294,"n_cols":25,"rows_kept":294,"cut":false,"hidden":false,"merged":[[2,1,2,5],[2,6,2,10],[13,18,13,22],[5,13,5,17],[5,18,5,22],[0,11,2,23]]}
["Hoja para cálculos - No ingresar datos aquí"]
[]
[null,"Valores predichos por la curva",null,null,null,null,"(Predicho menos observado)  al cuadrado"]
["Obs","Q","QP","M","LP","S ","Q","QP","M","LP","S ",null,"Información Técnica"]
[1,{"$f":"IF(ISNUMBER(A!C5),A!G$2+A!G$3*A!C5+A!G$4*A!C5^2,\"\")","v":2445.0852001512581},{"$f":"IF(ISNUMBER(A!C5),IF(A!C5<(A!H$3/(-2*A!H$4)),A!H$2+A!H$3*A!C5+A!H$4*A!C5^2,A!H$2+A!H$3*(A!H$3/(-2*A!H$4))+A!H$4*(A!H$3/(-2*A!H$4))^2),\"\")","v":2435.7514861117083},{"$f":"IF(ISNUMBER(A!C5),A!I$2+A!I$3*EXP(A!I$4*A!C5),\"\")","v":2426.8818565463512},{"$f":"IF(ISNUMBER(A!C5),IF((A!J$2+A!J$3*A!C5)<A!J$4,A!J$2+A!J$3*A!C5,A!J$4),\"\")","v":2428.0001266456306},{"$f":"IF(ISNUMBER(A!C5),IF(A!C5<A!K$4,A!K$2+A!K$3*(3*A!C5/(2*A!K$4)-0.5*(A!C5/A!K$4)^3),A!K$3+A!K$2),\"\")","v":2435.4098673580602},{"$f":"IF(ISNUMBER(A!$C5),(B5-A!$D5)^2,\"\")","v":291.90406420854811},{"$f":"IF(ISNUMBER(A!$C5),(C5-A!$D5)^2,\"\")","v":60.085536940007366},{"$f":"IF(ISNUMBER(A!$C5),(D5-A!$D5)^2,\"\")","v":1.2502447829377261},{"$f":"IF(ISNUMBER(A!$C5),(E5-A!$D5)^2,\"\")","v":1.6039115761192857E-8},{"$f":"IF(ISNUMBER(A!$C5),(F5-A!$D5)^2,\"\")","v":54.906134264045789},null,null,"Restricciones:"]
[{"$f":"A5+1","v":2},{"$f":"IF(ISNUMBER(A!C6),A!G$2+A!G$3*A!C6+A!G$4*A!C6^2,\"\")","v":2801.2570906666856},{"$f":"IF(ISNUMBER(A!C6),IF(A!C6<(A!H$3/(-2*A!H$4)),A!H$2+A!H$3*A!C6+A!H$4*A!C6^2,A!H$2+A!H$3*(A!H$3/(-2*A!H$4))+A!H$4*(A!H$3/(-2*A!H$4))^2),\"\")","v":2819.8700528809409},{"$f":"IF(ISNUMBER(A!C6),A!I$2+A!I$3*EXP(A!I$4*A!C6),\"\")","v":2848.9492162208171},{"$f":"IF(ISNUMBER(A!C6),IF((A!J$2+A!J$3*A!C6)<A!J$4,A!J$2+A!J$3*A!C6,A!J$4),\"\")","v":2845.0010277728502},{"$f":"IF(ISNUMBER(A!C6),IF(A!C6<A!K$4,A!K$2+A!K$3*(3*A!C6/(2*A!K$4)-0.5*(A!C6/A!K$4)^3),A!K$3+A!K$2),\"\")","v":2823.0610006618504},{"$f":"IF(ISNUMBER(A!$C6),(B6-A!$D6)^2,\"\")","v":1913.4421169425641},{"$f":"IF(ISNUMBER(A!$C6),(C6-A!$D6)^2,\"\")","v":631.51424220670799},{"$f":"IF(ISNUMBER(A!$C6),(D6-A!$D6)^2,\"\")","v":15.59630875876495},{"$f":"IF(ISNUMBER(A!$C6),(E6-A!$D6)^2,\"\")","v":1.0563170315944327E-6},{"$f":"IF(ISNUMBER(A!$C6),(F6-A!$D6)^2,\"\")","v":481.31969195933044},null,null,"Máximo",null,null,null,null,"Mínimo",null,null,null,null,"Tolerancia"]
[{"$f":"A6+1","v":3},{"$f":"IF(ISNUMBER(A!C7),A!G$2+A!G$3*A!C7+A!G$4*A!C7^2,\"\")","v":3017.7145395866096},{"$f":"IF(ISNUMBER(A!C7),IF(A!C7<(A!H$3/(-2*A!H$4)),A!H$2+A!H$3*A!C7+A!H$4*A!C7^2,A!H$2+A!H$3*(A!H$3/(-2*A!H$4))+A!H$4*(A!H$3/(-2*A!H$4))^2),\"\")","v":3022.0970449988922},{"$f":"IF(ISNUMBER(A!C7),A!I$2+A!I$3*EXP(A!I$4*A!C7),\"\")","v":2997.2259728314625},{"$f":"IF(ISNUMBER(A!C7),IF((A!J$2+A!J$3*A!C7)<A!J$4,A!J$2+A!J$3*A!C7,A!J$4),\"\")","v":3038.9994704232167},{"$f":"IF(ISNUMBER(A!C7),IF(A!C7<A!K$4,A!K$2+A!K$3*(3*A!C7/(2*A!K$4)-0.5*(A!C7/A!K$4)^3),A!K$3+A!K$2),\"\")","v":3038.8910493153958},{"$f":"IF(ISNUMBER(A!$C7),(B7-A!$D7)^2,\"\")","v":824.52478367096921},{"$f":"IF(ISNUMBER(A!$C7),(C7-A!$D7)^2,\"\")","v":1095.4143876586961},{"$f":"IF(ISNUMBER(A!$C7),(D7-A!$D7)^2,\"\")","v":67.666629023959402},{"$f":"IF(ISNUMBER(A!$C7),(E7-A!$D7)^2,\"\")","v":2499.9470426021253},{"$f":"IF(ISNUMBER(A!$C7),(F7-A!$D7)^2,\"\")","v":2489.1168017912532},null,null,"Q","QP","M","LP","S ","Q","QP","M","LP","S ","de ajuste"]
[4,{"$f":"IF(ISNUMBER(A!C8),A!G$2+A!G$3*A!C8+A!G$4*A!C8^2,\"\")","v":3094.4575469110287},{"$f":"IF(ISNUMBER(A!C8),IF(A!C8<(A!H$3/(-2*A!H$4)),A!H$2+A!H$3*A!C8+A!H$4*A!C8^2,A!H$2+A!H$3*(A!H$3/(-2*A!H$4))+A!H$4*(A!H$3/(-2*A!H$4))^2),\"\")","v":3056.137947013649},{"$f":"IF(ISNUMBER(A!C8),A!I$2+A!I$3*EXP(A!I$4*A!C8),\"\")","v":3049.3171759226711},{"$f":"IF(ISNUMBER(A!C8),IF((A!J$2+A!J$3*A!C8)<A!J$4,A!J$2+A!J$3*A!C8,A!J$4),\"\")","v":3038.9994704232167},{"$f":"IF(ISNUMBER(A!C8),IF(A!C8<A!K$4,A!K$2+A!K$3*(3*A!C8/(2*A!K$4)-0.5*(A!C8/A!K$4)^3),A!K$3+A!K$2),\"\")","v":3046.3185793516691},{"$f":"IF(ISNUMBER(A!$C8),(B8-A!$D8)^2,\"\")","v":29.784818286078444},{"$f":"IF(ISNUMBER(A!$C8),(C8-A!$D8)^2,\"\")","v":1079.9145264777437},{"$f":"IF(ISNUMBER(A!$C8),(D8-A!$D8)^2,\"\")","v":1574.7265267522312},{"$f":"IF(ISNUMBER(A!$C8),(E8-A!$D8)^2,\"\")","v":2500.0529579587783},{"$f":"IF(ISNUMBER(A!$C8),(F8-A!$D8)^2,\"\")","v":1821.7036685597684},null,"A",{"$f":"(1+X8)*MIN(A!D5:D40)","v":3156.4},{"$f":"N8","v":3156.4},{"$f":"(1+X8)*MAX(A!D5:D40)","v":4015.7000000000003},{"$f":"N8","v":3156.4},{"$f":"N8","v":3156.4},{"$f":"MAX((1-X8)*MIN(A!D5:D40)-(1+X8)*MIN(A!C5:C40)*(1/O20),0.5*MIN(A!D5:D40))","v":1699.6},{"$f":"S8","v":1699.6},{"$f":"(1-X8)*MAX(A!D5:D40)","v":2162.2999999999997},{"$f":"S8","v":1699.6},{"$f":"S8","v":1699.6},0.3]
[5,{"$f":"IF(ISNUMBER(A!C9),A!G$2+A!G$3*A!C9+A!G$4*A!C9^2,\"\")","v":3031.4861126399446},{"$f":"IF(ISNUMBER(A!C9),IF(A!C9<(A!H$3/(-2*A!H$4)),A!H$2+A!H$3*A!C9+A!H$4*A!C9^2,A!H$2+A!H$3*(A!H$3/(-2*A!H$4))+A!H$4*(A!H$3/(-2*A!H$4))^2),\"\")","v":3056.137947013649},{"$f":"IF(ISNUMBER(A!C9),A!I$2+A!I$3*EXP(A!I$4*A!C9),\"\")","v":3067.6173701103194},{"$f":"IF(ISNUMBER(A!C9),IF((A!J$2+A!J$3*A!C9)<A!J$4,A!J$2+A!J$3*A!C9,A!J$4),\"\")","v":3038.9994704232167},{"$f":"IF(ISNUMBER(A!C9),IF(A!C9<A!K$4,A!K$2+A!K$3*(3*A!C9/(2*A!K$4)-0.5*(A!C9/A!K$4)^3),A!K$3+A!K$2),\"\")","v":3046.3185793516691},{"$f":"IF(ISNUMBER(A!$C9),(B9-A!$D9)^2,\"\")","v":56.458503259599979},{"$f":"IF(ISNUMBER(A!$C9),(C9-A!$D9)^2,\"\")","v":293.70922784263911},{"$f":"IF(ISNUMBER(A!$C9),(D9-A!$D9)^2,\"\")","v":818.95387203100051},{"$f":"IF(ISNUMBER(A!$C9),(E9-A!$D9)^2,\"\")","v":2.8045156937322953E-7},{"$f":"IF(ISNUMBER(A!$C9),(F9-A!$D9)^2,\"\")","v":53.561603726677106},null,"B",{"$f":"O21*(1+X9)/O20","v":63.649999999999991},{"$f":"N9","v":63.649999999999991},{"$f":"MIN(-0.0000001,N8-U8)","v":-9.9999999999999995E-8},{"$f":"O21*(1+0.5*X9)/O20","v":48.575000000000003},{"$f":"-1*U9","v":1389.4},0,0,{"$f":"S8-Q10","v":-1389.4},{"$f":"S9","v":0},{"$f":"-1*P9","v":9.9999999999999995E-8},0.9]
[6,{"$f":"IF(ISNUMBER(A!C10),A!G$2+A!G$3*A!C10+A!G$4*A!C10^2,\"\")","v":""},{"$f":"IF(ISNUMBER(A!C10),IF(A!C10<(A!H$3/(-2*A!H$4)),A!H$2+A!H$3*A!C10+A!H$4*A!C10^2,A!H$2+A!H$3*(A!H$3/(-2*A!H$4))+A!H$4*(A!H$3/(-2*A!H$4))^2),\"\")","v":""},{"$f":"IF(ISNUMBER(A!C10),A!I$2+A!I$3*EXP(A!I$4*A!C10),\"\")","v":""},{"$f":"IF(ISNUMBER(A!C10),IF((A!J$2+A!J$3*A!C10)<A!J$4,A!J$2+A!J$3*A!C10,A!J$4),\"\")","v":""},{"$f":"IF(ISNUMBER(A!C10),IF(A!C10<A!K$4,A!K$2+A!K$3*(3*A!C10/(2*A!K$4)-0.5*(A!C10/A!K$4)^3),A!K$3+A!K$2),\"\")","v":""},{"$f":"IF(ISNUMBER(A!$C10),(B10-A!$D10)^2,\"\")","v":""},{"$f":"IF(ISNUMBER(A!$C10),(C10-A!$D10)^2,\"\")","v":""},{"$f":"IF(ISNUMBER(A!$C10),(D10-A!$D10)^2,\"\")","v":""},{"$f":"IF(ISNUMBER(A!$C10),(E10-A!$D10)^2,\"\")","v":""},{"$f":"IF(ISNUMBER(A!$C10),(F10-A!$D10)^2,\"\")","v":""},null,"C",-9.9999999999999995E-8,-9.9999999999999995E-8,-9.9999999999999995E-8,{"$f":"MAX(A!D5:D40)","v":3089},{"$f":"M44","v":120},-1,-1,{"$f":"(O21*(1+X10)/O20)/AVERAGE(P9,U9)","v":-6.268893046907377E-2},{"$f":"(1-(X8/2))*MAX(A!D5:D40)","v":2625.65},0,0.3]
[7,{"$f":"IF(ISNUMBER(A!C11),A!G$2+A!G$3*A!C11+A!G$4*A!C11^2,\"\")","v":""},{"$f":"IF(ISNUMBER(A!C11),IF(A!C11<(A!H$3/(-2*A!H$4)),A!H$2+A!H$3*A!C11+A!H$4*A!C11^2,A!H$2+A!H$3*(A!H$3/(-2*A!H$4))+A!H$4*(A!H$3/(-2*A!H$4))^2),\"\")","v":""},{"$f":"IF(ISNUMBER(A!C11),A!I$2+A!I$3*EXP(A!I$4*A!C11),\"\")","v":""},{"$f":"IF(ISNUMBER(A!C11),IF((A!J$2+A!J$3*A!C11)<A!J$4,A!J$2+A!J$3*A!C11,A!J$4),\"\")","v":""},{"$f":"IF(ISNUMBER(A!C11),IF(A!C11<A!K$4,A!K$2+A!K$3*(3*A!C11/(2*A!K$4)-0.5*(A!C11/A!K$4)^3),A!K$3+A!K$2),\"\")","v":""},{"$f":"IF(ISNUMBER(A!$C11),(B11-A!$D11)^2,\"\")","v":""},{"$f":"IF(ISNUMBER(A!$C11),(C11-A!$D11)^2,\"\")","v":""},{"$f":"IF(ISNUMBER(A!$C11),(D11-A!$D11)^2,\"\")","v":""},{"$f":"IF(ISNUMBER(A!$C11),(E11-A!$D11)^2,\"\")","v":""},{"$f":"IF(ISNUMBER(A!$C11),(F11-A!$D11)^2,\"\")","v":""}]
[8,{"$f":"IF(ISNUMBER(A!C12),A!G$2+A!G$3*A!C12+A!G$4*A!C12^2,\"\")","v":""},{"$f":"IF(ISNUMBER(A!C12),IF(A!C12<(A!H$3/(-2*A!H$4)),A!H$2+A!H$3*A!C12+A!H$4*A!C12^2,A!H$2+A!H$3*(A!H$3/(-2*A!H$4))+A!H$4*(A!H$3/(-2*A!H$4))^2),\"\")","v":""},{"$f":"IF(ISNUMBER(A!C12),A!I$2+A!I$3*EXP(A!I$4*A!C12),\"\")","v":""},{"$f":"IF(ISNUMBER(A!C12),IF((A!J$2+A!J$3*A!C12)<A!J$4,A!J$2+A!J$3*A!C12,A!J$4),\"\")","v":""},{"$f":"IF(ISNUMBER(A!C12),IF(A!C12<A!K$4,A!K$2+A!K$3*(3*A!C12/(2*A!K$4)-0.5*(A!C12/A!K$4)^3),A!K$3+A!K$2),\"\")","v":""},{"$f":"IF(ISNUMBER(A!$C12),(B12-A!$D12)^2,\"\")","v":""},{"$f":"IF(ISNUMBER(A!$C12),(C12-A!$D12)^2,\"\")","v":""},{"$f":"IF(ISNUMBER(A!$C12),(D12-A!$D12)^2,\"\")","v":""},{"$f":"IF(ISNUMBER(A!$C12),(E12-A!$D12)^2,\"\")","v":""},{"$f":"IF(ISNUMBER(A!$C12),(F12-A!$D12)^2,\"\")","v":""}]
[9,{"$f":"IF(ISNUMBER(A!C13),A!G$2+A!G$3*A!C13+A!G$4*A!C13^2,\"\")","v":""},{"$f":"IF(ISNUMBER(A!C13),IF(A!C13<(A!H$3/(-2*A!H$4)),A!H$2+A!H$3*A!C13+A!H$4*A!C13^2,A!H$2+A!H$3*(A!H$3/(-2*A!H$4))+A!H$4*(A!H$3/(-2*A!H$4))^2),\"\")","v":""},{"$f":"IF(ISNUMBER(A!C13),A!I$2+A!I$3*EXP(A!I$4*A!C13),\"\")","v":""},{"$f":"IF(ISNUMBER(A!C13),IF((A!J$2+A!J$3*A!C13)<A!J$4,A!J$2+A!J$3*A!C13,A!J$4),\"\")","v":""},{"$f":"IF(ISNUMBER(A!C13),IF(A!C13<A!K$4,A!K$2+A!K$3*(3*A!C13/(2*A!K$4)-0.5*(A!C13/A!K$4)^3),A!K$3+A!K$2),\"\")","v":""},{"$f":"IF(ISNUMBER(A!$C13),(B13-A!$D13)^2,\"\")","v":""},{"$f":"IF(ISNUMBER(A!$C13),(C13-A!$D13)^2,\"\")","v":""},{"$f":"IF(ISNUMBER(A!$C13),(D13-A!$D13)^2,\"\")","v":""},{"$f":"IF(ISNUMBER(A!$C13),(E13-A!$D13)^2,\"\")","v":""},{"$f":"IF(ISNUMBER(A!$C13),(F13-A!$D13)^2,\"\")","v":""},null,null,"Datos para los gráficos"]
[10,{"$f":"IF(ISNUMBER(A!C14),A!G$2+A!G$3*A!C14+A!G$4*A!C14^2,\"\")","v":""},{"$f":"IF(ISNUMBER(A!C14),IF(A!C14<(A!H$3/(-2*A!H$4)),A!H$2+A!H$3*A!C14+A!H$4*A!C14^2,A!H$2+A!H$3*(A!H$3/(-2*A!H$4))+A!H$4*(A!H$3/(-2*A!H$4))^2),\"\")","v":""},{"$f":"IF(ISNUMBER(A!C14),A!I$2+A!I$3*EXP(A!I$4*A!C14),\"\")","v":""},{"$f":"IF(ISNUMBER(A!C14),IF((A!J$2+A!J$3*A!C14)<A!J$4,A!J$2+A!J$3*A!C14,A!J$4),\"\")","v":""},{"$f":"IF(ISNUMBER(A!C14),IF(A!C14<A!K$4,A!K$2+A!K$3*(3*A!C14/(2*A!K$4)-0.5*(A!C14/A!K$4)^3),A!K$3+A!K$2),\"\")","v":""},{"$f":"IF(ISNUMBER(A!$C14),(B14-A!$D14)^2,\"\")","v":""},{"$f":"IF(ISNUMBER(A!$C14),(C14-A!$D14)^2,\"\")","v":""},{"$f":"IF(ISNUMBER(A!$C14),(D14-A!$D14)^2,\"\")","v":""},{"$f":"IF(ISNUMBER(A!$C14),(E14-A!$D14)^2,\"\")","v":""},{"$f":"IF(ISNUMBER(A!$C14),(F14-A!$D14)^2,\"\")","v":""},null,null,"Dosis óptima económica",null,null,null,null,"Rendimiento a la dosis óptima económica",null,null,null,null,"Media","Media"]
[11,{"$f":"IF(ISNUMBER(A!C15),A!G$2+A!G$3*A!C15+A!G$4*A!C15^2,\"\")","v":""},{"$f":"IF(ISNUMBER(A!C15),IF(A!C15<(A!H$3/(-2*A!H$4)),A!H$2+A!H$3*A!C15+A!H$4*A!C15^2,A!H$2+A!H$3*(A!H$3/(-2*A!H$4))+A!H$4*(A!H$3/(-2*A!H$4))^2),\"\")","v":""},{"$f":"IF(ISNUMBER(A!C15),A!I$2+A!I$3*EXP(A!I$4*A!C15),\"\")","v":""},{"$f":"IF(ISNUMBER(A!C15),IF((A!J$2+A!J$3*A!C15)<A!J$4,A!J$2+A!J$3*A!C15,A!J$4),\"\")","v":""},{"$f":"IF(ISNUMBER(A!C15),IF(A!C15<A!K$4,A!K$2+A!K$3*(3*A!C15/(2*A!K$4)-0.5*(A!C15/A!K$4)^3),A!K$3+A!K$2),\"\")","v":""},{"$f":"IF(ISNUMBER(A!$C15),(B15-A!$D15)^2,\"\")","v":""},{"$f":"IF(ISNUMBER(A!$C15),(C15-A!$D15)^2,\"\")","v":""},{"$f":"IF(ISNUMBER(A!$C15),(D15-A!$D15)^2,\"\")","v":""},{"$f":"IF(ISNUMBER(A!$C15),(E15-A!$D15)^2,\"\")","v":""},{"$f":"IF(ISNUMBER(A!$C15),(F15-A!$D15)^2,\"\")","v":""},null,null,"Q","QP","M","LP","S ","Q","QP","M","LP","S ","MERN","Y@mern"]
[12,{"$f":"IF(ISNUMBER(A!C16),A!G$2+A!G$3*A!C16+A!G$4*A!C16^2,\"\")","v":""},{"$f":"IF(ISNUMBER(A!C16),IF(A!C16<(A!H$3/(-2*A!H$4)),A!H$2+A!H$3*A!C16+A!H$4*A!C16^2,A!H$2+A!H$3*(A!H$3/(-2*A!H$4))+A!H$4*(A!H$3/(-2*A!H$4))^2),\"\")","v":""},{"$f":"IF(ISNUMBER(A!C16),A!I$2+A!I$3*EXP(A!I$4*A!C16),\"\")","v":""},{"$f":"IF(ISNUMBER(A!C16),IF((A!J$2+A!J$3*A!C16)<A!J$4,A!J$2+A!J$3*A!C16,A!J$4),\"\")","v":""},{"$f":"IF(ISNUMBER(A!C16),IF(A!C16<A!K$4,A!K$2+A!K$3*(3*A!C16/(2*A!K$4)-0.5*(A!C16/A!K$4)^3),A!K$3+A!K$2),\"\")","v":""},{"$f":"IF(ISNUMBER(A!$C16),(B16-A!$D16)^2,\"\")","v":""},{"$f":"IF(ISNUMBER(A!$C16),(C16-A!$D16)^2,\"\")","v":""},{"$f":"IF(ISNUMBER(A!$C16),(D16-A!$D16)^2,\"\")","v":""},{"$f":"IF(ISNUMBER(A!$C16),(E16-A!$D16)^2,\"\")","v":""},{"$f":"IF(ISNUMBER(A!$C16),(F16-A!$D16)^2,\"\")","v":""},null,null,{"$f":"A!G6","v":37.797619767070145},{"$f":"A!H6","v":37.12063428881109},{"$f":"A!I6","v":28.723094917674839},{"$f":"A!J6","v":43.956692332747352},{"$f":"A!K6","v":41.737694340651188},0,0,0,0,0,{"$f":"A!$F$6","v":37.853494780449218},0]
[13,{"$f":"IF(ISNUMBER(A!C17),A!G$2+A!G$3*A!C17+A!G$4*A!C17^2,\"\")","v":""},{"$f":"IF(ISNUMBER(A!C17),IF(A!C17<(A!H$3/(-2*A!H$4)),A!H$2+A!H$3*A!C17+A!H$4*A!C17^2,A!H$2+A!H$3*(A!H$3/(-2*A!H$4))+A!H$4*(A!H$3/(-2*A!H$4))^2),\"\")","v":""},{"$f":"IF(ISNUMBER(A!C17),A!I$2+A!I$3*EXP(A!I$4*A!C17),\"\")","v":""},{"$f":"IF(ISNUMBER(A!C17),IF((A!J$2+A!J$3*A!C17)<A!J$4,A!J$2+A!J$3*A!C17,A!J$4),\"\")","v":""},{"$f":"IF(ISNUMBER(A!C17),IF(A!C17<A!K$4,A!K$2+A!K$3*(3*A!C17/(2*A!K$4)-0.5*(A!C17/A!K$4)^3),A!K$3+A!K$2),\"\")","v":""},{"$f":"IF(ISNUMBER(A!$C17),(B17-A!$D17)^2,\"\")","v":""},{"$f":"IF(ISNUMBER(A!$C17),(C17-A!$D17)^2,\"\")","v":""},{"$f":"IF(ISNUMBER(A!$C17),(D17-A!$D17)^2,\"\")","v":""},{"$f":"IF(ISNUMBER(A!$C17),(E17-A!$D17)^2,\"\")","v":""},{"$f":"IF(ISNUMBER(A!$C17),(F17-A!$D17)^2,\"\")","v":""},null,null,{"$f":"N16","v":37.797619767070145},{"$f":"A!H6","v":37.12063428881109},{"$f":"A!I6","v":28.723094917674839},{"$f":"A!J6","v":43.956692332747352},{"$f":"A!K6","v":41.737694340651188},{"$f":"A!G7","v":2870.9567218326897},{"$f":"A!H7","v":2884.3322981818551},{"$f":"A!I7","v":2838.5417560279957},{"$f":"A!J7","v":3038.9994704232167},{"$f":"A!K7","v":2937.4568071497019},{"$f":"X16","v":37.853494780449218},{"$f":"A!$F$7","v":2887.2732304997776}]
[14,{"$f":"IF(ISNUMBER(A!C18),A!G$2+A!G$3*A!C18+A!G$4*A!C18^2,\"\")","v":""},{"$f":"IF(ISNUMBER(A!C18),IF(A!C18<(A!H$3/(-2*A!H$4)),A!H$2+A!H$3*A!C18+A!H$4*A!C18^2,A!H$2+A!H$3*(A!H$3/(-2*A!H$4))+A!H$4*(A!H$3/(-2*A!H$4))^2),\"\")","v":""},{"$f":"IF(ISNUMBER(A!C18),A!I$2+A!I$3*EXP(A!I$4*A!C18),\"\")","v":""},{"$f":"IF(ISNUMBER(A!C18),IF((A!J$2+A!J$3*A!C18)<A!J$4,A!J$2+A!J$3*A!C18,A!J$4),\"\")","v":""},{"$f":"IF(ISNUMBER(A!C18),IF(A!C18<A!K$4,A!K$2+A!K$3*(3*A!C18/(2*A!K$4)-0.5*(A!C18/A!K$4)^3),A!K$3+A!K$2),\"\")","v":""},{"$f":"IF(ISNUMBER(A!$C18),(B18-A!$D18)^2,\"\")","v":""},{"$f":"IF(ISNUMBER(A!$C18),(C18-A!$D18)^2,\"\")","v":""},{"$f":"IF(ISNUMBER(A!$C18),(D18-A!$D18)^2,\"\")","v":""},{"$f":"IF(ISNUMBER(A!$C18),(E18-A!$D18)^2,\"\")","v":""},{"$f":"IF(ISNUMBER(A!$C18),(F18-A!$D18)^2,\"\")","v":""}]
[15,{"$f":"IF(ISNUMBER(A!C19),A!G$2+A!G$3*A!C19+A!G$4*A!C19^2,\"\")","v":""},{"$f":"IF(ISNUMBER(A!C19),IF(A!C19<(A!H$3/(-2*A!H$4)),A!H$2+A!H$3*A!C19+A!H$4*A!C19^2,A!H$2+A!H$3*(A!H$3/(-2*A!H$4))+A!H$4*(A!H$3/(-2*A!H$4))^2),\"\")","v":""},{"$f":"IF(ISNUMBER(A!C19),A!I$2+A!I$3*EXP(A!I$4*A!C19),\"\")","v":""},{"$f":"IF(ISNUMBER(A!C19),IF((A!J$2+A!J$3*A!C19)<A!J$4,A!J$2+A!J$3*A!C19,A!J$4),\"\")","v":""},{"$f":"IF(ISNUMBER(A!C19),IF(A!C19<A!K$4,A!K$2+A!K$3*(3*A!C19/(2*A!K$4)-0.5*(A!C19/A!K$4)^3),A!K$3+A!K$2),\"\")","v":""},{"$f":"IF(ISNUMBER(A!$C19),(B19-A!$D19)^2,\"\")","v":""},{"$f":"IF(ISNUMBER(A!$C19),(C19-A!$D19)^2,\"\")","v":""},{"$f":"IF(ISNUMBER(A!$C19),(D19-A!$D19)^2,\"\")","v":""},{"$f":"IF(ISNUMBER(A!$C19),(E19-A!$D19)^2,\"\")","v":""},{"$f":"IF(ISNUMBER(A!$C19),(F19-A!$D19)^2,\"\")","v":""}]
[16,{"$f":"IF(ISNUMBER(A!C20),A!G$2+A!G$3*A!C20+A!G$4*A!C20^2,\"\")","v":""},{"$f":"IF(ISNUMBER(A!C20),IF(A!C20<(A!H$3/(-2*A!H$4)),A!H$2+A!H$3*A!C20+A!H$4*A!C20^2,A!H$2+A!H$3*(A!H$3/(-2*A!H$4))+A!H$4*(A!H$3/(-2*A!H$4))^2),\"\")","v":""},{"$f":"IF(ISNUMBER(A!C20),A!I$2+A!I$3*EXP(A!I$4*A!C20),\"\")","v":""},{"$f":"IF(ISNUMBER(A!C20),IF((A!J$2+A!J$3*A!C20)<A!J$4,A!J$2+A!J$3*A!C20,A!J$4),\"\")","v":""},{"$f":"IF(ISNUMBER(A!C20),IF(A!C20<A!K$4,A!K$2+A!K$3*(3*A!C20/(2*A!K$4)-0.5*(A!C20/A!K$4)^3),A!K$3+A!K$2),\"\")","v":""},{"$f":"IF(ISNUMBER(A!$C20),(B20-A!$D20)^2,\"\")","v":""},{"$f":"IF(ISNUMBER(A!$C20),(C20-A!$D20)^2,\"\")","v":""},{"$f":"IF(ISNUMBER(A!$C20),(D20-A!$D20)^2,\"\")","v":""},{"$f":"IF(ISNUMBER(A!$C20),(E20-A!$D20)^2,\"\")","v":""},{"$f":"IF(ISNUMBER(A!$C20),(F20-A!$D20)^2,\"\")","v":""},null,null,"Contenido de nutriente (kg N/kg grano):",{"$f":"A!B30","v":0.02},"Estas dos celdas, que provienen de la hoja A, imponen restricciones sobre la pendiente inicial "]
[17,{"$f":"IF(ISNUMBER(A!C21),A!G$2+A!G$3*A!C21+A!G$4*A!C21^2,\"\")","v":""},{"$f":"IF(ISNUMBER(A!C21),IF(A!C21<(A!H$3/(-2*A!H$4)),A!H$2+A!H$3*A!C21+A!H$4*A!C21^2,A!H$2+A!H$3*(A!H$3/(-2*A!H$4))+A!H$4*(A!H$3/(-2*A!H$4))^2),\"\")","v":""},{"$f":"IF(ISNUMBER(A!C21),A!I$2+A!I$3*EXP(A!I$4*A!C21),\"\")","v":""},{"$f":"IF(ISNUMBER(A!C21),IF((A!J$2+A!J$3*A!C21)<A!J$4,A!J$2+A!J$3*A!C21,A!J$4),\"\")","v":""},{"$f":"IF(ISNUMBER(A!C21),IF(A!C21<A!K$4,A!K$2+A!K$3*(3*A!C21/(2*A!K$4)-0.5*(A!C21/A!K$4)^3),A!K$3+A!K$2),\"\")","v":""},{"$f":"IF(ISNUMBER(A!$C21),(B21-A!$D21)^2,\"\")","v":""},{"$f":"IF(ISNUMBER(A!$C21),(C21-A!$D21)^2,\"\")","v":""},{"$f":"IF(ISNUMBER(A!$C21),(D21-A!$D21)^2,\"\")","v":""},{"$f":"IF(ISNUMBER(A!$C21),(E21-A!$D21)^2,\"\")","v":""},{"$f":"IF(ISNUMBER(A!$C21),(F21-A!$D21)^2,\"\")","v":""},null,null,"NHI:",{"$f":"A!B31","v":0.67},"Asumiendo que la máxima eficiencia es 100% + tolerancia del ajuste"]
[18,{"$f":"IF(ISNUMBER(A!C22),A!G$2+A!G$3*A!C22+A!G$4*A!C22^2,\"\")","v":""},{"$f":"IF(ISNUMBER(A!C22),IF(A!C22<(A!H$3/(-2*A!H$4)),A!H$2+A!H$3*A!C22+A!H$4*A!C22^2,A!H$2+A!H$3*(A!H$3/(-2*A!H$4))+A!H$4*(A!H$3/(-2*A!H$4))^2),\"\")","v":""},{"$f":"IF(ISNUMBER(A!C22),A!I$2+A!I$3*EXP(A!I$4*A!C22),\"\")","v":""},{"$f":"IF(ISNUMBER(A!C22),IF((A!J$2+A!J$3*A!C22)<A!J$4,A!J$2+A!J$3*A!C22,A!J$4),\"\")","v":""},{"$f":"IF(ISNUMBER(A!C22),IF(A!C22<A!K$4,A!K$2+A!K$3*(3*A!C22/(2*A!K$4)-0.5*(A!C22/A!K$4)^3),A!K$3+A!K$2),\"\")","v":""},{"$f":"IF(ISNUMBER(A!$C22),(B22-A!$D22)^2,\"\")","v":""},{"$f":"IF(ISNUMBER(A!$C22),(C22-A!$D22)^2,\"\")","v":""},{"$f":"IF(ISNUMBER(A!$C22),(D22-A!$D22)^2,\"\")","v":""},{"$f":"IF(ISNUMBER(A!$C22),(E22-A!$D22)^2,\"\")","v":""},{"$f":"IF(ISNUMBER(A!$C22),(F22-A!$D22)^2,\"\")","v":""}]
[19,{"$f":"IF(ISNUMBER(A!C23),A!G$2+A!G$3*A!C23+A!G$4*A!C23^2,\"\")","v":""},{"$f":"IF(ISNUMBER(A!C23),IF(A!C23<(A!H$3/(-2*A!H$4)),A!H$2+A!H$3*A!C23+A!H$4*A!C23^2,A!H$2+A!H$3*(A!H$3/(-2*A!H$4))+A!H$4*(A!H$3/(-2*A!H$4))^2),\"\")","v":""},{"$f":"IF(ISNUMBER(A!C23),A!I$2+A!I$3*EXP(A!I$4*A!C23),\"\")","v":""},{"$f":"IF(ISNUMBER(A!C23),IF((A!J$2+A!J$3*A!C23)<A!J$4,A!J$2+A!J$3*A!C23,A!J$4),\"\")","v":""},{"$f":"IF(ISNUMBER(A!C23),IF(A!C23<A!K$4,A!K$2+A!K$3*(3*A!C23/(2*A!K$4)-0.5*(A!C23/A!K$4)^3),A!K$3+A!K$2),\"\")","v":""},{"$f":"IF(ISNUMBER(A!$C23),(B23-A!$D23)^2,\"\")","v":""},{"$f":"IF(ISNUMBER(A!$C23),(C23-A!$D23)^2,\"\")","v":""},{"$f":"IF(ISNUMBER(A!$C23),(D23-A!$D23)^2,\"\")","v":""},{"$f":"IF(ISNUMBER(A!$C23),(E23-A!$D23)^2,\"\")","v":""},{"$f":"IF(ISNUMBER(A!$C23),(F23-A!$D23)^2,\"\")","v":""}]
[20,{"$f":"IF(ISNUMBER(A!C24),A!G$2+A!G$3*A!C24+A!G$4*A!C24^2,\"\")","v":""},{"$f":"IF(ISNUMBER(A!C24),IF(A!C24<(A!H$3/(-2*A!H$4)),A!H$2+A!H$3*A!C24+A!H$4*A!C24^2,A!H$2+A!H$3*(A!H$3/(-2*A!H$4))+A!H$4*(A!H$3/(-2*A!H$4))^2),\"\")","v":""},{"$f":"IF(ISNUMBER(A!C24),A!I$2+A!I$3*EXP(A!I$4*A!C24),\"\")","v":""},{"$f":"IF(ISNUMBER(A!C24),IF((A!J$2+A!J$3*A!C24)<A!J$4,A!J$2+A!J$3*A!C24,A!J$4),\"\")","v":""},{"$f":"IF(ISNUMBER(A!C24),IF(A!C24<A!K$4,A!K$2+A!K$3*(3*A!C24/(2*A!K$4)-0.5*(A!C24/A!K$4)^3),A!K$3+A!K$2),\"\")","v":""},{"$f":"IF(ISNUMBER(A!$C24),(B24-A!$D24)^2,\"\")","v":""},{"$f":"IF(ISNUMBER(A!$C24),(C24-A!$D24)^2,\"\")","v":""},{"$f":"IF(ISNUMBER(A!$C24),(D24-A!$D24)^2,\"\")","v":""},{"$f":"IF(ISNUMBER(A!$C24),(E24-A!$D24)^2,\"\")","v":""},{"$f":"IF(ISNUMBER(A!$C24),(F24-A!$D24)^2,\"\")","v":""}]
[21,{"$f":"IF(ISNUMBER(A!C25),A!G$2+A!G$3*A!C25+A!G$4*A!C25^2,\"\")","v":""},{"$f":"IF(ISNUMBER(A!C25),IF(A!C25<(A!H$3/(-2*A!H$4)),A!H$2+A!H$3*A!C25+A!H$4*A!C25^2,A!H$2+A!H$3*(A!H$3/(-2*A!H$4))+A!H$4*(A!H$3/(-2*A!H$4))^2),\"\")","v":""},{"$f":"IF(ISNUMBER(A!C25),A!I$2+A!I$3*EXP(A!I$4*A!C25),\"\")","v":""},{"$f":"IF(ISNUMBER(A!C25),IF((A!J$2+A!J$3*A!C25)<A!J$4,A!J$2+A!J$3*A!C25,A!J$4),\"\")","v":""},{"$f":"IF(ISNUMBER(A!C25),IF(A!C25<A!K$4,A!K$2+A!K$3*(3*A!C25/(2*A!K$4)-0.5*(A!C25/A!K$4)^3),A!K$3+A!K$2),\"\")","v":""},{"$f":"IF(ISNUMBER(A!$C25),(B25-A!$D25)^2,\"\")","v":""},{"$f":"IF(ISNUMBER(A!$C25),(C25-A!$D25)^2,\"\")","v":""},{"$f":"IF(ISNUMBER(A!$C25),(D25-A!$D25)^2,\"\")","v":""},{"$f":"IF(ISNUMBER(A!$C25),(E25-A!$D25)^2,\"\")","v":""},{"$f":"IF(ISNUMBER(A!$C25),(F25-A!$D25)^2,\"\")","v":""},null,null,"Inicialización"]
[22,{"$f":"IF(ISNUMBER(A!C26),A!G$2+A!G$3*A!C26+A!G$4*A!C26^2,\"\")","v":""},{"$f":"IF(ISNUMBER(A!C26),IF(A!C26<(A!H$3/(-2*A!H$4)),A!H$2+A!H$3*A!C26+A!H$4*A!C26^2,A!H$2+A!H$3*(A!H$3/(-2*A!H$4))+A!H$4*(A!H$3/(-2*A!H$4))^2),\"\")","v":""},{"$f":"IF(ISNUMBER(A!C26),A!I$2+A!I$3*EXP(A!I$4*A!C26),\"\")","v":""},{"$f":"IF(ISNUMBER(A!C26),IF((A!J$2+A!J$3*A!C26)<A!J$4,A!J$2+A!J$3*A!C26,A!J$4),\"\")","v":""},{"$f":"IF(ISNUMBER(A!C26),IF(A!C26<A!K$4,A!K$2+A!K$3*(3*A!C26/(2*A!K$4)-0.5*(A!C26/A!K$4)^3),A!K$3+A!K$2),\"\")","v":""},{"$f":"IF(ISNUMBER(A!$C26),(B26-A!$D26)^2,\"\")","v":""},{"$f":"IF(ISNUMBER(A!$C26),(C26-A!$D26)^2,\"\")","v":""},{"$f":"IF(ISNUMBER(A!$C26),(D26-A!$D26)^2,\"\")","v":""},{"$f":"IF(ISNUMBER(A!$C26),(E26-A!$D26)^2,\"\")","v":""},{"$f":"IF(ISNUMBER(A!$C26),(F26-A!$D26)^2,\"\")","v":""},null,null,"Media"]
[23,{"$f":"IF(ISNUMBER(A!C27),A!G$2+A!G$3*A!C27+A!G$4*A!C27^2,\"\")","v":""},{"$f":"IF(ISNUMBER(A!C27),IF(A!C27<(A!H$3/(-2*A!H$4)),A!H$2+A!H$3*A!C27+A!H$4*A!C27^2,A!H$2+A!H$3*(A!H$3/(-2*A!H$4))+A!H$4*(A!H$3/(-2*A!H$4))^2),\"\")","v":""},{"$f":"IF(ISNUMBER(A!C27),A!I$2+A!I$3*EXP(A!I$4*A!C27),\"\")","v":""},{"$f":"IF(ISNUMBER(A!C27),IF((A!J$2+A!J$3*A!C27)<A!J$4,A!J$2+A!J$3*A!C27,A!J$4),\"\")","v":""},{"$f":"IF(ISNUMBER(A!C27),IF(A!C27<A!K$4,A!K$2+A!K$3*(3*A!C27/(2*A!K$4)-0.5*(A!C27/A!K$4)^3),A!K$3+A!K$2),\"\")","v":""},{"$f":"IF(ISNUMBER(A!$C27),(B27-A!$D27)^2,\"\")","v":""},{"$f":"IF(ISNUMBER(A!$C27),(C27-A!$D27)^2,\"\")","v":""},{"$f":"IF(ISNUMBER(A!$C27),(D27-A!$D27)^2,\"\")","v":""},{"$f":"IF(ISNUMBER(A!$C27),(E27-A!$D27)^2,\"\")","v":""},{"$f":"IF(ISNUMBER(A!$C27),(F27-A!$D27)^2,\"\")","v":""},null,null,"Q","QP","M","LP","S "]
[24,{"$f":"IF(ISNUMBER(A!C28),A!G$2+A!G$3*A!C28+A!G$4*A!C28^2,\"\")","v":""},{"$f":"IF(ISNUMBER(A!C28),IF(A!C28<(A!H$3/(-2*A!H$4)),A!H$2+A!H$3*A!C28+A!H$4*A!C28^2,A!H$2+A!H$3*(A!H$3/(-2*A!H$4))+A!H$4*(A!H$3/(-2*A!H$4))^2),\"\")","v":""},{"$f":"IF(ISNUMBER(A!C28),A!I$2+A!I$3*EXP(A!I$4*A!C28),\"\")","v":""},{"$f":"IF(ISNUMBER(A!C28),IF((A!J$2+A!J$3*A!C28)<A!J$4,A!J$2+A!J$3*A!C28,A!J$4),\"\")","v":""},{"$f":"IF(ISNUMBER(A!C28),IF(A!C28<A!K$4,A!K$2+A!K$3*(3*A!C28/(2*A!K$4)-0.5*(A!C28/A!K$4)^3),A!K$3+A!K$2),\"\")","v":""},{"$f":"IF(ISNUMBER(A!$C28),(B28-A!$D28)^2,\"\")","v":""},{"$f":"IF(ISNUMBER(A!$C28),(C28-A!$D28)^2,\"\")","v":""},{"$f":"IF(ISNUMBER(A!$C28),(D28-A!$D28)^2,\"\")","v":""},{"$f":"IF(ISNUMBER(A!$C28),(E28-A!$D28)^2,\"\")","v":""},{"$f":"IF(ISNUMBER(A!$C28),(F28-A!$D28)^2,\"\")","v":""},null,"A",{"$f":"AVERAGE(N8,S8)","v":2428},{"$f":"N28","v":2428},{"$f":"AVERAGE(P8,U8)","v":3089},2428,2428]
[25,{"$f":"IF(ISNUMBER(A!C29),A!G$2+A!G$3*A!C29+A!G$4*A!C29^2,\"\")","v":""},{"$f":"IF(ISNUMBER(A!C29),IF(A!C29<(A!H$3/(-2*A!H$4)),A!H$2+A!H$3*A!C29+A!H$4*A!C29^2,A!H$2+A!H$3*(A!H$3/(-2*A!H$4))+A!H$4*(A!H$3/(-2*A!H$4))^2),\"\")","v":""},{"$f":"IF(ISNUMBER(A!C29),A!I$2+A!I$3*EXP(A!I$4*A!C29),\"\")","v":""},{"$f":"IF(ISNUMBER(A!C29),IF((A!J$2+A!J$3*A!C29)<A!J$4,A!J$2+A!J$3*A!C29,A!J$4),\"\")","v":""},{"$f":"IF(ISNUMBER(A!C29),IF(A!C29<A!K$4,A!K$2+A!K$3*(3*A!C29/(2*A!K$4)-0.5*(A!C29/A!K$4)^3),A!K$3+A!K$2),\"\")","v":""},{"$f":"IF(ISNUMBER(A!$C29),(B29-A!$D29)^2,\"\")","v":""},{"$f":"IF(ISNUMBER(A!$C29),(C29-A!$D29)^2,\"\")","v":""},{"$f":"IF(ISNUMBER(A!$C29),(D29-A!$D29)^2,\"\")","v":""},{"$f":"IF(ISNUMBER(A!$C29),(E29-A!$D29)^2,\"\")","v":""},{"$f":"IF(ISNUMBER(A!$C29),(F29-A!$D29)^2,\"\")","v":""},null,"B",{"$f":"AVERAGE(N9,S9)","v":31.824999999999996},{"$f":"N29","v":31.824999999999996},-694.70000005000009,24.287500000000001,694.70000005000009]
[26,{"$f":"IF(ISNUMBER(A!C30),A!G$2+A!G$3*A!C30+A!G$4*A!C30^2,\"\")","v":""},{"$f":"IF(ISNUMBER(A!C30),IF(A!C30<(A!H$3/(-2*A!H$4)),A!H$2+A!H$3*A!C30+A!H$4*A!C30^2,A!H$2+A!H$3*(A!H$3/(-2*A!H$4))+A!H$4*(A!H$3/(-2*A!H$4))^2),\"\")","v":""},{"$f":"IF(ISNUMBER(A!C30),A!I$2+A!I$3*EXP(A!I$4*A!C30),\"\")","v":""},{"$f":"IF(ISNUMBER(A!C30),IF((A!J$2+A!J$3*A!C30)<A!J$4,A!J$2+A!J$3*A!C30,A!J$4),\"\")","v":""},{"$f":"IF(ISNUMBER(A!C30),IF(A!C30<A!K$4,A!K$2+A!K$3*(3*A!C30/(2*A!K$4)-0.5*(A!C30/A!K$4)^3),A!K$3+A!K$2),\"\")","v":""},{"$f":"IF(ISNUMBER(A!$C30),(B30-A!$D30)^2,\"\")","v":""},{"$f":"IF(ISNUMBER(A!$C30),(C30-A!$D30)^2,\"\")","v":""},{"$f":"IF(ISNUMBER(A!$C30),(D30-A!$D30)^2,\"\")","v":""},{"$f":"IF(ISNUMBER(A!$C30),(E30-A!$D30)^2,\"\")","v":""},{"$f":"IF(ISNUMBER(A!$C30),(F30-A!$D30)^2,\"\")","v":""},null,"C",{"$f":"AVERAGE(N10,S10)","v":-0.50000005000000003},{"$f":"N30","v":-0.50000005000000003},{"$f":"AVERAGE(P10,U10)","v":-3.1344515234536886E-2},{"$f":"AVERAGE(Q10,V10)","v":2857.3249999999998},{"$f":"M44","v":120}]
[27,{"$f":"IF(ISNUMBER(A!C31),A!G$2+A!G$3*A!C31+A!G$4*A!C31^2,\"\")","v":""},{"$f":"IF(ISNUMBER(A!C31),IF(A!C31<(A!H$3/(-2*A!H$4)),A!H$2+A!H$3*A!C31+A!H$4*A!C31^2,A!H$2+A!H$3*(A!H$3/(-2*A!H$4))+A!H$4*(A!H$3/(-2*A!H$4))^2),\"\")","v":""},{"$f":"IF(ISNUMBER(A!C31),A!I$2+A!I$3*EXP(A!I$4*A!C31),\"\")","v":""},{"$f":"IF(ISNUMBER(A!C31),IF((A!J$2+A!J$3*A!C31)<A!J$4,A!J$2+A!J$3*A!C31,A!J$4),\"\")","v":""},{"$f":"IF(ISNUMBER(A!C31),IF(A!C31<A!K$4,A!K$2+A!K$3*(3*A!C31/(2*A!K$4)-0.5*(A!C31/A!K$4)^3),A!K$3+A!K$2),\"\")","v":""},{"$f":"IF(ISNUMBER(A!$C31),(B31-A!$D31)^2,\"\")","v":""},{"$f":"IF(ISNUMBER(A!$C31),(C31-A!$D31)^2,\"\")","v":""},{"$f":"IF(ISNUMBER(A!$C31),(D31-A!$D31)^2,\"\")","v":""},{"$f":"IF(ISNUMBER(A!$C31),(E31-A!$D31)^2,\"\")","v":""},{"$f":"IF(ISNUMBER(A!$C31),(F31-A!$D31)^2,\"\")","v":""}]
[28,{"$f":"IF(ISNUMBER(A!C32),A!G$2+A!G$3*A!C32+A!G$4*A!C32^2,\"\")","v":""},{"$f":"IF(ISNUMBER(A!C32),IF(A!C32<(A!H$3/(-2*A!H$4)),A!H$2+A!H$3*A!C32+A!H$4*A!C32^2,A!H$2+A!H$3*(A!H$3/(-2*A!H$4))+A!H$4*(A!H$3/(-2*A!H$4))^2),\"\")","v":""},{"$f":"IF(ISNUMBER(A!C32),A!I$2+A!I$3*EXP(A!I$4*A!C32),\"\")","v":""},{"$f":"IF(ISNUMBER(A!C32),IF((A!J$2+A!J$3*A!C32)<A!J$4,A!J$2+A!J$3*A!C32,A!J$4),\"\")","v":""},{"$f":"IF(ISNUMBER(A!C32),IF(A!C32<A!K$4,A!K$2+A!K$3*(3*A!C32/(2*A!K$4)-0.5*(A!C32/A!K$4)^3),A!K$3+A!K$2),\"\")","v":""},{"$f":"IF(ISNUMBER(A!$C32),(B32-A!$D32)^2,\"\")","v":""},{"$f":"IF(ISNUMBER(A!$C32),(C32-A!$D32)^2,\"\")","v":""},{"$f":"IF(ISNUMBER(A!$C32),(D32-A!$D32)^2,\"\")","v":""},{"$f":"IF(ISNUMBER(A!$C32),(E32-A!$D32)^2,\"\")","v":""},{"$f":"IF(ISNUMBER(A!$C32),(F32-A!$D32)^2,\"\")","v":""}]
[29,{"$f":"IF(ISNUMBER(A!C33),A!G$2+A!G$3*A!C33+A!G$4*A!C33^2,\"\")","v":""},{"$f":"IF(ISNUMBER(A!C33),IF(A!C33<(A!H$3/(-2*A!H$4)),A!H$2+A!H$3*A!C33+A!H$4*A!C33^2,A!H$2+A!H$3*(A!H$3/(-2*A!H$4))+A!H$4*(A!H$3/(-2*A!H$4))^2),\"\")","v":""},{"$f":"IF(ISNUMBER(A!C33),A!I$2+A!I$3*EXP(A!I$4*A!C33),\"\")","v":""},{"$f":"IF(ISNUMBER(A!C33),IF((A!J$2+A!J$3*A!C33)<A!J$4,A!J$2+A!J$3*A!C33,A!J$4),\"\")","v":""},{"$f":"IF(ISNUMBER(A!C33),IF(A!C33<A!K$4,A!K$2+A!K$3*(3*A!C33/(2*A!K$4)-0.5*(A!C33/A!K$4)^3),A!K$3+A!K$2),\"\")","v":""},{"$f":"IF(ISNUMBER(A!$C33),(B33-A!$D33)^2,\"\")","v":""},{"$f":"IF(ISNUMBER(A!$C33),(C33-A!$D33)^2,\"\")","v":""},{"$f":"IF(ISNUMBER(A!$C33),(D33-A!$D33)^2,\"\")","v":""},{"$f":"IF(ISNUMBER(A!$C33),(E33-A!$D33)^2,\"\")","v":""},{"$f":"IF(ISNUMBER(A!$C33),(F33-A!$D33)^2,\"\")","v":""}]
[30,{"$f":"IF(ISNUMBER(A!C34),A!G$2+A!G$3*A!C34+A!G$4*A!C34^2,\"\")","v":""},{"$f":"IF(ISNUMBER(A!C34),IF(A!C34<(A!H$3/(-2*A!H$4)),A!H$2+A!H$3*A!C34+A!H$4*A!C34^2,A!H$2+A!H$3*(A!H$3/(-2*A!H$4))+A!H$4*(A!H$3/(-2*A!H$4))^2),\"\")","v":""},{"$f":"IF(ISNUMBER(A!C34),A!I$2+A!I$3*EXP(A!I$4*A!C34),\"\")","v":""},{"$f":"IF(ISNUMBER(A!C34),IF((A!J$2+A!J$3*A!C34)<A!J$4,A!J$2+A!J$3*A!C34,A!J$4),\"\")","v":""},{"$f":"IF(ISNUMBER(A!C34),IF(A!C34<A!K$4,A!K$2+A!K$3*(3*A!C34/(2*A!K$4)-0.5*(A!C34/A!K$4)^3),A!K$3+A!K$2),\"\")","v":""},{"$f":"IF(ISNUMBER(A!$C34),(B34-A!$D34)^2,\"\")","v":""},{"$f":"IF(ISNUMBER(A!$C34),(C34-A!$D34)^2,\"\")","v":""},{"$f":"IF(ISNUMBER(A!$C34),(D34-A!$D34)^2,\"\")","v":""},{"$f":"IF(ISNUMBER(A!$C34),(E34-A!$D34)^2,\"\")","v":""},{"$f":"IF(ISNUMBER(A!$C34),(F34-A!$D34)^2,\"\")","v":""}]
[31,{"$f":"IF(ISNUMBER(A!C35),A!G$2+A!G$3*A!C35+A!G$4*A!C35^2,\"\")","v":""},{"$f":"IF(ISNUMBER(A!C35),IF(A!C35<(A!H$3/(-2*A!H$4)),A!H$2+A!H$3*A!C35+A!H$4*A!C35^2,A!H$2+A!H$3*(A!H$3/(-2*A!H$4))+A!H$4*(A!H$3/(-2*A!H$4))^2),\"\")","v":""},{"$f":"IF(ISNUMBER(A!C35),A!I$2+A!I$3*EXP(A!I$4*A!C35),\"\")","v":""},{"$f":"IF(ISNUMBER(A!C35),IF((A!J$2+A!J$3*A!C35)<A!J$4,A!J$2+A!J$3*A!C35,A!J$4),\"\")","v":""},{"$f":"IF(ISNUMBER(A!C35),IF(A!C35<A!K$4,A!K$2+A!K$3*(3*A!C35/(2*A!K$4)-0.5*(A!C35/A!K$4)^3),A!K$3+A!K$2),\"\")","v":""},{"$f":"IF(ISNUMBER(A!$C35),(B35-A!$D35)^2,\"\")","v":""},{"$f":"IF(ISNUMBER(A!$C35),(C35-A!$D35)^2,\"\")","v":""},{"$f":"IF(ISNUMBER(A!$C35),(D35-A!$D35)^2,\"\")","v":""},{"$f":"IF(ISNUMBER(A!$C35),(E35-A!$D35)^2,\"\")","v":""},{"$f":"IF(ISNUMBER(A!$C35),(F35-A!$D35)^2,\"\")","v":""}]
[32,{"$f":"IF(ISNUMBER(A!C36),A!G$2+A!G$3*A!C36+A!G$4*A!C36^2,\"\")","v":""},{"$f":"IF(ISNUMBER(A!C36),IF(A!C36<(A!H$3/(-2*A!H$4)),A!H$2+A!H$3*A!C36+A!H$4*A!C36^2,A!H$2+A!H$3*(A!H$3/(-2*A!H$4))+A!H$4*(A!H$3/(-2*A!H$4))^2),\"\")","v":""},{"$f":"IF(ISNUMBER(A!C36),A!I$2+A!I$3*EXP(A!I$4*A!C36),\"\")","v":""},{"$f":"IF(ISNUMBER(A!C36),IF((A!J$2+A!J$3*A!C36)<A!J$4,A!J$2+A!J$3*A!C36,A!J$4),\"\")","v":""},{"$f":"IF(ISNUMBER(A!C36),IF(A!C36<A!K$4,A!K$2+A!K$3*(3*A!C36/(2*A!K$4)-0.5*(A!C36/A!K$4)^3),A!K$3+A!K$2),\"\")","v":""},{"$f":"IF(ISNUMBER(A!$C36),(B36-A!$D36)^2,\"\")","v":""},{"$f":"IF(ISNUMBER(A!$C36),(C36-A!$D36)^2,\"\")","v":""},{"$f":"IF(ISNUMBER(A!$C36),(D36-A!$D36)^2,\"\")","v":""},{"$f":"IF(ISNUMBER(A!$C36),(E36-A!$D36)^2,\"\")","v":""},{"$f":"IF(ISNUMBER(A!$C36),(F36-A!$D36)^2,\"\")","v":""}]
[33,{"$f":"IF(ISNUMBER(A!C37),A!G$2+A!G$3*A!C37+A!G$4*A!C37^2,\"\")","v":""},{"$f":"IF(ISNUMBER(A!C37),IF(A!C37<(A!H$3/(-2*A!H$4)),A!H$2+A!H$3*A!C37+A!H$4*A!C37^2,A!H$2+A!H$3*(A!H$3/(-2*A!H$4))+A!H$4*(A!H$3/(-2*A!H$4))^2),\"\")","v":""},{"$f":"IF(ISNUMBER(A!C37),A!I$2+A!I$3*EXP(A!I$4*A!C37),\"\")","v":""},{"$f":"IF(ISNUMBER(A!C37),IF((A!J$2+A!J$3*A!C37)<A!J$4,A!J$2+A!J$3*A!C37,A!J$4),\"\")","v":""},{"$f":"IF(ISNUMBER(A!C37),IF(A!C37<A!K$4,A!K$2+A!K$3*(3*A!C37/(2*A!K$4)-0.5*(A!C37/A!K$4)^3),A!K$3+A!K$2),\"\")","v":""},{"$f":"IF(ISNUMBER(A!$C37),(B37-A!$D37)^2,\"\")","v":""},{"$f":"IF(ISNUMBER(A!$C37),(C37-A!$D37)^2,\"\")","v":""},{"$f":"IF(ISNUMBER(A!$C37),(D37-A!$D37)^2,\"\")","v":""},{"$f":"IF(ISNUMBER(A!$C37),(E37-A!$D37)^2,\"\")","v":""},{"$f":"IF(ISNUMBER(A!$C37),(F37-A!$D37)^2,\"\")","v":""}]
[34,{"$f":"IF(ISNUMBER(A!C38),A!G$2+A!G$3*A!C38+A!G$4*A!C38^2,\"\")","v":""},{"$f":"IF(ISNUMBER(A!C38),IF(A!C38<(A!H$3/(-2*A!H$4)),A!H$2+A!H$3*A!C38+A!H$4*A!C38^2,A!H$2+A!H$3*(A!H$3/(-2*A!H$4))+A!H$4*(A!H$3/(-2*A!H$4))^2),\"\")","v":""},{"$f":"IF(ISNUMBER(A!C38),A!I$2+A!I$3*EXP(A!I$4*A!C38),\"\")","v":""},{"$f":"IF(ISNUMBER(A!C38),IF((A!J$2+A!J$3*A!C38)<A!J$4,A!J$2+A!J$3*A!C38,A!J$4),\"\")","v":""},{"$f":"IF(ISNUMBER(A!C38),IF(A!C38<A!K$4,A!K$2+A!K$3*(3*A!C38/(2*A!K$4)-0.5*(A!C38/A!K$4)^3),A!K$3+A!K$2),\"\")","v":""},{"$f":"IF(ISNUMBER(A!$C38),(B38-A!$D38)^2,\"\")","v":""},{"$f":"IF(ISNUMBER(A!$C38),(C38-A!$D38)^2,\"\")","v":""},{"$f":"IF(ISNUMBER(A!$C38),(D38-A!$D38)^2,\"\")","v":""},{"$f":"IF(ISNUMBER(A!$C38),(E38-A!$D38)^2,\"\")","v":""},{"$f":"IF(ISNUMBER(A!$C38),(F38-A!$D38)^2,\"\")","v":""}]
[35,{"$f":"IF(ISNUMBER(A!C39),A!G$2+A!G$3*A!C39+A!G$4*A!C39^2,\"\")","v":""},{"$f":"IF(ISNUMBER(A!C39),IF(A!C39<(A!H$3/(-2*A!H$4)),A!H$2+A!H$3*A!C39+A!H$4*A!C39^2,A!H$2+A!H$3*(A!H$3/(-2*A!H$4))+A!H$4*(A!H$3/(-2*A!H$4))^2),\"\")","v":""},{"$f":"IF(ISNUMBER(A!C39),A!I$2+A!I$3*EXP(A!I$4*A!C39),\"\")","v":""},{"$f":"IF(ISNUMBER(A!C39),IF((A!J$2+A!J$3*A!C39)<A!J$4,A!J$2+A!J$3*A!C39,A!J$4),\"\")","v":""},{"$f":"IF(ISNUMBER(A!C39),IF(A!C39<A!K$4,A!K$2+A!K$3*(3*A!C39/(2*A!K$4)-0.5*(A!C39/A!K$4)^3),A!K$3+A!K$2),\"\")","v":""},{"$f":"IF(ISNUMBER(A!$C39),(B39-A!$D39)^2,\"\")","v":""},{"$f":"IF(ISNUMBER(A!$C39),(C39-A!$D39)^2,\"\")","v":""},{"$f":"IF(ISNUMBER(A!$C39),(D39-A!$D39)^2,\"\")","v":""},{"$f":"IF(ISNUMBER(A!$C39),(E39-A!$D39)^2,\"\")","v":""},{"$f":"IF(ISNUMBER(A!$C39),(F39-A!$D39)^2,\"\")","v":""}]
[36,{"$f":"IF(ISNUMBER(A!C40),A!G$2+A!G$3*A!C40+A!G$4*A!C40^2,\"\")","v":""},{"$f":"IF(ISNUMBER(A!C40),IF(A!C40<(A!H$3/(-2*A!H$4)),A!H$2+A!H$3*A!C40+A!H$4*A!C40^2,A!H$2+A!H$3*(A!H$3/(-2*A!H$4))+A!H$4*(A!H$3/(-2*A!H$4))^2),\"\")","v":""},{"$f":"IF(ISNUMBER(A!C40),A!I$2+A!I$3*EXP(A!I$4*A!C40),\"\")","v":""},{"$f":"IF(ISNUMBER(A!C40),IF((A!J$2+A!J$3*A!C40)<A!J$4,A!J$2+A!J$3*A!C40,A!J$4),\"\")","v":""},{"$f":"IF(ISNUMBER(A!C40),IF(A!C40<A!K$4,A!K$2+A!K$3*(3*A!C40/(2*A!K$4)-0.5*(A!C40/A!K$4)^3),A!K$3+A!K$2),\"\")","v":""},{"$f":"IF(ISNUMBER(A!$C40),(B40-A!$D40)^2,\"\")","v":""},{"$f":"IF(ISNUMBER(A!$C40),(C40-A!$D40)^2,\"\")","v":""},{"$f":"IF(ISNUMBER(A!$C40),(D40-A!$D40)^2,\"\")","v":""},{"$f":"IF(ISNUMBER(A!$C40),(E40-A!$D40)^2,\"\")","v":""},{"$f":"IF(ISNUMBER(A!$C40),(F40-A!$D40)^2,\"\")","v":""}]
[]
[]
[null,"Dosis de N","Q","QP","M","LP","SP","Promedio",null,null,null,null,"Dosis máxima para curvas"]
[0,{"$f":"IF(A44<MAX($M$44),A44,MAX($M$44))","v":0},{"$f":"A!G$2+A!G$3*B44+A!G$4*B44^2","v":2445.0852001512581},{"$f":"IF(B44<(A!H$3/(-2*A!H$4)),A!H$2+A!H$3*B44+A!H$4*B44^2,A!H$2+A!H$3*(A!H$3/(-2*A!H$4))+A!H$3*A!H$3/(4*A!H$4))","v":2435.7514861117083},{"$f":"A!I$2+A!I$3*EXP(A!I$4*B44)","v":2426.8818565463512},{"$f":"IF((A!J$2+A!J$3*B44)<A!J$4,A!J$2+A!J$3*B44,A!J$4)","v":2428.0001266456306},{"$f":"IF(B44<A!K$4,A!K$2+A!K$3*(3*B44/(2*A!K$4)-0.5*(B44/A!K$4)^3),A!K$3+A!K$2)","v":2435.4098673580602},{"$f":"(C44*A!$G$5+'C'!D44*A!$H$5+'C'!E44*A!$I$5+'C'!F44*A!$J$5+'C'!G44*A!$K$5)/SUM(A!$G$5:$K$5)","v":2434.2284528775085},null,null,null,null,{"$f":"MAX(A!C5:C40,A!G6:K6)","v":120}]
[2,{"$f":"IF(A45<MAX($M$44),A45,MAX($M$44))","v":2},{"$f":"A!G$2+A!G$3*B45+A!G$4*B45^2","v":2473.176664368591},{"$f":"IF(B45<(A!H$3/(-2*A!H$4)),A!H$2+A!H$3*B45+A!H$4*B45^2,A!H$2+A!H$3*(A!H$3/(-2*A!H$4))+A!H$3*A!H$3/(4*A!H$4))","v":2467.0182395521415},{"$f":"A!I$2+A!I$3*EXP(A!I$4*B45)","v":2470.711188588466},{"$f":"IF((A!J$2+A!J$3*B45)<A!J$4,A!J$2+A!J$3*B45,A!J$4)","v":2455.8001867207786},{"$f":"IF(B45<A!K$4,A!K$2+A!K$3*(3*B45/(2*A!K$4)-0.5*(B45/A!K$4)^3),A!K$3+A!K$2)","v":2463.1539144159256},{"$f":"(C45*A!$G$5+'C'!D45*A!$H$5+'C'!E45*A!$I$5+'C'!F45*A!$J$5+'C'!G45*A!$K$5)/SUM(A!$G$5:$K$5)","v":2465.9873789160129}]
[4,4,{"$f":"A!G$2+A!G$3*B46+A!G$4*B46^2","v":2500.6471755121665},{"$f":"IF(B46<(A!H$3/(-2*A!H$4)),A!H$2+A!H$3*B46+A!H$4*B46^2,A!H$2+A!H$3*(A!H$3/(-2*A!H$4))+A!H$3*A!H$3/(4*A!H$4))","v":2497.4765859941244},{"$f":"A!I$2+A!I$3*EXP(A!I$4*B46)","v":2511.5880559743837},{"$f":"IF((A!J$2+A!J$3*B46)<A!J$4,A!J$2+A!J$3*B46,A!J$4)","v":2483.6002467959265},{"$f":"IF(B46<A!K$4,A!K$2+A!K$3*(3*B46/(2*A!K$4)-0.5*(B46/A!K$4)^3),A!K$3+A!K$2)","v":2490.8470515227832},{"$f":"(C46*A!$G$5+'C'!D46*A!$H$5+'C'!E46*A!$I$5+'C'!F46*A!$J$5+'C'!G46*A!$K$5)/SUM(A!$G$5:$K$5)","v":2496.8572269061365}]
[6,6,{"$f":"A!G$2+A!G$3*B47+A!G$4*B47^2","v":2527.4967335819838},{"$f":"IF(B47<(A!H$3/(-2*A!H$4)),A!H$2+A!H$3*B47+A!H$4*B47^2,A!H$2+A!H$3*(A!H$3/(-2*A!H$4))+A!H$3*A!H$3/(4*A!H$4))","v":2527.1265254376572},{"$f":"A!I$2+A!I$3*EXP(A!I$4*B47)","v":2549.7113448641239},{"$f":"IF((A!J$2+A!J$3*B47)<A!J$4,A!J$2+A!J$3*B47,A!J$4)","v":2511.4003068710745},{"$f":"IF(B47<A!K$4,A!K$2+A!K$3*(3*B47/(2*A!K$4)-0.5*(B47/A!K$4)^3),A!K$3+A!K$2)","v":2518.4383687276259},{"$f":"(C47*A!$G$5+'C'!D47*A!$H$5+'C'!E47*A!$I$5+'C'!F47*A!$J$5+'C'!G47*A!$K$5)/SUM(A!$G$5:$K$5)","v":2526.86776640881},null,null,null,null,0,"suma de rendimientos y dosis ingresados (para detectar nuevo ingreso de datos)"]
[8,8,{"$f":"A!G$2+A!G$3*B48+A!G$4*B48^2","v":2553.7253385780436},{"$f":"IF(B48<(A!H$3/(-2*A!H$4)),A!H$2+A!H$3*B48+A!H$4*B48^2,A!H$2+A!H$3*(A!H$3/(-2*A!H$4))+A!H$3*A!H$3/(4*A!H$4))","v":2555.9680578827401},{"$f":"A!I$2+A!I$3*EXP(A!I$4*B48)","v":2585.2665438975828},{"$f":"IF((A!J$2+A!J$3*B48)<A!J$4,A!J$2+A!J$3*B48,A!J$4)","v":2539.2003669462224},{"$f":"IF(B48<A!K$4,A!K$2+A!K$3*(3*B48/(2*A!K$4)-0.5*(B48/A!K$4)^3),A!K$3+A!K$2)","v":2545.8769560794462},{"$f":"(C48*A!$G$5+'C'!D48*A!$H$5+'C'!E48*A!$I$5+'C'!F48*A!$J$5+'C'!G48*A!$K$5)/SUM(A!$G$5:$K$5)","v":2556.0460780029266},null,null,null,null,0,"determinado por el macro FIT (Ajsutar) una vez que finaliza"]
[10,10,{"$f":"A!G$2+A!G$3*B49+A!G$4*B49^2","v":2579.3329905003452},{"$f":"IF(B49<(A!H$3/(-2*A!H$4)),A!H$2+A!H$3*B49+A!H$4*B49^2,A!H$2+A!H$3*(A!H$3/(-2*A!H$4))+A!H$3*A!H$3/(4*A!H$4))","v":2584.0011833293725},{"$f":"A!I$2+A!I$3*EXP(A!I$4*B49)","v":2618.4266466884269},{"$f":"IF((A!J$2+A!J$3*B49)<A!J$4,A!J$2+A!J$3*B49,A!J$4)","v":2567.0004270213703},{"$f":"IF(B49<A!K$4,A!K$2+A!K$3*(3*B49/(2*A!K$4)-0.5*(B49/A!K$4)^3),A!K$3+A!K$2)","v":2573.1119036272371},{"$f":"(C49*A!$G$5+'C'!D49*A!$H$5+'C'!E49*A!$I$5+'C'!F49*A!$J$5+'C'!G49*A!$K$5)/SUM(A!$G$5:$K$5)","v":2584.4167344225857},null,null,null,null,{"$f":"M48=M47","v":true},"detecta si el macro FIT ha sido ejecutado sobre los datos ingresados más recientemente "]
[12,12,{"$f":"A!G$2+A!G$3*B50+A!G$4*B50^2","v":2604.3196893488898},{"$f":"IF(B50<(A!H$3/(-2*A!H$4)),A!H$2+A!H$3*B50+A!H$4*B50^2,A!H$2+A!H$3*(A!H$3/(-2*A!H$4))+A!H$3*A!H$3/(4*A!H$4))","v":2611.225901777555},{"$f":"A!I$2+A!I$3*EXP(A!I$4*B50)","v":2649.3529935235165},{"$f":"IF((A!J$2+A!J$3*B50)<A!J$4,A!J$2+A!J$3*B50,A!J$4)","v":2594.8004870965183},{"$f":"IF(B50<A!K$4,A!K$2+A!K$3*(3*B50/(2*A!K$4)-0.5*(B50/A!K$4)^3),A!K$3+A!K$2)","v":2600.0923014199898},{"$f":"(C50*A!$G$5+'C'!D50*A!$H$5+'C'!E50*A!$I$5+'C'!F50*A!$J$5+'C'!G50*A!$K$5)/SUM(A!$G$5:$K$5)","v":2612.0019694924345}]
[14,14,{"$f":"A!G$2+A!G$3*B51+A!G$4*B51^2","v":2628.6854351236761},{"$f":"IF(B51<(A!H$3/(-2*A!H$4)),A!H$2+A!H$3*B51+A!H$4*B51^2,A!H$2+A!H$3*(A!H$3/(-2*A!H$4))+A!H$3*A!H$3/(4*A!H$4))","v":2637.6422132272874},{"$f":"A!I$2+A!I$3*EXP(A!I$4*B51)","v":2678.196056363126},{"$f":"IF((A!J$2+A!J$3*B51)<A!J$4,A!J$2+A!J$3*B51,A!J$4)","v":2622.6005471716662},{"$f":"IF(B51<A!K$4,A!K$2+A!K$3*(3*B51/(2*A!K$4)-0.5*(B51/A!K$4)^3),A!K$3+A!K$2)","v":2626.7672395066984},{"$f":"(C51*A!$G$5+'C'!D51*A!$H$5+'C'!E51*A!$I$5+'C'!F51*A!$J$5+'C'!G51*A!$K$5)/SUM(A!$G$5:$K$5)","v":2638.8218356830539}]
[16,16,{"$f":"A!G$2+A!G$3*B52+A!G$4*B52^2","v":2652.4302278247046},{"$f":"IF(B52<(A!H$3/(-2*A!H$4)),A!H$2+A!H$3*B52+A!H$4*B52^2,A!H$2+A!H$3*(A!H$3/(-2*A!H$4))+A!H$3*A!H$3/(4*A!H$4))","v":2663.2501176785695},{"$f":"A!I$2+A!I$3*EXP(A!I$4*B52)","v":2705.0961709613939},{"$f":"IF((A!J$2+A!J$3*B52)<A!J$4,A!J$2+A!J$3*B52,A!J$4)","v":2650.4006072468142},{"$f":"IF(B52<A!K$4,A!K$2+A!K$3*(3*B52/(2*A!K$4)-0.5*(B52/A!K$4)^3),A!K$3+A!K$2)","v":2653.0858079363538},{"$f":"(C52*A!$G$5+'C'!D52*A!$H$5+'C'!E52*A!$I$5+'C'!F52*A!$J$5+'C'!G52*A!$K$5)/SUM(A!$G$5:$K$5)","v":2664.8943510529871}]
[18,18,{"$f":"A!G$2+A!G$3*B53+A!G$4*B53^2","v":2675.5540674519748},{"$f":"IF(B53<(A!H$3/(-2*A!H$4)),A!H$2+A!H$3*B53+A!H$4*B53^2,A!H$2+A!H$3*(A!H$3/(-2*A!H$4))+A!H$3*A!H$3/(4*A!H$4))","v":2688.0496151314019},{"$f":"A!I$2+A!I$3*EXP(A!I$4*B53)","v":2730.1842196691127},{"$f":"IF((A!J$2+A!J$3*B53)<A!J$4,A!J$2+A!J$3*B53,A!J$4)","v":2678.2006673219621},{"$f":"IF(B53<A!K$4,A!K$2+A!K$3*(3*B53/(2*A!K$4)-0.5*(B53/A!K$4)^3),A!K$3+A!K$2)","v":2678.9970967579502},{"$f":"(C53*A!$G$5+'C'!D53*A!$H$5+'C'!E53*A!$I$5+'C'!F53*A!$J$5+'C'!G53*A!$K$5)/SUM(A!$G$5:$K$5)","v":2690.2356362923415}]
[20,20,{"$f":"A!G$2+A!G$3*B54+A!G$4*B54^2","v":2698.0569540054885},{"$f":"IF(B54<(A!H$3/(-2*A!H$4)),A!H$2+A!H$3*B54+A!H$4*B54^2,A!H$2+A!H$3*(A!H$3/(-2*A!H$4))+A!H$3*A!H$3/(4*A!H$4))","v":2712.0407055857836},{"$f":"A!I$2+A!I$3*EXP(A!I$4*B54)","v":2753.5822682410476},{"$f":"IF((A!J$2+A!J$3*B54)<A!J$4,A!J$2+A!J$3*B54,A!J$4)","v":2706.0007273971105},{"$f":"IF(B54<A!K$4,A!K$2+A!K$3*(3*B54/(2*A!K$4)-0.5*(B54/A!K$4)^3),A!K$3+A!K$2)","v":2704.4501960204789},{"$f":"(C54*A!$G$5+'C'!D54*A!$H$5+'C'!E54*A!$I$5+'C'!F54*A!$J$5+'C'!G54*A!$K$5)/SUM(A!$G$5:$K$5)","v":2714.8600425347599}]
[22,22,{"$f":"A!G$2+A!G$3*B55+A!G$4*B55^2","v":2719.9388874852434},{"$f":"IF(B55<(A!H$3/(-2*A!H$4)),A!H$2+A!H$3*B55+A!H$4*B55^2,A!H$2+A!H$3*(A!H$3/(-2*A!H$4))+A!H$3*A!H$3/(4*A!H$4))","v":2735.2233890417151},{"$f":"A!I$2+A!I$3*EXP(A!I$4*B55)","v":2775.4041597461523},{"$f":"IF((A!J$2+A!J$3*B55)<A!J$4,A!J$2+A!J$3*B55,A!J$4)","v":2733.800787472258},{"$f":"IF(B55<A!K$4,A!K$2+A!K$3*(3*B55/(2*A!K$4)-0.5*(B55/A!K$4)^3),A!K$3+A!K$2)","v":2729.3941957729326},{"$f":"(C55*A!$G$5+'C'!D55*A!$H$5+'C'!E55*A!$I$5+'C'!F55*A!$J$5+'C'!G55*A!$K$5)/SUM(A!$G$5:$K$5)","v":2738.7802705596205}]
[24,24,{"$f":"A!G$2+A!G$3*B56+A!G$4*B56^2","v":2741.1998678912405},{"$f":"IF(B56<(A!H$3/(-2*A!H$4)),A!H$2+A!H$3*B56+A!H$4*B56^2,A!H$2+A!H$3*(A!H$3/(-2*A!H$4))+A!H$3*A!H$3/(4*A!H$4))","v":2757.5976654991969},{"$f":"A!I$2+A!I$3*EXP(A!I$4*B56)","v":2795.7560684703585},{"$f":"IF((A!J$2+A!J$3*B56)<A!J$4,A!J$2+A!J$3*B56,A!J$4)","v":2761.6008475474064},{"$f":"IF(B56<A!K$4,A!K$2+A!K$3*(3*B56/(2*A!K$4)-0.5*(B56/A!K$4)^3),A!K$3+A!K$2)","v":2753.778186064304},{"$f":"(C56*A!$G$5+'C'!D56*A!$H$5+'C'!E56*A!$I$5+'C'!F56*A!$J$5+'C'!G56*A!$K$5)/SUM(A!$G$5:$K$5)","v":2762.0074819644533}]
[26,26,{"$f":"A!G$2+A!G$3*B57+A!G$4*B57^2","v":2761.8398952234797},{"$f":"IF(B57<(A!H$3/(-2*A!H$4)),A!H$2+A!H$3*B57+A!H$4*B57^2,A!H$2+A!H$3*(A!H$3/(-2*A!H$4))+A!H$3*A!H$3/(4*A!H$4))","v":2779.1635349582284},{"$f":"A!I$2+A!I$3*EXP(A!I$4*B57)","v":2814.7370165069447},{"$f":"IF((A!J$2+A!J$3*B57)<A!J$4,A!J$2+A!J$3*B57,A!J$4)","v":2789.4009076225543},{"$f":"IF(B57<A!K$4,A!K$2+A!K$3*(3*B57/(2*A!K$4)-0.5*(B57/A!K$4)^3),A!K$3+A!K$2)","v":2777.5512569435859},{"$f":"(C57*A!$G$5+'C'!D57*A!$H$5+'C'!E57*A!$I$5+'C'!F57*A!$J$5+'C'!G57*A!$K$5)/SUM(A!$G$5:$K$5)","v":2784.5514028484727}]
[28,28,{"$f":"A!G$2+A!G$3*B58+A!G$4*B58^2","v":2781.858969481962},{"$f":"IF(B58<(A!H$3/(-2*A!H$4)),A!H$2+A!H$3*B58+A!H$4*B58^2,A!H$2+A!H$3*(A!H$3/(-2*A!H$4))+A!H$3*A!H$3/(4*A!H$4))","v":2799.9209974188097},{"$f":"A!I$2+A!I$3*EXP(A!I$4*B58)","v":2832.4393555479551},{"$f":"IF((A!J$2+A!J$3*B58)<A!J$4,A!J$2+A!J$3*B58,A!J$4)","v":2817.2009676977023},{"$f":"IF(B58<A!K$4,A!K$2+A!K$3*(3*B58/(2*A!K$4)-0.5*(B58/A!K$4)^3),A!K$3+A!K$2)","v":2800.6624984597706},{"$f":"(C58*A!$G$5+'C'!D58*A!$H$5+'C'!E58*A!$I$5+'C'!F58*A!$J$5+'C'!G58*A!$K$5)/SUM(A!$G$5:$K$5)","v":2806.4204205117003}]
[30,30,{"$f":"A!G$2+A!G$3*B59+A!G$4*B59^2","v":2801.2570906666856},{"$f":"IF(B59<(A!H$3/(-2*A!H$4)),A!H$2+A!H$3*B59+A!H$4*B59^2,A!H$2+A!H$3*(A!H$3/(-2*A!H$4))+A!H$3*A!H$3/(4*A!H$4))","v":2819.8700528809409},{"$f":"A!I$2+A!I$3*EXP(A!I$4*B59)","v":2848.9492162208171},{"$f":"IF((A!J$2+A!J$3*B59)<A!J$4,A!J$2+A!J$3*B59,A!J$4)","v":2845.0010277728502},{"$f":"IF(B59<A!K$4,A!K$2+A!K$3*(3*B59/(2*A!K$4)-0.5*(B59/A!K$4)^3),A!K$3+A!K$2)","v":2823.0610006618504},{"$f":"(C59*A!$G$5+'C'!D59*A!$H$5+'C'!E59*A!$I$5+'C'!F59*A!$J$5+'C'!G59*A!$K$5)/SUM(A!$G$5:$K$5)","v":2827.6216736401716}]
[32,32,{"$f":"A!G$2+A!G$3*B60+A!G$4*B60^2","v":2820.0342587776518},{"$f":"IF(B60<(A!H$3/(-2*A!H$4)),A!H$2+A!H$3*B60+A!H$4*B60^2,A!H$2+A!H$3*(A!H$3/(-2*A!H$4))+A!H$3*A!H$3/(4*A!H$4))","v":2839.0107013446218},{"$f":"A!I$2+A!I$3*EXP(A!I$4*B60)","v":2864.3469271564086},{"$f":"IF((A!J$2+A!J$3*B60)<A!J$4,A!J$2+A!J$3*B60,A!J$4)","v":2872.8010878479981},{"$f":"IF(B60<A!K$4,A!K$2+A!K$3*(3*B60/(2*A!K$4)-0.5*(B60/A!K$4)^3),A!K$3+A!K$2)","v":2844.6958535988178},{"$f":"(C60*A!$G$5+'C'!D60*A!$H$5+'C'!E60*A!$I$5+'C'!F60*A!$J$5+'C'!G60*A!$K$5)/SUM(A!$G$5:$K$5)","v":2848.1611364160181}]
[34,34,{"$f":"A!G$2+A!G$3*B61+A!G$4*B61^2","v":2838.1904738148601},{"$f":"IF(B61<(A!H$3/(-2*A!H$4)),A!H$2+A!H$3*B61+A!H$4*B61^2,A!H$2+A!H$3*(A!H$3/(-2*A!H$4))+A!H$3*A!H$3/(4*A!H$4))","v":2857.342942809853},{"$f":"A!I$2+A!I$3*EXP(A!I$4*B61)","v":2878.7074058275434},{"$f":"IF((A!J$2+A!J$3*B61)<A!J$4,A!J$2+A!J$3*B61,A!J$4)","v":2900.6011479231461},{"$f":"IF(B61<A!K$4,A!K$2+A!K$3*(3*B61/(2*A!K$4)-0.5*(B61/A!K$4)^3),A!K$3+A!K$2)","v":2865.5161473196658},{"$f":"(C61*A!$G$5+'C'!D61*A!$H$5+'C'!E61*A!$I$5+'C'!F61*A!$J$5+'C'!G61*A!$K$5)/SUM(A!$G$5:$K$5)","v":2868.043696961659}]
[36,36,{"$f":"A!G$2+A!G$3*B62+A!G$4*B62^2","v":2855.725735778311},{"$f":"IF(B62<(A!H$3/(-2*A!H$4)),A!H$2+A!H$3*B62+A!H$4*B62^2,A!H$2+A!H$3*(A!H$3/(-2*A!H$4))+A!H$3*A!H$3/(4*A!H$4))","v":2874.8667772766335},{"$f":"A!I$2+A!I$3*EXP(A!I$4*B62)","v":2892.1005230594974},{"$f":"IF((A!J$2+A!J$3*B62)<A!J$4,A!J$2+A!J$3*B62,A!J$4)","v":2928.401207998294},{"$f":"IF(B62<A!K$4,A!K$2+A!K$3*(3*B62/(2*A!K$4)-0.5*(B62/A!K$4)^3),A!K$3+A!K$2)","v":2885.470971873387},{"$f":"(C62*A!$G$5+'C'!D62*A!$H$5+'C'!E62*A!$I$5+'C'!F62*A!$J$5+'C'!G62*A!$K$5)/SUM(A!$G$5:$K$5)","v":2887.2732304997776}]
[38,38,{"$f":"A!G$2+A!G$3*B63+A!G$4*B63^2","v":2872.6400446680036},{"$f":"IF(B63<(A!H$3/(-2*A!H$4)),A!H$2+A!H$3*B63+A!H$4*B63^2,A!H$2+A!H$3*(A!H$3/(-2*A!H$4))+A!H$3*A!H$3/(4*A!H$4))","v":2891.5822047449637},{"$f":"A!I$2+A!I$3*EXP(A!I$4*B63)","v":2904.5914429861018},{"$f":"IF((A!J$2+A!J$3*B63)<A!J$4,A!J$2+A!J$3*B63,A!J$4)","v":2956.201268073442},{"$f":"IF(B63<A!K$4,A!K$2+A!K$3*(3*B63/(2*A!K$4)-0.5*(B63/A!K$4)^3),A!K$3+A!K$2)","v":2904.5094173089728},{"$f":"(C63*A!$G$5+'C'!D63*A!$H$5+'C'!E63*A!$I$5+'C'!F63*A!$J$5+'C'!G63*A!$K$5)/SUM(A!$G$5:$K$5)","v":2905.8526675850426}]
[40,40,{"$f":"A!G$2+A!G$3*B64+A!G$4*B64^2","v":2888.9334004839384},{"$f":"IF(B64<(A!H$3/(-2*A!H$4)),A!H$2+A!H$3*B64+A!H$4*B64^2,A!H$2+A!H$3*(A!H$3/(-2*A!H$4))+A!H$3*A!H$3/(4*A!H$4))","v":2907.4892252148447},{"$f":"A!I$2+A!I$3*EXP(A!I$4*B64)","v":2916.2409401054583},{"$f":"IF((A!J$2+A!J$3*B64)<A!J$4,A!J$2+A!J$3*B64,A!J$4)","v":2984.0013281485899},{"$f":"IF(B64<A!K$4,A!K$2+A!K$3*(3*B64/(2*A!K$4)-0.5*(B64/A!K$4)^3),A!K$3+A!K$2)","v":2922.5805736754169},{"$f":"(C64*A!$G$5+'C'!D64*A!$H$5+'C'!E64*A!$I$5+'C'!F64*A!$J$5+'C'!G64*A!$K$5)/SUM(A!$G$5:$K$5)","v":2923.7840577395486}]
[42,42,{"$f":"A!G$2+A!G$3*B65+A!G$4*B65^2","v":2904.6058032261153},{"$f":"IF(B65<(A!H$3/(-2*A!H$4)),A!H$2+A!H$3*B65+A!H$4*B65^2,A!H$2+A!H$3*(A!H$3/(-2*A!H$4))+A!H$3*A!H$3/(4*A!H$4))","v":2922.5878386862751},{"$f":"A!I$2+A!I$3*EXP(A!I$4*B65)","v":2927.1056949779031},{"$f":"IF((A!J$2+A!J$3*B65)<A!J$4,A!J$2+A!J$3*B65,A!J$4)","v":3011.8013882237378},{"$f":"IF(B65<A!K$4,A!K$2+A!K$3*(3*B65/(2*A!K$4)-0.5*(B65/A!K$4)^3),A!K$3+A!K$2)","v":2939.6335310217114},{"$f":"(C65*A!$G$5+'C'!D65*A!$H$5+'C'!E65*A!$I$5+'C'!F65*A!$J$5+'C'!G65*A!$K$5)/SUM(A!$G$5:$K$5)","v":2941.0686288016013}]
[44,44,{"$f":"A!G$2+A!G$3*B66+A!G$4*B66^2","v":2919.6572528945353},{"$f":"IF(B66<(A!H$3/(-2*A!H$4)),A!H$2+A!H$3*B66+A!H$4*B66^2,A!H$2+A!H$3*(A!H$3/(-2*A!H$4))+A!H$3*A!H$3/(4*A!H$4))","v":2936.8780451592556},{"$f":"A!I$2+A!I$3*EXP(A!I$4*B66)","v":2937.2385700049435},{"$f":"IF((A!J$2+A!J$3*B66)<A!J$4,A!J$2+A!J$3*B66,A!J$4)","v":3038.9994704232167},{"$f":"IF(B66<A!K$4,A!K$2+A!K$3*(3*B66/(2*A!K$4)-0.5*(B66/A!K$4)^3),A!K$3+A!K$2)","v":2955.6173793968492},{"$f":"(C66*A!$G$5+'C'!D66*A!$H$5+'C'!E66*A!$I$5+'C'!F66*A!$J$5+'C'!G66*A!$K$5)/SUM(A!$G$5:$K$5)","v":2957.5868779968332}]
[46,46,{"$f":"A!G$2+A!G$3*B67+A!G$4*B67^2","v":2934.0877494891965},{"$f":"IF(B67<(A!H$3/(-2*A!H$4)),A!H$2+A!H$3*B67+A!H$4*B67^2,A!H$2+A!H$3*(A!H$3/(-2*A!H$4))+A!H$3*A!H$3/(4*A!H$4))","v":2950.3598446337855},{"$f":"A!I$2+A!I$3*EXP(A!I$4*B67)","v":2946.688866630966},{"$f":"IF((A!J$2+A!J$3*B67)<A!J$4,A!J$2+A!J$3*B67,A!J$4)","v":3038.9994704232167},{"$f":"IF(B67<A!K$4,A!K$2+A!K$3*(3*B67/(2*A!K$4)-0.5*(B67/A!K$4)^3),A!K$3+A!K$2)","v":2970.481208849822},{"$f":"(C67*A!$G$5+'C'!D67*A!$H$5+'C'!E67*A!$I$5+'C'!F67*A!$J$5+'C'!G67*A!$K$5)/SUM(A!$G$5:$K$5)","v":2968.0383864016903}]
[48,48,{"$f":"A!G$2+A!G$3*B68+A!G$4*B68^2","v":2947.8972930101004},{"$f":"IF(B68<(A!H$3/(-2*A!H$4)),A!H$2+A!H$3*B68+A!H$4*B68^2,A!H$2+A!H$3*(A!H$3/(-2*A!H$4))+A!H$3*A!H$3/(4*A!H$4))","v":2963.0332371098652},{"$f":"A!I$2+A!I$3*EXP(A!I$4*B68)","v":2955.5025652191239},{"$f":"IF((A!J$2+A!J$3*B68)<A!J$4,A!J$2+A!J$3*B68,A!J$4)","v":3038.9994704232167},{"$f":"IF(B68<A!K$4,A!K$2+A!K$3*(3*B68/(2*A!K$4)-0.5*(B68/A!K$4)^3),A!K$3+A!K$2)","v":2984.1741094296226},{"$f":"(C68*A!$G$5+'C'!D68*A!$H$5+'C'!E68*A!$I$5+'C'!F68*A!$J$5+'C'!G68*A!$K$5)/SUM(A!$G$5:$K$5)","v":2977.8423642433499}]
[50,50,{"$f":"A!G$2+A!G$3*B69+A!G$4*B69^2","v":2961.0858834572468},{"$f":"IF(B69<(A!H$3/(-2*A!H$4)),A!H$2+A!H$3*B69+A!H$4*B69^2,A!H$2+A!H$3*(A!H$3/(-2*A!H$4))+A!H$3*A!H$3/(4*A!H$4))","v":2974.8982225874952},{"$f":"A!I$2+A!I$3*EXP(A!I$4*B69)","v":2963.7225487685291},{"$f":"IF((A!J$2+A!J$3*B69)<A!J$4,A!J$2+A!J$3*B69,A!J$4)","v":3038.9994704232167},{"$f":"IF(B69<A!K$4,A!K$2+A!K$3*(3*B69/(2*A!K$4)-0.5*(B69/A!K$4)^3),A!K$3+A!K$2)","v":2996.6451711852437},{"$f":"(C69*A!$G$5+'C'!D69*A!$H$5+'C'!E69*A!$I$5+'C'!F69*A!$J$5+'C'!G69*A!$K$5)/SUM(A!$G$5:$K$5)","v":2986.9972700868525}]
[52,52,{"$f":"A!G$2+A!G$3*B70+A!G$4*B70^2","v":2973.6535208306345},{"$f":"IF(B70<(A!H$3/(-2*A!H$4)),A!H$2+A!H$3*B70+A!H$4*B70^2,A!H$2+A!H$3*(A!H$3/(-2*A!H$4))+A!H$3*A!H$3/(4*A!H$4))","v":2985.9548010666745},{"$f":"A!I$2+A!I$3*EXP(A!I$4*B70)","v":2971.3888115612308},{"$f":"IF((A!J$2+A!J$3*B70)<A!J$4,A!J$2+A!J$3*B70,A!J$4)","v":3038.9994704232167},{"$f":"IF(B70<A!K$4,A!K$2+A!K$3*(3*B70/(2*A!K$4)-0.5*(B70/A!K$4)^3),A!K$3+A!K$2)","v":3007.8434841656781},{"$f":"(C70*A!$G$5+'C'!D70*A!$H$5+'C'!E70*A!$I$5+'C'!F70*A!$J$5+'C'!G70*A!$K$5)/SUM(A!$G$5:$K$5)","v":2995.500982710214}]
[54,54,{"$f":"A!G$2+A!G$3*B71+A!G$4*B71^2","v":2985.6002051302648},{"$f":"IF(B71<(A!H$3/(-2*A!H$4)),A!H$2+A!H$3*B71+A!H$4*B71^2,A!H$2+A!H$3*(A!H$3/(-2*A!H$4))+A!H$3*A!H$3/(4*A!H$4))","v":2996.2029725474044},{"$f":"A!I$2+A!I$3*EXP(A!I$4*B71)","v":2978.5386537541658},{"$f":"IF((A!J$2+A!J$3*B71)<A!J$4,A!J$2+A!J$3*B71,A!J$4)","v":3038.9994704232167},{"$f":"IF(B71<A!K$4,A!K$2+A!K$3*(3*B71/(2*A!K$4)-0.5*(B71/A!K$4)^3),A!K$3+A!K$2)","v":3017.718138419918},{"$f":"(C71*A!$G$5+'C'!D71*A!$H$5+'C'!E71*A!$I$5+'C'!F71*A!$J$5+'C'!G71*A!$K$5)/SUM(A!$G$5:$K$5)","v":3003.350840160484}]
[56,56,{"$f":"A!G$2+A!G$3*B72+A!G$4*B72^2","v":2996.9259363561373},{"$f":"IF(B72<(A!H$3/(-2*A!H$4)),A!H$2+A!H$3*B72+A!H$4*B72^2,A!H$2+A!H$3*(A!H$3/(-2*A!H$4))+A!H$3*A!H$3/(4*A!H$4))","v":3005.6427370296838},{"$f":"A!I$2+A!I$3*EXP(A!I$4*B72)","v":2985.2068628628517},{"$f":"IF((A!J$2+A!J$3*B72)<A!J$4,A!J$2+A!J$3*B72,A!J$4)","v":3038.9994704232167},{"$f":"IF(B72<A!K$4,A!K$2+A!K$3*(3*B72/(2*A!K$4)-0.5*(B72/A!K$4)^3),A!K$3+A!K$2)","v":3026.2182239969557},{"$f":"(C72*A!$G$5+'C'!D72*A!$H$5+'C'!E72*A!$I$5+'C'!F72*A!$J$5+'C'!G72*A!$K$5)/SUM(A!$G$5:$K$5)","v":3010.5436761788706}]
[58,58,{"$f":"A!G$2+A!G$3*B73+A!G$4*B73^2","v":3007.6307145082524},{"$f":"IF(B73<(A!H$3/(-2*A!H$4)),A!H$2+A!H$3*B73+A!H$4*B73^2,A!H$2+A!H$3*(A!H$3/(-2*A!H$4))+A!H$3*A!H$3/(4*A!H$4))","v":3014.2740945135129},{"$f":"A!I$2+A!I$3*EXP(A!I$4*B73)","v":2991.4258830198419},{"$f":"IF((A!J$2+A!J$3*B73)<A!J$4,A!J$2+A!J$3*B73,A!J$4)","v":3038.9994704232167},{"$f":"IF(B73<A!K$4,A!K$2+A!K$3*(3*B73/(2*A!K$4)-0.5*(B73/A!K$4)^3),A!K$3+A!K$2)","v":3033.2928309457839},{"$f":"(C73*A!$G$5+'C'!D73*A!$H$5+'C'!E73*A!$I$5+'C'!F73*A!$J$5+'C'!G73*A!$K$5)/SUM(A!$G$5:$K$5)","v":3017.075854172173}]
[60,60,{"$f":"A!G$2+A!G$3*B74+A!G$4*B74^2","v":3017.7145395866096},{"$f":"IF(B74<(A!H$3/(-2*A!H$4)),A!H$2+A!H$3*B74+A!H$4*B74^2,A!H$2+A!H$3*(A!H$3/(-2*A!H$4))+A!H$3*A!H$3/(4*A!H$4))","v":3022.0970449988922},{"$f":"A!I$2+A!I$3*EXP(A!I$4*B74)","v":2997.2259728314625},{"$f":"IF((A!J$2+A!J$3*B74)<A!J$4,A!J$2+A!J$3*B74,A!J$4)","v":3038.9994704232167},{"$f":"IF(B74<A!K$4,A!K$2+A!K$3*(3*B74/(2*A!K$4)-0.5*(B74/A!K$4)^3),A!K$3+A!K$2)","v":3038.8910493153958},{"$f":"(C74*A!$G$5+'C'!D74*A!$H$5+'C'!E74*A!$I$5+'C'!F74*A!$J$5+'C'!G74*A!$K$5)/SUM(A!$G$5:$K$5)","v":3022.943298895806}]
[62,62,{"$f":"A!G$2+A!G$3*B75+A!G$4*B75^2","v":3027.1774115912085},{"$f":"IF(B75<(A!H$3/(-2*A!H$4)),A!H$2+A!H$3*B75+A!H$4*B75^2,A!H$2+A!H$3*(A!H$3/(-2*A!H$4))+A!H$3*A!H$3/(4*A!H$4))","v":3029.1115884858209},{"$f":"A!I$2+A!I$3*EXP(A!I$4*B75)","v":3002.6353526008879},{"$f":"IF((A!J$2+A!J$3*B75)<A!J$4,A!J$2+A!J$3*B75,A!J$4)","v":3038.9994704232167},{"$f":"IF(B75<A!K$4,A!K$2+A!K$3*(3*B75/(2*A!K$4)-0.5*(B75/A!K$4)^3),A!K$3+A!K$2)","v":3042.9619691547828},{"$f":"(C75*A!$G$5+'C'!D75*A!$H$5+'C'!E75*A!$I$5+'C'!F75*A!$J$5+'C'!G75*A!$K$5)/SUM(A!$G$5:$K$5)","v":3028.1415260025647}]
[64,64,{"$f":"A!G$2+A!G$3*B76+A!G$4*B76^2","v":3036.01933052205},{"$f":"IF(B76<(A!H$3/(-2*A!H$4)),A!H$2+A!H$3*B76+A!H$4*B76^2,A!H$2+A!H$3*(A!H$3/(-2*A!H$4))+A!H$3*A!H$3/(4*A!H$4))","v":3035.3177249742998},{"$f":"A!I$2+A!I$3*EXP(A!I$4*B76)","v":3007.680341633858},{"$f":"IF((A!J$2+A!J$3*B76)<A!J$4,A!J$2+A!J$3*B76,A!J$4)","v":3038.9994704232167},{"$f":"IF(B76<A!K$4,A!K$2+A!K$3*(3*B76/(2*A!K$4)-0.5*(B76/A!K$4)^3),A!K$3+A!K$2)","v":3045.4546805129376},{"$f":"(C76*A!$G$5+'C'!D76*A!$H$5+'C'!E76*A!$I$5+'C'!F76*A!$J$5+'C'!G76*A!$K$5)/SUM(A!$G$5:$K$5)","v":3032.6656696009072}]
[66,66,{"$f":"A!G$2+A!G$3*B77+A!G$4*B77^2","v":3044.2402963791337},{"$f":"IF(B77<(A!H$3/(-2*A!H$4)),A!H$2+A!H$3*B77+A!H$4*B77^2,A!H$2+A!H$3*(A!H$3/(-2*A!H$4))+A!H$3*A!H$3/(4*A!H$4))","v":3040.7154544643286},{"$f":"A!I$2+A!I$3*EXP(A!I$4*B77)","v":3012.385486295108},{"$f":"IF((A!J$2+A!J$3*B77)<A!J$4,A!J$2+A!J$3*B77,A!J$4)","v":3038.9994704232167},{"$f":"IF(B77<A!K$4,A!K$2+A!K$3*(3*B77/(2*A!K$4)-0.5*(B77/A!K$4)^3),A!K$3+A!K$2)","v":3046.3182734388538},{"$f":"(C77*A!$G$5+'C'!D77*A!$H$5+'C'!E77*A!$I$5+'C'!F77*A!$J$5+'C'!G77*A!$K$5)/SUM(A!$G$5:$K$5)","v":3036.5105079568293}]
[68,68,{"$f":"A!G$2+A!G$3*B78+A!G$4*B78^2","v":3051.8403091624596},{"$f":"IF(B78<(A!H$3/(-2*A!H$4)),A!H$2+A!H$3*B78+A!H$4*B78^2,A!H$2+A!H$3*(A!H$3/(-2*A!H$4))+A!H$3*A!H$3/(4*A!H$4))","v":3045.3047769559071},{"$f":"A!I$2+A!I$3*EXP(A!I$4*B78)","v":3016.7736794385642},{"$f":"IF((A!J$2+A!J$3*B78)<A!J$4,A!J$2+A!J$3*B78,A!J$4)","v":3038.9994704232167},{"$f":"IF(B78<A!K$4,A!K$2+A!K$3*(3*B78/(2*A!K$4)-0.5*(B78/A!K$4)^3),A!K$3+A!K$2)","v":3046.3185793516691},{"$f":"(C78*A!$G$5+'C'!D78*A!$H$5+'C'!E78*A!$I$5+'C'!F78*A!$J$5+'C'!G78*A!$K$5)/SUM(A!$G$5:$K$5)","v":3039.8332964088163}]
[70,70,{"$f":"A!G$2+A!G$3*B79+A!G$4*B79^2","v":3058.8193688720276},{"$f":"IF(B79<(A!H$3/(-2*A!H$4)),A!H$2+A!H$3*B79+A!H$4*B79^2,A!H$2+A!H$3*(A!H$3/(-2*A!H$4))+A!H$3*A!H$3/(4*A!H$4))","v":3049.0856924490354},{"$f":"A!I$2+A!I$3*EXP(A!I$4*B79)","v":3020.8662717923903},{"$f":"IF((A!J$2+A!J$3*B79)<A!J$4,A!J$2+A!J$3*B79,A!J$4)","v":3038.9994704232167},{"$f":"IF(B79<A!K$4,A!K$2+A!K$3*(3*B79/(2*A!K$4)-0.5*(B79/A!K$4)^3),A!K$3+A!K$2)","v":3046.3185793516691},{"$f":"(C79*A!$G$5+'C'!D79*A!$H$5+'C'!E79*A!$I$5+'C'!F79*A!$J$5+'C'!G79*A!$K$5)/SUM(A!$G$5:$K$5)","v":3042.8103465633262}]
[72,72,{"$f":"A!G$2+A!G$3*B80+A!G$4*B80^2","v":3065.1774755078377},{"$f":"IF(B80<(A!H$3/(-2*A!H$4)),A!H$2+A!H$3*B80+A!H$4*B80^2,A!H$2+A!H$3*(A!H$3/(-2*A!H$4))+A!H$3*A!H$3/(4*A!H$4))","v":3052.0582009437139},{"$f":"A!I$2+A!I$3*EXP(A!I$4*B80)","v":3024.6831758408302},{"$f":"IF((A!J$2+A!J$3*B80)<A!J$4,A!J$2+A!J$3*B80,A!J$4)","v":3038.9994704232167},{"$f":"IF(B80<A!K$4,A!K$2+A!K$3*(3*B80/(2*A!K$4)-0.5*(B80/A!K$4)^3),A!K$3+A!K$2)","v":3046.3185793516691},{"$f":"(C80*A!$G$5+'C'!D80*A!$H$5+'C'!E80*A!$I$5+'C'!F80*A!$J$5+'C'!G80*A!$K$5)/SUM(A!$G$5:$K$5)","v":3045.4457159847598}]
[74,74,{"$f":"A!G$2+A!G$3*B81+A!G$4*B81^2","v":3070.91462906989},{"$f":"IF(B81<(A!H$3/(-2*A!H$4)),A!H$2+A!H$3*B81+A!H$4*B81^2,A!H$2+A!H$3*(A!H$3/(-2*A!H$4))+A!H$3*A!H$3/(4*A!H$4))","v":3054.2223024399418},{"$f":"A!I$2+A!I$3*EXP(A!I$4*B81)","v":3028.2429627082852},{"$f":"IF((A!J$2+A!J$3*B81)<A!J$4,A!J$2+A!J$3*B81,A!J$4)","v":3038.9994704232167},{"$f":"IF(B81<A!K$4,A!K$2+A!K$3*(3*B81/(2*A!K$4)-0.5*(B81/A!K$4)^3),A!K$3+A!K$2)","v":3046.3185793516691},{"$f":"(C81*A!$G$5+'C'!D81*A!$H$5+'C'!E81*A!$I$5+'C'!F81*A!$J$5+'C'!G81*A!$K$5)/SUM(A!$G$5:$K$5)","v":3047.7431320360502}]
[76,76,{"$f":"A!G$2+A!G$3*B82+A!G$4*B82^2","v":3076.0308295581849},{"$f":"IF(B82<(A!H$3/(-2*A!H$4)),A!H$2+A!H$3*B82+A!H$4*B82^2,A!H$2+A!H$3*(A!H$3/(-2*A!H$4))+A!H$3*A!H$3/(4*A!H$4))","v":3055.5779969377199},{"$f":"A!I$2+A!I$3*EXP(A!I$4*B82)","v":3031.5629525170111},{"$f":"IF((A!J$2+A!J$3*B82)<A!J$4,A!J$2+A!J$3*B82,A!J$4)","v":3038.9994704232167},{"$f":"IF(B82<A!K$4,A!K$2+A!K$3*(3*B82/(2*A!K$4)-0.5*(B82/A!K$4)^3),A!K$3+A!K$2)","v":3046.3185793516691},{"$f":"(C82*A!$G$5+'C'!D82*A!$H$5+'C'!E82*A!$I$5+'C'!F82*A!$J$5+'C'!G82*A!$K$5)/SUM(A!$G$5:$K$5)","v":3049.7060709946913}]
[78,78,{"$f":"A!G$2+A!G$3*B83+A!G$4*B83^2","v":3080.5260769727215},{"$f":"IF(B83<(A!H$3/(-2*A!H$4)),A!H$2+A!H$3*B83+A!H$4*B83^2,A!H$2+A!H$3*(A!H$3/(-2*A!H$4))+A!H$3*A!H$3/(4*A!H$4))","v":3056.1252844370474},{"$f":"A!I$2+A!I$3*EXP(A!I$4*B83)","v":3034.6592986580722},{"$f":"IF((A!J$2+A!J$3*B83)<A!J$4,A!J$2+A!J$3*B83,A!J$4)","v":3038.9994704232167},{"$f":"IF(B83<A!K$4,A!K$2+A!K$3*(3*B83/(2*A!K$4)-0.5*(B83/A!K$4)^3),A!K$3+A!K$2)","v":3046.3185793516691},{"$f":"(C83*A!$G$5+'C'!D83*A!$H$5+'C'!E83*A!$I$5+'C'!F83*A!$J$5+'C'!G83*A!$K$5)/SUM(A!$G$5:$K$5)","v":3051.3377749665347}]
[80,80,{"$f":"A!G$2+A!G$3*B84+A!G$4*B84^2","v":3084.4003713135012},{"$f":"IF(B84<(A!H$3/(-2*A!H$4)),A!H$2+A!H$3*B84+A!H$4*B84^2,A!H$2+A!H$3*(A!H$3/(-2*A!H$4))+A!H$3*A!H$3/(4*A!H$4))","v":3056.137947013649},{"$f":"A!I$2+A!I$3*EXP(A!I$4*B84)","v":3037.5470663855713},{"$f":"IF((A!J$2+A!J$3*B84)<A!J$4,A!J$2+A!J$3*B84,A!J$4)","v":3038.9994704232167},{"$f":"IF(B84<A!K$4,A!K$2+A!K$3*(3*B84/(2*A!K$4)-0.5*(B84/A!K$4)^3),A!K$3+A!K$2)","v":3046.3185793516691},{"$f":"(C84*A!$G$5+'C'!D84*A!$H$5+'C'!E84*A!$I$5+'C'!F84*A!$J$5+'C'!G84*A!$K$5)/SUM(A!$G$5:$K$5)","v":3052.6961122635976}]
[82,82,{"$f":"A!G$2+A!G$3*B85+A!G$4*B85^2","v":3087.6537125805221},{"$f":"IF(B85<(A!H$3/(-2*A!H$4)),A!H$2+A!H$3*B85+A!H$4*B85^2,A!H$2+A!H$3*(A!H$3/(-2*A!H$4))+A!H$3*A!H$3/(4*A!H$4))","v":3056.137947013649},{"$f":"A!I$2+A!I$3*EXP(A!I$4*B85)","v":3040.2403061165551},{"$f":"IF((A!J$2+A!J$3*B85)<A!J$4,A!J$2+A!J$3*B85,A!J$4)","v":3038.9994704232167},{"$f":"IF(B85<A!K$4,A!K$2+A!K$3*(3*B85/(2*A!K$4)-0.5*(B85/A!K$4)^3),A!K$3+A!K$2)","v":3046.3185793516691},{"$f":"(C85*A!$G$5+'C'!D85*A!$H$5+'C'!E85*A!$I$5+'C'!F85*A!$J$5+'C'!G85*A!$K$5)/SUM(A!$G$5:$K$5)","v":3053.888463508204}]
[84,84,{"$f":"A!G$2+A!G$3*B86+A!G$4*B86^2","v":3090.2861007737856},{"$f":"IF(B86<(A!H$3/(-2*A!H$4)),A!H$2+A!H$3*B86+A!H$4*B86^2,A!H$2+A!H$3*(A!H$3/(-2*A!H$4))+A!H$3*A!H$3/(4*A!H$4))","v":3056.137947013649},{"$f":"A!I$2+A!I$3*EXP(A!I$4*B86)","v":3042.7521217932376},{"$f":"IF((A!J$2+A!J$3*B86)<A!J$4,A!J$2+A!J$3*B86,A!J$4)","v":3038.9994704232167},{"$f":"IF(B86<A!K$4,A!K$2+A!K$3*(3*B86/(2*A!K$4)-0.5*(B86/A!K$4)^3),A!K$3+A!K$2)","v":3046.3185793516691},{"$f":"(C86*A!$G$5+'C'!D86*A!$H$5+'C'!E86*A!$I$5+'C'!F86*A!$J$5+'C'!G86*A!$K$5)/SUM(A!$G$5:$K$5)","v":3054.9199953531966}]
[86,86,{"$f":"A!G$2+A!G$3*B87+A!G$4*B87^2","v":3092.2975358932908},{"$f":"IF(B87<(A!H$3/(-2*A!H$4)),A!H$2+A!H$3*B87+A!H$4*B87^2,A!H$2+A!H$3*(A!H$3/(-2*A!H$4))+A!H$3*A!H$3/(4*A!H$4))","v":3056.137947013649},{"$f":"A!I$2+A!I$3*EXP(A!I$4*B87)","v":3045.0947346401545},{"$f":"IF((A!J$2+A!J$3*B87)<A!J$4,A!J$2+A!J$3*B87,A!J$4)","v":3038.9994704232167},{"$f":"IF(B87<A!K$4,A!K$2+A!K$3*(3*B87/(2*A!K$4)-0.5*(B87/A!K$4)^3),A!K$3+A!K$2)","v":3046.3185793516691},{"$f":"(C87*A!$G$5+'C'!D87*A!$H$5+'C'!E87*A!$I$5+'C'!F87*A!$J$5+'C'!G87*A!$K$5)/SUM(A!$G$5:$K$5)","v":3055.7931606893299}]
[88,88,{"$f":"A!G$2+A!G$3*B88+A!G$4*B88^2","v":3093.6880179390387},{"$f":"IF(B88<(A!H$3/(-2*A!H$4)),A!H$2+A!H$3*B88+A!H$4*B88^2,A!H$2+A!H$3*(A!H$3/(-2*A!H$4))+A!H$3*A!H$3/(4*A!H$4))","v":3056.137947013649},{"$f":"A!I$2+A!I$3*EXP(A!I$4*B88)","v":3047.2795426264574},{"$f":"IF((A!J$2+A!J$3*B88)<A!J$4,A!J$2+A!J$3*B88,A!J$4)","v":3038.9994704232167},{"$f":"IF(B88<A!K$4,A!K$2+A!K$3*(3*B88/(2*A!K$4)-0.5*(B88/A!K$4)^3),A!K$3+A!K$2)","v":3046.3185793516691},{"$f":"(C88*A!$G$5+'C'!D88*A!$H$5+'C'!E88*A!$I$5+'C'!F88*A!$J$5+'C'!G88*A!$K$5)/SUM(A!$G$5:$K$5)","v":3056.5102471738746}]
[90,90,{"$f":"A!G$2+A!G$3*B89+A!G$4*B89^2","v":3094.4575469110287},{"$f":"IF(B89<(A!H$3/(-2*A!H$4)),A!H$2+A!H$3*B89+A!H$4*B89^2,A!H$2+A!H$3*(A!H$3/(-2*A!H$4))+A!H$3*A!H$3/(4*A!H$4))","v":3056.137947013649},{"$f":"A!I$2+A!I$3*EXP(A!I$4*B89)","v":3049.3171759226711},{"$f":"IF((A!J$2+A!J$3*B89)<A!J$4,A!J$2+A!J$3*B89,A!J$4)","v":3038.9994704232167},{"$f":"IF(B89<A!K$4,A!K$2+A!K$3*(3*B89/(2*A!K$4)-0.5*(B89/A!K$4)^3),A!K$3+A!K$2)","v":3046.3185793516691},{"$f":"(C89*A!$G$5+'C'!D89*A!$H$5+'C'!E89*A!$I$5+'C'!F89*A!$J$5+'C'!G89*A!$K$5)/SUM(A!$G$5:$K$5)","v":3057.0733883612011}]
[92,92,{"$f":"A!G$2+A!G$3*B90+A!G$4*B90^2","v":3094.6061228092613},{"$f":"IF(B90<(A!H$3/(-2*A!H$4)),A!H$2+A!H$3*B90+A!H$4*B90^2,A!H$2+A!H$3*(A!H$3/(-2*A!H$4))+A!H$3*A!H$3/(4*A!H$4))","v":3056.137947013649},{"$f":"A!I$2+A!I$3*EXP(A!I$4*B90)","v":3051.2175486217211},{"$f":"IF((A!J$2+A!J$3*B90)<A!J$4,A!J$2+A!J$3*B90,A!J$4)","v":3038.9994704232167},{"$f":"IF(B90<A!K$4,A!K$2+A!K$3*(3*B90/(2*A!K$4)-0.5*(B90/A!K$4)^3),A!K$3+A!K$2)","v":3046.3185793516691},{"$f":"(C90*A!$G$5+'C'!D90*A!$H$5+'C'!E90*A!$I$5+'C'!F90*A!$J$5+'C'!G90*A!$K$5)/SUM(A!$G$5:$K$5)","v":3057.4845740835717}]
[94,94,{"$f":"A!G$2+A!G$3*B91+A!G$4*B91^2","v":3094.133745633736},{"$f":"IF(B91<(A!H$3/(-2*A!H$4)),A!H$2+A!H$3*B91+A!H$4*B91^2,A!H$2+A!H$3*(A!H$3/(-2*A!H$4))+A!H$3*A!H$3/(4*A!H$4))","v":3056.137947013649},{"$f":"A!I$2+A!I$3*EXP(A!I$4*B91)","v":3052.9899069758999},{"$f":"IF((A!J$2+A!J$3*B91)<A!J$4,A!J$2+A!J$3*B91,A!J$4)","v":3038.9994704232167},{"$f":"IF(B91<A!K$4,A!K$2+A!K$3*(3*B91/(2*A!K$4)-0.5*(B91/A!K$4)^3),A!K$3+A!K$2)","v":3046.3185793516691},{"$f":"(C91*A!$G$5+'C'!D91*A!$H$5+'C'!E91*A!$I$5+'C'!F91*A!$J$5+'C'!G91*A!$K$5)/SUM(A!$G$5:$K$5)","v":3057.7456601326658}]
[96,96,{"$f":"A!G$2+A!G$3*B92+A!G$4*B92^2","v":3093.0404153844529},{"$f":"IF(B92<(A!H$3/(-2*A!H$4)),A!H$2+A!H$3*B92+A!H$4*B92^2,A!H$2+A!H$3*(A!H$3/(-2*A!H$4))+A!H$3*A!H$3/(4*A!H$4))","v":3056.137947013649},{"$f":"A!I$2+A!I$3*EXP(A!I$4*B92)","v":3054.6428743844485},{"$f":"IF((A!J$2+A!J$3*B92)<A!J$4,A!J$2+A!J$3*B92,A!J$4)","v":3038.9994704232167},{"$f":"IF(B92<A!K$4,A!K$2+A!K$3*(3*B92/(2*A!K$4)-0.5*(B92/A!K$4)^3),A!K$3+A!K$2)","v":3046.3185793516691},{"$f":"(C92*A!$G$5+'C'!D92*A!$H$5+'C'!E92*A!$I$5+'C'!F92*A!$J$5+'C'!G92*A!$K$5)/SUM(A!$G$5:$K$5)","v":3057.8583772889128}]
[98,98,{"$f":"A!G$2+A!G$3*B93+A!G$4*B93^2","v":3091.3261320614115},{"$f":"IF(B93<(A!H$3/(-2*A!H$4)),A!H$2+A!H$3*B93+A!H$4*B93^2,A!H$2+A!H$3*(A!H$3/(-2*A!H$4))+A!H$3*A!H$3/(4*A!H$4))","v":3056.137947013649},{"$f":"A!I$2+A!I$3*EXP(A!I$4*B93)","v":3056.1844933506595},{"$f":"IF((A!J$2+A!J$3*B93)<A!J$4,A!J$2+A!J$3*B93,A!J$4)","v":3038.9994704232167},{"$f":"IF(B93<A!K$4,A!K$2+A!K$3*(3*B93/(2*A!K$4)-0.5*(B93/A!K$4)^3),A!K$3+A!K$2)","v":3046.3185793516691},{"$f":"(C93*A!$G$5+'C'!D93*A!$H$5+'C'!E93*A!$I$5+'C'!F93*A!$J$5+'C'!G93*A!$K$5)/SUM(A!$G$5:$K$5)","v":3057.8243397426031}]
[100,100,{"$f":"A!G$2+A!G$3*B94+A!G$4*B94^2","v":3088.9908956646123},{"$f":"IF(B94<(A!H$3/(-2*A!H$4)),A!H$2+A!H$3*B94+A!H$4*B94^2,A!H$2+A!H$3*(A!H$3/(-2*A!H$4))+A!H$3*A!H$3/(4*A!H$4))","v":3056.137947013649},{"$f":"A!I$2+A!I$3*EXP(A!I$4*B94)","v":3057.622264612628},{"$f":"IF((A!J$2+A!J$3*B94)<A!J$4,A!J$2+A!J$3*B94,A!J$4)","v":3038.9994704232167},{"$f":"IF(B94<A!K$4,A!K$2+A!K$3*(3*B94/(2*A!K$4)-0.5*(B94/A!K$4)^3),A!K$3+A!K$2)","v":3046.3185793516691},{"$f":"(C94*A!$G$5+'C'!D94*A!$H$5+'C'!E94*A!$I$5+'C'!F94*A!$J$5+'C'!G94*A!$K$5)/SUM(A!$G$5:$K$5)","v":3057.6450529477193}]
[102,102,{"$f":"A!G$2+A!G$3*B95+A!G$4*B95^2","v":3086.0347061940556},{"$f":"IF(B95<(A!H$3/(-2*A!H$4)),A!H$2+A!H$3*B95+A!H$4*B95^2,A!H$2+A!H$3*(A!H$3/(-2*A!H$4))+A!H$3*A!H$3/(4*A!H$4))","v":3056.137947013649},{"$f":"A!I$2+A!I$3*EXP(A!I$4*B95)","v":3058.963183638049},{"$f":"IF((A!J$2+A!J$3*B95)<A!J$4,A!J$2+A!J$3*B95,A!J$4)","v":3038.9994704232167},{"$f":"IF(B95<A!K$4,A!K$2+A!K$3*(3*B95/(2*A!K$4)-0.5*(B95/A!K$4)^3),A!K$3+A!K$2)","v":3046.3185793516691},{"$f":"(C95*A!$G$5+'C'!D95*A!$H$5+'C'!E95*A!$I$5+'C'!F95*A!$J$5+'C'!G95*A!$K$5)/SUM(A!$G$5:$K$5)","v":3057.3219209467102}]
[104,104,{"$f":"A!G$2+A!G$3*B96+A!G$4*B96^2","v":3082.4575636497411},{"$f":"IF(B96<(A!H$3/(-2*A!H$4)),A!H$2+A!H$3*B96+A!H$4*B96^2,A!H$2+A!H$3*(A!H$3/(-2*A!H$4))+A!H$3*A!H$3/(4*A!H$4))","v":3056.137947013649},{"$f":"A!I$2+A!I$3*EXP(A!I$4*B96)","v":3060.2137746606254},{"$f":"IF((A!J$2+A!J$3*B96)<A!J$4,A!J$2+A!J$3*B96,A!J$4)","v":3038.9994704232167},{"$f":"IF(B96<A!K$4,A!K$2+A!K$3*(3*B96/(2*A!K$4)-0.5*(B96/A!K$4)^3),A!K$3+A!K$2)","v":3046.3185793516691},{"$f":"(C96*A!$G$5+'C'!D96*A!$H$5+'C'!E96*A!$I$5+'C'!F96*A!$J$5+'C'!G96*A!$K$5)/SUM(A!$G$5:$K$5)","v":3056.8562532018559}]
[106,106,{"$f":"A!G$2+A!G$3*B97+A!G$4*B97^2","v":3078.2594680316688},{"$f":"IF(B97<(A!H$3/(-2*A!H$4)),A!H$2+A!H$3*B97+A!H$4*B97^2,A!H$2+A!H$3*(A!H$3/(-2*A!H$4))+A!H$3*A!H$3/(4*A!H$4))","v":3056.137947013649},{"$f":"A!I$2+A!I$3*EXP(A!I$4*B97)","v":3061.3801224236886},{"$f":"IF((A!J$2+A!J$3*B97)<A!J$4,A!J$2+A!J$3*B97,A!J$4)","v":3038.9994704232167},{"$f":"IF(B97<A!K$4,A!K$2+A!K$3*(3*B97/(2*A!K$4)-0.5*(B97/A!K$4)^3),A!K$3+A!K$2)","v":3046.3185793516691},{"$f":"(C97*A!$G$5+'C'!D97*A!$H$5+'C'!E97*A!$I$5+'C'!F97*A!$J$5+'C'!G97*A!$K$5)/SUM(A!$G$5:$K$5)","v":3056.2492709664461}]
[108,108,{"$f":"A!G$2+A!G$3*B98+A!G$4*B98^2","v":3073.4404193398386},{"$f":"IF(B98<(A!H$3/(-2*A!H$4)),A!H$2+A!H$3*B98+A!H$4*B98^2,A!H$2+A!H$3*(A!H$3/(-2*A!H$4))+A!H$3*A!H$3/(4*A!H$4))","v":3056.137947013649},{"$f":"A!I$2+A!I$3*EXP(A!I$4*B98)","v":3062.4679017854814},{"$f":"IF((A!J$2+A!J$3*B98)<A!J$4,A!J$2+A!J$3*B98,A!J$4)","v":3038.9994704232167},{"$f":"IF(B98<A!K$4,A!K$2+A!K$3*(3*B98/(2*A!K$4)-0.5*(B98/A!K$4)^3),A!K$3+A!K$2)","v":3046.3185793516691},{"$f":"(C98*A!$G$5+'C'!D98*A!$H$5+'C'!E98*A!$I$5+'C'!F98*A!$J$5+'C'!G98*A!$K$5)/SUM(A!$G$5:$K$5)","v":3055.5021132267807}]
[110,110,{"$f":"A!G$2+A!G$3*B99+A!G$4*B99^2","v":3068.0004175742511},{"$f":"IF(B99<(A!H$3/(-2*A!H$4)),A!H$2+A!H$3*B99+A!H$4*B99^2,A!H$2+A!H$3*(A!H$3/(-2*A!H$4))+A!H$3*A!H$3/(4*A!H$4))","v":3056.137947013649},{"$f":"A!I$2+A!I$3*EXP(A!I$4*B99)","v":3063.4824053301495},{"$f":"IF((A!J$2+A!J$3*B99)<A!J$4,A!J$2+A!J$3*B99,A!J$4)","v":3038.9994704232167},{"$f":"IF(B99<A!K$4,A!K$2+A!K$3*(3*B99/(2*A!K$4)-0.5*(B99/A!K$4)^3),A!K$3+A!K$2)","v":3046.3185793516691},{"$f":"(C99*A!$G$5+'C'!D99*A!$H$5+'C'!E99*A!$I$5+'C'!F99*A!$J$5+'C'!G99*A!$K$5)/SUM(A!$G$5:$K$5)","v":3054.6158422439044}]
[112,112,{"$f":"A!G$2+A!G$3*B100+A!G$4*B100^2","v":3061.9394627349056},{"$f":"IF(B100<(A!H$3/(-2*A!H$4)),A!H$2+A!H$3*B100+A!H$4*B100^2,A!H$2+A!H$3*(A!H$3/(-2*A!H$4))+A!H$3*A!H$3/(4*A!H$4))","v":3056.137947013649},{"$f":"A!I$2+A!I$3*EXP(A!I$4*B100)","v":3064.4285691187765},{"$f":"IF((A!J$2+A!J$3*B100)<A!J$4,A!J$2+A!J$3*B100,A!J$4)","v":3038.9994704232167},{"$f":"IF(B100<A!K$4,A!K$2+A!K$3*(3*B100/(2*A!K$4)-0.5*(B100/A!K$4)^3),A!K$3+A!K$2)","v":3046.3185793516691},{"$f":"(C100*A!$G$5+'C'!D100*A!$H$5+'C'!E100*A!$I$5+'C'!F100*A!$J$5+'C'!G100*A!$K$5)/SUM(A!$G$5:$K$5)","v":3053.5914487220252}]
[114,114,{"$f":"A!G$2+A!G$3*B101+A!G$4*B101^2","v":3055.2575548218019},{"$f":"IF(B101<(A!H$3/(-2*A!H$4)),A!H$2+A!H$3*B101+A!H$4*B101^2,A!H$2+A!H$3*(A!H$3/(-2*A!H$4))+A!H$3*A!H$3/(4*A!H$4))","v":3056.137947013649},{"$f":"A!I$2+A!I$3*EXP(A!I$4*B101)","v":3065.3109967057603},{"$f":"IF((A!J$2+A!J$3*B101)<A!J$4,A!J$2+A!J$3*B101,A!J$4)","v":3038.9994704232167},{"$f":"IF(B101<A!K$4,A!K$2+A!K$3*(3*B101/(2*A!K$4)-0.5*(B101/A!K$4)^3),A!K$3+A!K$2)","v":3046.3185793516691},{"$f":"(C101*A!$G$5+'C'!D101*A!$H$5+'C'!E101*A!$I$5+'C'!F101*A!$J$5+'C'!G101*A!$K$5)/SUM(A!$G$5:$K$5)","v":3052.4298566287871}]
[116,116,{"$f":"A!G$2+A!G$3*B102+A!G$4*B102^2","v":3047.9546938349404},{"$f":"IF(B102<(A!H$3/(-2*A!H$4)),A!H$2+A!H$3*B102+A!H$4*B102^2,A!H$2+A!H$3*(A!H$3/(-2*A!H$4))+A!H$3*A!H$3/(4*A!H$4))","v":3056.137947013649},{"$f":"A!I$2+A!I$3*EXP(A!I$4*B102)","v":3066.1339815373831},{"$f":"IF((A!J$2+A!J$3*B102)<A!J$4,A!J$2+A!J$3*B102,A!J$4)","v":3038.9994704232167},{"$f":"IF(B102<A!K$4,A!K$2+A!K$3*(3*B102/(2*A!K$4)-0.5*(B102/A!K$4)^3),A!K$3+A!K$2)","v":3046.3185793516691},{"$f":"(C102*A!$G$5+'C'!D102*A!$H$5+'C'!E102*A!$I$5+'C'!F102*A!$J$5+'C'!G102*A!$K$5)/SUM(A!$G$5:$K$5)","v":3051.1319276908257}]
[118,118,{"$f":"A!G$2+A!G$3*B103+A!G$4*B103^2","v":3040.0308797743214},{"$f":"IF(B103<(A!H$3/(-2*A!H$4)),A!H$2+A!H$3*B103+A!H$4*B103^2,A!H$2+A!H$3*(A!H$3/(-2*A!H$4))+A!H$3*A!H$3/(4*A!H$4))","v":3056.137947013649},{"$f":"A!I$2+A!I$3*EXP(A!I$4*B103)","v":3066.9015278415463},{"$f":"IF((A!J$2+A!J$3*B103)<A!J$4,A!J$2+A!J$3*B103,A!J$4)","v":3038.9994704232167},{"$f":"IF(B103<A!K$4,A!K$2+A!K$3*(3*B103/(2*A!K$4)-0.5*(B103/A!K$4)^3),A!K$3+A!K$2)","v":3046.3185793516691},{"$f":"(C103*A!$G$5+'C'!D103*A!$H$5+'C'!E103*A!$I$5+'C'!F103*A!$J$5+'C'!G103*A!$K$5)/SUM(A!$G$5:$K$5)","v":3049.6984655864926}]
[120,120,{"$f":"A!G$2+A!G$3*B104+A!G$4*B104^2","v":3031.4861126399446},{"$f":"IF(B104<(A!H$3/(-2*A!H$4)),A!H$2+A!H$3*B104+A!H$4*B104^2,A!H$2+A!H$3*(A!H$3/(-2*A!H$4))+A!H$3*A!H$3/(4*A!H$4))","v":3056.137947013649},{"$f":"A!I$2+A!I$3*EXP(A!I$4*B104)","v":3067.6173701103194},{"$f":"IF((A!J$2+A!J$3*B104)<A!J$4,A!J$2+A!J$3*B104,A!J$4)","v":3038.9994704232167},{"$f":"IF(B104<A!K$4,A!K$2+A!K$3*(3*B104/(2*A!K$4)-0.5*(B104/A!K$4)^3),A!K$3+A!K$2)","v":3046.3185793516691},{"$f":"(C104*A!$G$5+'C'!D104*A!$H$5+'C'!E104*A!$I$5+'C'!F104*A!$J$5+'C'!G104*A!$K$5)/SUM(A!$G$5:$K$5)","v":3048.1302198561516}]
[122,120,{"$f":"A!G$2+A!G$3*B105+A!G$4*B105^2","v":3031.4861126399446},{"$f":"IF(B105<(A!H$3/(-2*A!H$4)),A!H$2+A!H$3*B105+A!H$4*B105^2,A!H$2+A!H$3*(A!H$3/(-2*A!H$4))+A!H$3*A!H$3/(4*A!H$4))","v":3056.137947013649},{"$f":"A!I$2+A!I$3*EXP(A!I$4*B105)","v":3067.6173701103194},{"$f":"IF((A!J$2+A!J$3*B105)<A!J$4,A!J$2+A!J$3*B105,A!J$4)","v":3038.9994704232167},{"$f":"IF(B105<A!K$4,A!K$2+A!K$3*(3*B105/(2*A!K$4)-0.5*(B105/A!K$4)^3),A!K$3+A!K$2)","v":3046.3185793516691},{"$f":"(C105*A!$G$5+'C'!D105*A!$H$5+'C'!E105*A!$I$5+'C'!F105*A!$J$5+'C'!G105*A!$K$5)/SUM(A!$G$5:$K$5)","v":3048.1302198561516}]
[124,120,{"$f":"A!G$2+A!G$3*B106+A!G$4*B106^2","v":3031.4861126399446},{"$f":"IF(B106<(A!H$3/(-2*A!H$4)),A!H$2+A!H$3*B106+A!H$4*B106^2,A!H$2+A!H$3*(A!H$3/(-2*A!H$4))+A!H$3*A!H$3/(4*A!H$4))","v":3056.137947013649},{"$f":"A!I$2+A!I$3*EXP(A!I$4*B106)","v":3067.6173701103194},{"$f":"IF((A!J$2+A!J$3*B106)<A!J$4,A!J$2+A!J$3*B106,A!J$4)","v":3038.9994704232167},{"$f":"IF(B106<A!K$4,A!K$2+A!K$3*(3*B106/(2*A!K$4)-0.5*(B106/A!K$4)^3),A!K$3+A!K$2)","v":3046.3185793516691},{"$f":"(C106*A!$G$5+'C'!D106*A!$H$5+'C'!E106*A!$I$5+'C'!F106*A!$J$5+'C'!G106*A!$K$5)/SUM(A!$G$5:$K$5)","v":3048.1302198561516}]
[126,120,{"$f":"A!G$2+A!G$3*B107+A!G$4*B107^2","v":3031.4861126399446},{"$f":"IF(B107<(A!H$3/(-2*A!H$4)),A!H$2+A!H$3*B107+A!H$4*B107^2,A!H$2+A!H$3*(A!H$3/(-2*A!H$4))+A!H$3*A!H$3/(4*A!H$4))","v":3056.137947013649},{"$f":"A!I$2+A!I$3*EXP(A!I$4*B107)","v":3067.6173701103194},{"$f":"IF((A!J$2+A!J$3*B107)<A!J$4,A!J$2+A!J$3*B107,A!J$4)","v":3038.9994704232167},{"$f":"IF(B107<A!K$4,A!K$2+A!K$3*(3*B107/(2*A!K$4)-0.5*(B107/A!K$4)^3),A!K$3+A!K$2)","v":3046.3185793516691},{"$f":"(C107*A!$G$5+'C'!D107*A!$H$5+'C'!E107*A!$I$5+'C'!F107*A!$J$5+'C'!G107*A!$K$5)/SUM(A!$G$5:$K$5)","v":3048.1302198561516}]
[128,120,{"$f":"A!G$2+A!G$3*B108+A!G$4*B108^2","v":3031.4861126399446},{"$f":"IF(B108<(A!H$3/(-2*A!H$4)),A!H$2+A!H$3*B108+A!H$4*B108^2,A!H$2+A!H$3*(A!H$3/(-2*A!H$4))+A!H$3*A!H$3/(4*A!H$4))","v":3056.137947013649},{"$f":"A!I$2+A!I$3*EXP(A!I$4*B108)","v":3067.6173701103194},{"$f":"IF((A!J$2+A!J$3*B108)<A!J$4,A!J$2+A!J$3*B108,A!J$4)","v":3038.9994704232167},{"$f":"IF(B108<A!K$4,A!K$2+A!K$3*(3*B108/(2*A!K$4)-0.5*(B108/A!K$4)^3),A!K$3+A!K$2)","v":3046.3185793516691},{"$f":"(C108*A!$G$5+'C'!D108*A!$H$5+'C'!E108*A!$I$5+'C'!F108*A!$J$5+'C'!G108*A!$K$5)/SUM(A!$G$5:$K$5)","v":3048.1302198561516}]
[130,{"$f":"IF(A109<MAX($M$44),A109,MAX($M$44))","v":120},{"$f":"A!G$2+A!G$3*B109+A!G$4*B109^2","v":3031.4861126399446},{"$f":"IF(B109<(A!H$3/(-2*A!H$4)),A!H$2+A!H$3*B109+A!H$4*B109^2,A!H$2+A!H$3*(A!H$3/(-2*A!H$4))+A!H$3*A!H$3/(4*A!H$4))","v":3056.137947013649},{"$f":"A!I$2+A!I$3*EXP(A!I$4*B109)","v":3067.6173701103194},{"$f":"IF((A!J$2+A!J$3*B109)<A!J$4,A!J$2+A!J$3*B109,A!J$4)","v":3038.9994704232167},{"$f":"IF(B109<A!K$4,A!K$2+A!K$3*(3*B109/(2*A!K$4)-0.5*(B109/A!K$4)^3),A!K$3+A!K$2)","v":3046.3185793516691},{"$f":"(C109*A!$G$5+'C'!D109*A!$H$5+'C'!E109*A!$I$5+'C'!F109*A!$J$5+'C'!G109*A!$K$5)/SUM(A!$G$5:$K$5)","v":3048.1302198561516}]
[132,120,{"$f":"A!G$2+A!G$3*B110+A!G$4*B110^2","v":3031.4861126399446},{"$f":"IF(B110<(A!H$3/(-2*A!H$4)),A!H$2+A!H$3*B110+A!H$4*B110^2,A!H$2+A!H$3*(A!H$3/(-2*A!H$4))+A!H$3*A!H$3/(4*A!H$4))","v":3056.137947013649},{"$f":"A!I$2+A!I$3*EXP(A!I$4*B110)","v":3067.6173701103194},{"$f":"IF((A!J$2+A!J$3*B110)<A!J$4,A!J$2+A!J$3*B110,A!J$4)","v":3038.9994704232167},{"$f":"IF(B110<A!K$4,A!K$2+A!K$3*(3*B110/(2*A!K$4)-0.5*(B110/A!K$4)^3),A!K$3+A!K$2)","v":3046.3185793516691},{"$f":"(C110*A!$G$5+'C'!D110*A!$H$5+'C'!E110*A!$I$5+'C'!F110*A!$J$5+'C'!G110*A!$K$5)/SUM(A!$G$5:$K$5)","v":3048.1302198561516}]
[134,120,{"$f":"A!G$2+A!G$3*B111+A!G$4*B111^2","v":3031.4861126399446},{"$f":"IF(B111<(A!H$3/(-2*A!H$4)),A!H$2+A!H$3*B111+A!H$4*B111^2,A!H$2+A!H$3*(A!H$3/(-2*A!H$4))+A!H$3*A!H$3/(4*A!H$4))","v":3056.137947013649},{"$f":"A!I$2+A!I$3*EXP(A!I$4*B111)","v":3067.6173701103194},{"$f":"IF((A!J$2+A!J$3*B111)<A!J$4,A!J$2+A!J$3*B111,A!J$4)","v":3038.9994704232167},{"$f":"IF(B111<A!K$4,A!K$2+A!K$3*(3*B111/(2*A!K$4)-0.5*(B111/A!K$4)^3),A!K$3+A!K$2)","v":3046.3185793516691},{"$f":"(C111*A!$G$5+'C'!D111*A!$H$5+'C'!E111*A!$I$5+'C'!F111*A!$J$5+'C'!G111*A!$K$5)/SUM(A!$G$5:$K$5)","v":3048.1302198561516}]
[136,120,{"$f":"A!G$2+A!G$3*B112+A!G$4*B112^2","v":3031.4861126399446},{"$f":"IF(B112<(A!H$3/(-2*A!H$4)),A!H$2+A!H$3*B112+A!H$4*B112^2,A!H$2+A!H$3*(A!H$3/(-2*A!H$4))+A!H$3*A!H$3/(4*A!H$4))","v":3056.137947013649},{"$f":"A!I$2+A!I$3*EXP(A!I$4*B112)","v":3067.6173701103194},{"$f":"IF((A!J$2+A!J$3*B112)<A!J$4,A!J$2+A!J$3*B112,A!J$4)","v":3038.9994704232167},{"$f":"IF(B112<A!K$4,A!K$2+A!K$3*(3*B112/(2*A!K$4)-0.5*(B112/A!K$4)^3),A!K$3+A!K$2)","v":3046.3185793516691},{"$f":"(C112*A!$G$5+'C'!D112*A!$H$5+'C'!E112*A!$I$5+'C'!F112*A!$J$5+'C'!G112*A!$K$5)/SUM(A!$G$5:$K$5)","v":3048.1302198561516}]
[138,120,{"$f":"A!G$2+A!G$3*B113+A!G$4*B113^2","v":3031.4861126399446},{"$f":"IF(B113<(A!H$3/(-2*A!H$4)),A!H$2+A!H$3*B113+A!H$4*B113^2,A!H$2+A!H$3*(A!H$3/(-2*A!H$4))+A!H$3*A!H$3/(4*A!H$4))","v":3056.137947013649},{"$f":"A!I$2+A!I$3*EXP(A!I$4*B113)","v":3067.6173701103194},{"$f":"IF((A!J$2+A!J$3*B113)<A!J$4,A!J$2+A!J$3*B113,A!J$4)","v":3038.9994704232167},{"$f":"IF(B113<A!K$4,A!K$2+A!K$3*(3*B113/(2*A!K$4)-0.5*(B113/A!K$4)^3),A!K$3+A!K$2)","v":3046.3185793516691},{"$f":"(C113*A!$G$5+'C'!D113*A!$H$5+'C'!E113*A!$I$5+'C'!F113*A!$J$5+'C'!G113*A!$K$5)/SUM(A!$G$5:$K$5)","v":3048.1302198561516}]
[140,120,{"$f":"A!G$2+A!G$3*B114+A!G$4*B114^2","v":3031.4861126399446},{"$f":"IF(B114<(A!H$3/(-2*A!H$4)),A!H$2+A!H$3*B114+A!H$4*B114^2,A!H$2+A!H$3*(A!H$3/(-2*A!H$4))+A!H$3*A!H$3/(4*A!H$4))","v":3056.137947013649},{"$f":"A!I$2+A!I$3*EXP(A!I$4*B114)","v":3067.6173701103194},{"$f":"IF((A!J$2+A!J$3*B114)<A!J$4,A!J$2+A!J$3*B114,A!J$4)","v":3038.9994704232167},{"$f":"IF(B114<A!K$4,A!K$2+A!K$3*(3*B114/(2*A!K$4)-0.5*(B114/A!K$4)^3),A!K$3+A!K$2)","v":3046.3185793516691},{"$f":"(C114*A!$G$5+'C'!D114*A!$H$5+'C'!E114*A!$I$5+'C'!F114*A!$J$5+'C'!G114*A!$K$5)/SUM(A!$G$5:$K$5)","v":3048.1302198561516}]
[142,120,{"$f":"A!G$2+A!G$3*B115+A!G$4*B115^2","v":3031.4861126399446},{"$f":"IF(B115<(A!H$3/(-2*A!H$4)),A!H$2+A!H$3*B115+A!H$4*B115^2,A!H$2+A!H$3*(A!H$3/(-2*A!H$4))+A!H$3*A!H$3/(4*A!H$4))","v":3056.137947013649},{"$f":"A!I$2+A!I$3*EXP(A!I$4*B115)","v":3067.6173701103194},{"$f":"IF((A!J$2+A!J$3*B115)<A!J$4,A!J$2+A!J$3*B115,A!J$4)","v":3038.9994704232167},{"$f":"IF(B115<A!K$4,A!K$2+A!K$3*(3*B115/(2*A!K$4)-0.5*(B115/A!K$4)^3),A!K$3+A!K$2)","v":3046.3185793516691},{"$f":"(C115*A!$G$5+'C'!D115*A!$H$5+'C'!E115*A!$I$5+'C'!F115*A!$J$5+'C'!G115*A!$K$5)/SUM(A!$G$5:$K$5)","v":3048.1302198561516}]
[144,120,{"$f":"A!G$2+A!G$3*B116+A!G$4*B116^2","v":3031.4861126399446},{"$f":"IF(B116<(A!H$3/(-2*A!H$4)),A!H$2+A!H$3*B116+A!H$4*B116^2,A!H$2+A!H$3*(A!H$3/(-2*A!H$4))+A!H$3*A!H$3/(4*A!H$4))","v":3056.137947013649},{"$f":"A!I$2+A!I$3*EXP(A!I$4*B116)","v":3067.6173701103194},{"$f":"IF((A!J$2+A!J$3*B116)<A!J$4,A!J$2+A!J$3*B116,A!J$4)","v":3038.9994704232167},{"$f":"IF(B116<A!K$4,A!K$2+A!K$3*(3*B116/(2*A!K$4)-0.5*(B116/A!K$4)^3),A!K$3+A!K$2)","v":3046.3185793516691},{"$f":"(C116*A!$G$5+'C'!D116*A!$H$5+'C'!E116*A!$I$5+'C'!F116*A!$J$5+'C'!G116*A!$K$5)/SUM(A!$G$5:$K$5)","v":3048.1302198561516}]
[146,120,{"$f":"A!G$2+A!G$3*B117+A!G$4*B117^2","v":3031.4861126399446},{"$f":"IF(B117<(A!H$3/(-2*A!H$4)),A!H$2+A!H$3*B117+A!H$4*B117^2,A!H$2+A!H$3*(A!H$3/(-2*A!H$4))+A!H$3*A!H$3/(4*A!H$4))","v":3056.137947013649},{"$f":"A!I$2+A!I$3*EXP(A!I$4*B117)","v":3067.6173701103194},{"$f":"IF((A!J$2+A!J$3*B117)<A!J$4,A!J$2+A!J$3*B117,A!J$4)","v":3038.9994704232167},{"$f":"IF(B117<A!K$4,A!K$2+A!K$3*(3*B117/(2*A!K$4)-0.5*(B117/A!K$4)^3),A!K$3+A!K$2)","v":3046.3185793516691},{"$f":"(C117*A!$G$5+'C'!D117*A!$H$5+'C'!E117*A!$I$5+'C'!F117*A!$J$5+'C'!G117*A!$K$5)/SUM(A!$G$5:$K$5)","v":3048.1302198561516}]
[148,120,{"$f":"A!G$2+A!G$3*B118+A!G$4*B118^2","v":3031.4861126399446},{"$f":"IF(B118<(A!H$3/(-2*A!H$4)),A!H$2+A!H$3*B118+A!H$4*B118^2,A!H$2+A!H$3*(A!H$3/(-2*A!H$4))+A!H$3*A!H$3/(4*A!H$4))","v":3056.137947013649},{"$f":"A!I$2+A!I$3*EXP(A!I$4*B118)","v":3067.6173701103194},{"$f":"IF((A!J$2+A!J$3*B118)<A!J$4,A!J$2+A!J$3*B118,A!J$4)","v":3038.9994704232167},{"$f":"IF(B118<A!K$4,A!K$2+A!K$3*(3*B118/(2*A!K$4)-0.5*(B118/A!K$4)^3),A!K$3+A!K$2)","v":3046.3185793516691},{"$f":"(C118*A!$G$5+'C'!D118*A!$H$5+'C'!E118*A!$I$5+'C'!F118*A!$J$5+'C'!G118*A!$K$5)/SUM(A!$G$5:$K$5)","v":3048.1302198561516}]
[150,120,{"$f":"A!G$2+A!G$3*B119+A!G$4*B119^2","v":3031.4861126399446},{"$f":"IF(B119<(A!H$3/(-2*A!H$4)),A!H$2+A!H$3*B119+A!H$4*B119^2,A!H$2+A!H$3*(A!H$3/(-2*A!H$4))+A!H$3*A!H$3/(4*A!H$4))","v":3056.137947013649},{"$f":"A!I$2+A!I$3*EXP(A!I$4*B119)","v":3067.6173701103194},{"$f":"IF((A!J$2+A!J$3*B119)<A!J$4,A!J$2+A!J$3*B119,A!J$4)","v":3038.9994704232167},{"$f":"IF(B119<A!K$4,A!K$2+A!K$3*(3*B119/(2*A!K$4)-0.5*(B119/A!K$4)^3),A!K$3+A!K$2)","v":3046.3185793516691},{"$f":"(C119*A!$G$5+'C'!D119*A!$H$5+'C'!E119*A!$I$5+'C'!F119*A!$J$5+'C'!G119*A!$K$5)/SUM(A!$G$5:$K$5)","v":3048.1302198561516}]
[152,120,{"$f":"A!G$2+A!G$3*B120+A!G$4*B120^2","v":3031.4861126399446},{"$f":"IF(B120<(A!H$3/(-2*A!H$4)),A!H$2+A!H$3*B120+A!H$4*B120^2,A!H$2+A!H$3*(A!H$3/(-2*A!H$4))+A!H$3*A!H$3/(4*A!H$4))","v":3056.137947013649},{"$f":"A!I$2+A!I$3*EXP(A!I$4*B120)","v":3067.6173701103194},{"$f":"IF((A!J$2+A!J$3*B120)<A!J$4,A!J$2+A!J$3*B120,A!J$4)","v":3038.9994704232167},{"$f":"IF(B120<A!K$4,A!K$2+A!K$3*(3*B120/(2*A!K$4)-0.5*(B120/A!K$4)^3),A!K$3+A!K$2)","v":3046.3185793516691},{"$f":"(C120*A!$G$5+'C'!D120*A!$H$5+'C'!E120*A!$I$5+'C'!F120*A!$J$5+'C'!G120*A!$K$5)/SUM(A!$G$5:$K$5)","v":3048.1302198561516}]
[154,120,{"$f":"A!G$2+A!G$3*B121+A!G$4*B121^2","v":3031.4861126399446},{"$f":"IF(B121<(A!H$3/(-2*A!H$4)),A!H$2+A!H$3*B121+A!H$4*B121^2,A!H$2+A!H$3*(A!H$3/(-2*A!H$4))+A!H$3*A!H$3/(4*A!H$4))","v":3056.137947013649},{"$f":"A!I$2+A!I$3*EXP(A!I$4*B121)","v":3067.6173701103194},{"$f":"IF((A!J$2+A!J$3*B121)<A!J$4,A!J$2+A!J$3*B121,A!J$4)","v":3038.9994704232167},{"$f":"IF(B121<A!K$4,A!K$2+A!K$3*(3*B121/(2*A!K$4)-0.5*(B121/A!K$4)^3),A!K$3+A!K$2)","v":3046.3185793516691},{"$f":"(C121*A!$G$5+'C'!D121*A!$H$5+'C'!E121*A!$I$5+'C'!F121*A!$J$5+'C'!G121*A!$K$5)/SUM(A!$G$5:$K$5)","v":3048.1302198561516}]
[156,120,{"$f":"A!G$2+A!G$3*B122+A!G$4*B122^2","v":3031.4861126399446},{"$f":"IF(B122<(A!H$3/(-2*A!H$4)),A!H$2+A!H$3*B122+A!H$4*B122^2,A!H$2+A!H$3*(A!H$3/(-2*A!H$4))+A!H$3*A!H$3/(4*A!H$4))","v":3056.137947013649},{"$f":"A!I$2+A!I$3*EXP(A!I$4*B122)","v":3067.6173701103194},{"$f":"IF((A!J$2+A!J$3*B122)<A!J$4,A!J$2+A!J$3*B122,A!J$4)","v":3038.9994704232167},{"$f":"IF(B122<A!K$4,A!K$2+A!K$3*(3*B122/(2*A!K$4)-0.5*(B122/A!K$4)^3),A!K$3+A!K$2)","v":3046.3185793516691},{"$f":"(C122*A!$G$5+'C'!D122*A!$H$5+'C'!E122*A!$I$5+'C'!F122*A!$J$5+'C'!G122*A!$K$5)/SUM(A!$G$5:$K$5)","v":3048.1302198561516}]
[158,120,{"$f":"A!G$2+A!G$3*B123+A!G$4*B123^2","v":3031.4861126399446},{"$f":"IF(B123<(A!H$3/(-2*A!H$4)),A!H$2+A!H$3*B123+A!H$4*B123^2,A!H$2+A!H$3*(A!H$3/(-2*A!H$4))+A!H$3*A!H$3/(4*A!H$4))","v":3056.137947013649},{"$f":"A!I$2+A!I$3*EXP(A!I$4*B123)","v":3067.6173701103194},{"$f":"IF((A!J$2+A!J$3*B123)<A!J$4,A!J$2+A!J$3*B123,A!J$4)","v":3038.9994704232167},{"$f":"IF(B123<A!K$4,A!K$2+A!K$3*(3*B123/(2*A!K$4)-0.5*(B123/A!K$4)^3),A!K$3+A!K$2)","v":3046.3185793516691},{"$f":"(C123*A!$G$5+'C'!D123*A!$H$5+'C'!E123*A!$I$5+'C'!F123*A!$J$5+'C'!G123*A!$K$5)/SUM(A!$G$5:$K$5)","v":3048.1302198561516}]
[160,120,{"$f":"A!G$2+A!G$3*B124+A!G$4*B124^2","v":3031.4861126399446},{"$f":"IF(B124<(A!H$3/(-2*A!H$4)),A!H$2+A!H$3*B124+A!H$4*B124^2,A!H$2+A!H$3*(A!H$3/(-2*A!H$4))+A!H$3*A!H$3/(4*A!H$4))","v":3056.137947013649},{"$f":"A!I$2+A!I$3*EXP(A!I$4*B124)","v":3067.6173701103194},{"$f":"IF((A!J$2+A!J$3*B124)<A!J$4,A!J$2+A!J$3*B124,A!J$4)","v":3038.9994704232167},{"$f":"IF(B124<A!K$4,A!K$2+A!K$3*(3*B124/(2*A!K$4)-0.5*(B124/A!K$4)^3),A!K$3+A!K$2)","v":3046.3185793516691},{"$f":"(C124*A!$G$5+'C'!D124*A!$H$5+'C'!E124*A!$I$5+'C'!F124*A!$J$5+'C'!G124*A!$K$5)/SUM(A!$G$5:$K$5)","v":3048.1302198561516}]
[162,120,{"$f":"A!G$2+A!G$3*B125+A!G$4*B125^2","v":3031.4861126399446},{"$f":"IF(B125<(A!H$3/(-2*A!H$4)),A!H$2+A!H$3*B125+A!H$4*B125^2,A!H$2+A!H$3*(A!H$3/(-2*A!H$4))+A!H$3*A!H$3/(4*A!H$4))","v":3056.137947013649},{"$f":"A!I$2+A!I$3*EXP(A!I$4*B125)","v":3067.6173701103194},{"$f":"IF((A!J$2+A!J$3*B125)<A!J$4,A!J$2+A!J$3*B125,A!J$4)","v":3038.9994704232167},{"$f":"IF(B125<A!K$4,A!K$2+A!K$3*(3*B125/(2*A!K$4)-0.5*(B125/A!K$4)^3),A!K$3+A!K$2)","v":3046.3185793516691},{"$f":"(C125*A!$G$5+'C'!D125*A!$H$5+'C'!E125*A!$I$5+'C'!F125*A!$J$5+'C'!G125*A!$K$5)/SUM(A!$G$5:$K$5)","v":3048.1302198561516}]
[164,120,{"$f":"A!G$2+A!G$3*B126+A!G$4*B126^2","v":3031.4861126399446},{"$f":"IF(B126<(A!H$3/(-2*A!H$4)),A!H$2+A!H$3*B126+A!H$4*B126^2,A!H$2+A!H$3*(A!H$3/(-2*A!H$4))+A!H$3*A!H$3/(4*A!H$4))","v":3056.137947013649},{"$f":"A!I$2+A!I$3*EXP(A!I$4*B126)","v":3067.6173701103194},{"$f":"IF((A!J$2+A!J$3*B126)<A!J$4,A!J$2+A!J$3*B126,A!J$4)","v":3038.9994704232167},{"$f":"IF(B126<A!K$4,A!K$2+A!K$3*(3*B126/(2*A!K$4)-0.5*(B126/A!K$4)^3),A!K$3+A!K$2)","v":3046.3185793516691},{"$f":"(C126*A!$G$5+'C'!D126*A!$H$5+'C'!E126*A!$I$5+'C'!F126*A!$J$5+'C'!G126*A!$K$5)/SUM(A!$G$5:$K$5)","v":3048.1302198561516}]
[166,120,{"$f":"A!G$2+A!G$3*B127+A!G$4*B127^2","v":3031.4861126399446},{"$f":"IF(B127<(A!H$3/(-2*A!H$4)),A!H$2+A!H$3*B127+A!H$4*B127^2,A!H$2+A!H$3*(A!H$3/(-2*A!H$4))+A!H$3*A!H$3/(4*A!H$4))","v":3056.137947013649},{"$f":"A!I$2+A!I$3*EXP(A!I$4*B127)","v":3067.6173701103194},{"$f":"IF((A!J$2+A!J$3*B127)<A!J$4,A!J$2+A!J$3*B127,A!J$4)","v":3038.9994704232167},{"$f":"IF(B127<A!K$4,A!K$2+A!K$3*(3*B127/(2*A!K$4)-0.5*(B127/A!K$4)^3),A!K$3+A!K$2)","v":3046.3185793516691},{"$f":"(C127*A!$G$5+'C'!D127*A!$H$5+'C'!E127*A!$I$5+'C'!F127*A!$J$5+'C'!G127*A!$K$5)/SUM(A!$G$5:$K$5)","v":3048.1302198561516}]
[168,120,{"$f":"A!G$2+A!G$3*B128+A!G$4*B128^2","v":3031.4861126399446},{"$f":"IF(B128<(A!H$3/(-2*A!H$4)),A!H$2+A!H$3*B128+A!H$4*B128^2,A!H$2+A!H$3*(A!H$3/(-2*A!H$4))+A!H$3*A!H$3/(4*A!H$4))","v":3056.137947013649},{"$f":"A!I$2+A!I$3*EXP(A!I$4*B128)","v":3067.6173701103194},{"$f":"IF((A!J$2+A!J$3*B128)<A!J$4,A!J$2+A!J$3*B128,A!J$4)","v":3038.9994704232167},{"$f":"IF(B128<A!K$4,A!K$2+A!K$3*(3*B128/(2*A!K$4)-0.5*(B128/A!K$4)^3),A!K$3+A!K$2)","v":3046.3185793516691},{"$f":"(C128*A!$G$5+'C'!D128*A!$H$5+'C'!E128*A!$I$5+'C'!F128*A!$J$5+'C'!G128*A!$K$5)/SUM(A!$G$5:$K$5)","v":3048.1302198561516}]
[170,120,{"$f":"A!G$2+A!G$3*B129+A!G$4*B129^2","v":3031.4861126399446},{"$f":"IF(B129<(A!H$3/(-2*A!H$4)),A!H$2+A!H$3*B129+A!H$4*B129^2,A!H$2+A!H$3*(A!H$3/(-2*A!H$4))+A!H$3*A!H$3/(4*A!H$4))","v":3056.137947013649},{"$f":"A!I$2+A!I$3*EXP(A!I$4*B129)","v":3067.6173701103194},{"$f":"IF((A!J$2+A!J$3*B129)<A!J$4,A!J$2+A!J$3*B129,A!J$4)","v":3038.9994704232167},{"$f":"IF(B129<A!K$4,A!K$2+A!K$3*(3*B129/(2*A!K$4)-0.5*(B129/A!K$4)^3),A!K$3+A!K$2)","v":3046.3185793516691},{"$f":"(C129*A!$G$5+'C'!D129*A!$H$5+'C'!E129*A!$I$5+'C'!F129*A!$J$5+'C'!G129*A!$K$5)/SUM(A!$G$5:$K$5)","v":3048.1302198561516}]
[172,120,{"$f":"A!G$2+A!G$3*B130+A!G$4*B130^2","v":3031.4861126399446},{"$f":"IF(B130<(A!H$3/(-2*A!H$4)),A!H$2+A!H$3*B130+A!H$4*B130^2,A!H$2+A!H$3*(A!H$3/(-2*A!H$4))+A!H$3*A!H$3/(4*A!H$4))","v":3056.137947013649},{"$f":"A!I$2+A!I$3*EXP(A!I$4*B130)","v":3067.6173701103194},{"$f":"IF((A!J$2+A!J$3*B130)<A!J$4,A!J$2+A!J$3*B130,A!J$4)","v":3038.9994704232167},{"$f":"IF(B130<A!K$4,A!K$2+A!K$3*(3*B130/(2*A!K$4)-0.5*(B130/A!K$4)^3),A!K$3+A!K$2)","v":3046.3185793516691},{"$f":"(C130*A!$G$5+'C'!D130*A!$H$5+'C'!E130*A!$I$5+'C'!F130*A!$J$5+'C'!G130*A!$K$5)/SUM(A!$G$5:$K$5)","v":3048.1302198561516}]
[174,120,{"$f":"A!G$2+A!G$3*B131+A!G$4*B131^2","v":3031.4861126399446},{"$f":"IF(B131<(A!H$3/(-2*A!H$4)),A!H$2+A!H$3*B131+A!H$4*B131^2,A!H$2+A!H$3*(A!H$3/(-2*A!H$4))+A!H$3*A!H$3/(4*A!H$4))","v":3056.137947013649},{"$f":"A!I$2+A!I$3*EXP(A!I$4*B131)","v":3067.6173701103194},{"$f":"IF((A!J$2+A!J$3*B131)<A!J$4,A!J$2+A!J$3*B131,A!J$4)","v":3038.9994704232167},{"$f":"IF(B131<A!K$4,A!K$2+A!K$3*(3*B131/(2*A!K$4)-0.5*(B131/A!K$4)^3),A!K$3+A!K$2)","v":3046.3185793516691},{"$f":"(C131*A!$G$5+'C'!D131*A!$H$5+'C'!E131*A!$I$5+'C'!F131*A!$J$5+'C'!G131*A!$K$5)/SUM(A!$G$5:$K$5)","v":3048.1302198561516}]
[176,120,{"$f":"A!G$2+A!G$3*B132+A!G$4*B132^2","v":3031.4861126399446},{"$f":"IF(B132<(A!H$3/(-2*A!H$4)),A!H$2+A!H$3*B132+A!H$4*B132^2,A!H$2+A!H$3*(A!H$3/(-2*A!H$4))+A!H$3*A!H$3/(4*A!H$4))","v":3056.137947013649},{"$f":"A!I$2+A!I$3*EXP(A!I$4*B132)","v":3067.6173701103194},{"$f":"IF((A!J$2+A!J$3*B132)<A!J$4,A!J$2+A!J$3*B132,A!J$4)","v":3038.9994704232167},{"$f":"IF(B132<A!K$4,A!K$2+A!K$3*(3*B132/(2*A!K$4)-0.5*(B132/A!K$4)^3),A!K$3+A!K$2)","v":3046.3185793516691},{"$f":"(C132*A!$G$5+'C'!D132*A!$H$5+'C'!E132*A!$I$5+'C'!F132*A!$J$5+'C'!G132*A!$K$5)/SUM(A!$G$5:$K$5)","v":3048.1302198561516}]
[178,120,{"$f":"A!G$2+A!G$3*B133+A!G$4*B133^2","v":3031.4861126399446},{"$f":"IF(B133<(A!H$3/(-2*A!H$4)),A!H$2+A!H$3*B133+A!H$4*B133^2,A!H$2+A!H$3*(A!H$3/(-2*A!H$4))+A!H$3*A!H$3/(4*A!H$4))","v":3056.137947013649},{"$f":"A!I$2+A!I$3*EXP(A!I$4*B133)","v":3067.6173701103194},{"$f":"IF((A!J$2+A!J$3*B133)<A!J$4,A!J$2+A!J$3*B133,A!J$4)","v":3038.9994704232167},{"$f":"IF(B133<A!K$4,A!K$2+A!K$3*(3*B133/(2*A!K$4)-0.5*(B133/A!K$4)^3),A!K$3+A!K$2)","v":3046.3185793516691},{"$f":"(C133*A!$G$5+'C'!D133*A!$H$5+'C'!E133*A!$I$5+'C'!F133*A!$J$5+'C'!G133*A!$K$5)/SUM(A!$G$5:$K$5)","v":3048.1302198561516}]
[180,120,{"$f":"A!G$2+A!G$3*B134+A!G$4*B134^2","v":3031.4861126399446},{"$f":"IF(B134<(A!H$3/(-2*A!H$4)),A!H$2+A!H$3*B134+A!H$4*B134^2,A!H$2+A!H$3*(A!H$3/(-2*A!H$4))+A!H$3*A!H$3/(4*A!H$4))","v":3056.137947013649},{"$f":"A!I$2+A!I$3*EXP(A!I$4*B134)","v":3067.6173701103194},{"$f":"IF((A!J$2+A!J$3*B134)<A!J$4,A!J$2+A!J$3*B134,A!J$4)","v":3038.9994704232167},{"$f":"IF(B134<A!K$4,A!K$2+A!K$3*(3*B134/(2*A!K$4)-0.5*(B134/A!K$4)^3),A!K$3+A!K$2)","v":3046.3185793516691},{"$f":"(C134*A!$G$5+'C'!D134*A!$H$5+'C'!E134*A!$I$5+'C'!F134*A!$J$5+'C'!G134*A!$K$5)/SUM(A!$G$5:$K$5)","v":3048.1302198561516}]
[182,120,{"$f":"A!G$2+A!G$3*B135+A!G$4*B135^2","v":3031.4861126399446},{"$f":"IF(B135<(A!H$3/(-2*A!H$4)),A!H$2+A!H$3*B135+A!H$4*B135^2,A!H$2+A!H$3*(A!H$3/(-2*A!H$4))+A!H$3*A!H$3/(4*A!H$4))","v":3056.137947013649},{"$f":"A!I$2+A!I$3*EXP(A!I$4*B135)","v":3067.6173701103194},{"$f":"IF((A!J$2+A!J$3*B135)<A!J$4,A!J$2+A!J$3*B135,A!J$4)","v":3038.9994704232167},{"$f":"IF(B135<A!K$4,A!K$2+A!K$3*(3*B135/(2*A!K$4)-0.5*(B135/A!K$4)^3),A!K$3+A!K$2)","v":3046.3185793516691},{"$f":"(C135*A!$G$5+'C'!D135*A!$H$5+'C'!E135*A!$I$5+'C'!F135*A!$J$5+'C'!G135*A!$K$5)/SUM(A!$G$5:$K$5)","v":3048.1302198561516}]
[184,120,{"$f":"A!G$2+A!G$3*B136+A!G$4*B136^2","v":3031.4861126399446},{"$f":"IF(B136<(A!H$3/(-2*A!H$4)),A!H$2+A!H$3*B136+A!H$4*B136^2,A!H$2+A!H$3*(A!H$3/(-2*A!H$4))+A!H$3*A!H$3/(4*A!H$4))","v":3056.137947013649},{"$f":"A!I$2+A!I$3*EXP(A!I$4*B136)","v":3067.6173701103194},{"$f":"IF((A!J$2+A!J$3*B136)<A!J$4,A!J$2+A!J$3*B136,A!J$4)","v":3038.9994704232167},{"$f":"IF(B136<A!K$4,A!K$2+A!K$3*(3*B136/(2*A!K$4)-0.5*(B136/A!K$4)^3),A!K$3+A!K$2)","v":3046.3185793516691},{"$f":"(C136*A!$G$5+'C'!D136*A!$H$5+'C'!E136*A!$I$5+'C'!F136*A!$J$5+'C'!G136*A!$K$5)/SUM(A!$G$5:$K$5)","v":3048.1302198561516}]
[186,120,{"$f":"A!G$2+A!G$3*B137+A!G$4*B137^2","v":3031.4861126399446},{"$f":"IF(B137<(A!H$3/(-2*A!H$4)),A!H$2+A!H$3*B137+A!H$4*B137^2,A!H$2+A!H$3*(A!H$3/(-2*A!H$4))+A!H$3*A!H$3/(4*A!H$4))","v":3056.137947013649},{"$f":"A!I$2+A!I$3*EXP(A!I$4*B137)","v":3067.6173701103194},{"$f":"IF((A!J$2+A!J$3*B137)<A!J$4,A!J$2+A!J$3*B137,A!J$4)","v":3038.9994704232167},{"$f":"IF(B137<A!K$4,A!K$2+A!K$3*(3*B137/(2*A!K$4)-0.5*(B137/A!K$4)^3),A!K$3+A!K$2)","v":3046.3185793516691},{"$f":"(C137*A!$G$5+'C'!D137*A!$H$5+'C'!E137*A!$I$5+'C'!F137*A!$J$5+'C'!G137*A!$K$5)/SUM(A!$G$5:$K$5)","v":3048.1302198561516}]
[188,120,{"$f":"A!G$2+A!G$3*B138+A!G$4*B138^2","v":3031.4861126399446},{"$f":"IF(B138<(A!H$3/(-2*A!H$4)),A!H$2+A!H$3*B138+A!H$4*B138^2,A!H$2+A!H$3*(A!H$3/(-2*A!H$4))+A!H$3*A!H$3/(4*A!H$4))","v":3056.137947013649},{"$f":"A!I$2+A!I$3*EXP(A!I$4*B138)","v":3067.6173701103194},{"$f":"IF((A!J$2+A!J$3*B138)<A!J$4,A!J$2+A!J$3*B138,A!J$4)","v":3038.9994704232167},{"$f":"IF(B138<A!K$4,A!K$2+A!K$3*(3*B138/(2*A!K$4)-0.5*(B138/A!K$4)^3),A!K$3+A!K$2)","v":3046.3185793516691},{"$f":"(C138*A!$G$5+'C'!D138*A!$H$5+'C'!E138*A!$I$5+'C'!F138*A!$J$5+'C'!G138*A!$K$5)/SUM(A!$G$5:$K$5)","v":3048.1302198561516}]
[190,120,{"$f":"A!G$2+A!G$3*B139+A!G$4*B139^2","v":3031.4861126399446},{"$f":"IF(B139<(A!H$3/(-2*A!H$4)),A!H$2+A!H$3*B139+A!H$4*B139^2,A!H$2+A!H$3*(A!H$3/(-2*A!H$4))+A!H$3*A!H$3/(4*A!H$4))","v":3056.137947013649},{"$f":"A!I$2+A!I$3*EXP(A!I$4*B139)","v":3067.6173701103194},{"$f":"IF((A!J$2+A!J$3*B139)<A!J$4,A!J$2+A!J$3*B139,A!J$4)","v":3038.9994704232167},{"$f":"IF(B139<A!K$4,A!K$2+A!K$3*(3*B139/(2*A!K$4)-0.5*(B139/A!K$4)^3),A!K$3+A!K$2)","v":3046.3185793516691},{"$f":"(C139*A!$G$5+'C'!D139*A!$H$5+'C'!E139*A!$I$5+'C'!F139*A!$J$5+'C'!G139*A!$K$5)/SUM(A!$G$5:$K$5)","v":3048.1302198561516}]
[192,120,{"$f":"A!G$2+A!G$3*B140+A!G$4*B140^2","v":3031.4861126399446},{"$f":"IF(B140<(A!H$3/(-2*A!H$4)),A!H$2+A!H$3*B140+A!H$4*B140^2,A!H$2+A!H$3*(A!H$3/(-2*A!H$4))+A!H$3*A!H$3/(4*A!H$4))","v":3056.137947013649},{"$f":"A!I$2+A!I$3*EXP(A!I$4*B140)","v":3067.6173701103194},{"$f":"IF((A!J$2+A!J$3*B140)<A!J$4,A!J$2+A!J$3*B140,A!J$4)","v":3038.9994704232167},{"$f":"IF(B140<A!K$4,A!K$2+A!K$3*(3*B140/(2*A!K$4)-0.5*(B140/A!K$4)^3),A!K$3+A!K$2)","v":3046.3185793516691},{"$f":"(C140*A!$G$5+'C'!D140*A!$H$5+'C'!E140*A!$I$5+'C'!F140*A!$J$5+'C'!G140*A!$K$5)/SUM(A!$G$5:$K$5)","v":3048.1302198561516}]
[194,120,{"$f":"A!G$2+A!G$3*B141+A!G$4*B141^2","v":3031.4861126399446},{"$f":"IF(B141<(A!H$3/(-2*A!H$4)),A!H$2+A!H$3*B141+A!H$4*B141^2,A!H$2+A!H$3*(A!H$3/(-2*A!H$4))+A!H$3*A!H$3/(4*A!H$4))","v":3056.137947013649},{"$f":"A!I$2+A!I$3*EXP(A!I$4*B141)","v":3067.6173701103194},{"$f":"IF((A!J$2+A!J$3*B141)<A!J$4,A!J$2+A!J$3*B141,A!J$4)","v":3038.9994704232167},{"$f":"IF(B141<A!K$4,A!K$2+A!K$3*(3*B141/(2*A!K$4)-0.5*(B141/A!K$4)^3),A!K$3+A!K$2)","v":3046.3185793516691},{"$f":"(C141*A!$G$5+'C'!D141*A!$H$5+'C'!E141*A!$I$5+'C'!F141*A!$J$5+'C'!G141*A!$K$5)/SUM(A!$G$5:$K$5)","v":3048.1302198561516}]
[196,120,{"$f":"A!G$2+A!G$3*B142+A!G$4*B142^2","v":3031.4861126399446},{"$f":"IF(B142<(A!H$3/(-2*A!H$4)),A!H$2+A!H$3*B142+A!H$4*B142^2,A!H$2+A!H$3*(A!H$3/(-2*A!H$4))+A!H$3*A!H$3/(4*A!H$4))","v":3056.137947013649},{"$f":"A!I$2+A!I$3*EXP(A!I$4*B142)","v":3067.6173701103194},{"$f":"IF((A!J$2+A!J$3*B142)<A!J$4,A!J$2+A!J$3*B142,A!J$4)","v":3038.9994704232167},{"$f":"IF(B142<A!K$4,A!K$2+A!K$3*(3*B142/(2*A!K$4)-0.5*(B142/A!K$4)^3),A!K$3+A!K$2)","v":3046.3185793516691},{"$f":"(C142*A!$G$5+'C'!D142*A!$H$5+'C'!E142*A!$I$5+'C'!F142*A!$J$5+'C'!G142*A!$K$5)/SUM(A!$G$5:$K$5)","v":3048.1302198561516}]
[198,120,{"$f":"A!G$2+A!G$3*B143+A!G$4*B143^2","v":3031.4861126399446},{"$f":"IF(B143<(A!H$3/(-2*A!H$4)),A!H$2+A!H$3*B143+A!H$4*B143^2,A!H$2+A!H$3*(A!H$3/(-2*A!H$4))+A!H$3*A!H$3/(4*A!H$4))","v":3056.137947013649},{"$f":"A!I$2+A!I$3*EXP(A!I$4*B143)","v":3067.6173701103194},{"$f":"IF((A!J$2+A!J$3*B143)<A!J$4,A!J$2+A!J$3*B143,A!J$4)","v":3038.9994704232167},{"$f":"IF(B143<A!K$4,A!K$2+A!K$3*(3*B143/(2*A!K$4)-0.5*(B143/A!K$4)^3),A!K$3+A!K$2)","v":3046.3185793516691},{"$f":"(C143*A!$G$5+'C'!D143*A!$H$5+'C'!E143*A!$I$5+'C'!F143*A!$J$5+'C'!G143*A!$K$5)/SUM(A!$G$5:$K$5)","v":3048.1302198561516}]
[200,120,{"$f":"A!G$2+A!G$3*B144+A!G$4*B144^2","v":3031.4861126399446},{"$f":"IF(B144<(A!H$3/(-2*A!H$4)),A!H$2+A!H$3*B144+A!H$4*B144^2,A!H$2+A!H$3*(A!H$3/(-2*A!H$4))+A!H$3*A!H$3/(4*A!H$4))","v":3056.137947013649},{"$f":"A!I$2+A!I$3*EXP(A!I$4*B144)","v":3067.6173701103194},{"$f":"IF((A!J$2+A!J$3*B144)<A!J$4,A!J$2+A!J$3*B144,A!J$4)","v":3038.9994704232167},{"$f":"IF(B144<A!K$4,A!K$2+A!K$3*(3*B144/(2*A!K$4)-0.5*(B144/A!K$4)^3),A!K$3+A!K$2)","v":3046.3185793516691},{"$f":"(C144*A!$G$5+'C'!D144*A!$H$5+'C'!E144*A!$I$5+'C'!F144*A!$J$5+'C'!G144*A!$K$5)/SUM(A!$G$5:$K$5)","v":3048.1302198561516}]
[202,120,{"$f":"A!G$2+A!G$3*B145+A!G$4*B145^2","v":3031.4861126399446},{"$f":"IF(B145<(A!H$3/(-2*A!H$4)),A!H$2+A!H$3*B145+A!H$4*B145^2,A!H$2+A!H$3*(A!H$3/(-2*A!H$4))+A!H$3*A!H$3/(4*A!H$4))","v":3056.137947013649},{"$f":"A!I$2+A!I$3*EXP(A!I$4*B145)","v":3067.6173701103194},{"$f":"IF((A!J$2+A!J$3*B145)<A!J$4,A!J$2+A!J$3*B145,A!J$4)","v":3038.9994704232167},{"$f":"IF(B145<A!K$4,A!K$2+A!K$3*(3*B145/(2*A!K$4)-0.5*(B145/A!K$4)^3),A!K$3+A!K$2)","v":3046.3185793516691},{"$f":"(C145*A!$G$5+'C'!D145*A!$H$5+'C'!E145*A!$I$5+'C'!F145*A!$J$5+'C'!G145*A!$K$5)/SUM(A!$G$5:$K$5)","v":3048.1302198561516}]
[204,120,{"$f":"A!G$2+A!G$3*B146+A!G$4*B146^2","v":3031.4861126399446},{"$f":"IF(B146<(A!H$3/(-2*A!H$4)),A!H$2+A!H$3*B146+A!H$4*B146^2,A!H$2+A!H$3*(A!H$3/(-2*A!H$4))+A!H$3*A!H$3/(4*A!H$4))","v":3056.137947013649},{"$f":"A!I$2+A!I$3*EXP(A!I$4*B146)","v":3067.6173701103194},{"$f":"IF((A!J$2+A!J$3*B146)<A!J$4,A!J$2+A!J$3*B146,A!J$4)","v":3038.9994704232167},{"$f":"IF(B146<A!K$4,A!K$2+A!K$3*(3*B146/(2*A!K$4)-0.5*(B146/A!K$4)^3),A!K$3+A!K$2)","v":3046.3185793516691},{"$f":"(C146*A!$G$5+'C'!D146*A!$H$5+'C'!E146*A!$I$5+'C'!F146*A!$J$5+'C'!G146*A!$K$5)/SUM(A!$G$5:$K$5)","v":3048.1302198561516}]
[206,120,{"$f":"A!G$2+A!G$3*B147+A!G$4*B147^2","v":3031.4861126399446},{"$f":"IF(B147<(A!H$3/(-2*A!H$4)),A!H$2+A!H$3*B147+A!H$4*B147^2,A!H$2+A!H$3*(A!H$3/(-2*A!H$4))+A!H$3*A!H$3/(4*A!H$4))","v":3056.137947013649},{"$f":"A!I$2+A!I$3*EXP(A!I$4*B147)","v":3067.6173701103194},{"$f":"IF((A!J$2+A!J$3*B147)<A!J$4,A!J$2+A!J$3*B147,A!J$4)","v":3038.9994704232167},{"$f":"IF(B147<A!K$4,A!K$2+A!K$3*(3*B147/(2*A!K$4)-0.5*(B147/A!K$4)^3),A!K$3+A!K$2)","v":3046.3185793516691},{"$f":"(C147*A!$G$5+'C'!D147*A!$H$5+'C'!E147*A!$I$5+'C'!F147*A!$J$5+'C'!G147*A!$K$5)/SUM(A!$G$5:$K$5)","v":3048.1302198561516}]
[208,120,{"$f":"A!G$2+A!G$3*B148+A!G$4*B148^2","v":3031.4861126399446},{"$f":"IF(B148<(A!H$3/(-2*A!H$4)),A!H$2+A!H$3*B148+A!H$4*B148^2,A!H$2+A!H$3*(A!H$3/(-2*A!H$4))+A!H$3*A!H$3/(4*A!H$4))","v":3056.137947013649},{"$f":"A!I$2+A!I$3*EXP(A!I$4*B148)","v":3067.6173701103194},{"$f":"IF((A!J$2+A!J$3*B148)<A!J$4,A!J$2+A!J$3*B148,A!J$4)","v":3038.9994704232167},{"$f":"IF(B148<A!K$4,A!K$2+A!K$3*(3*B148/(2*A!K$4)-0.5*(B148/A!K$4)^3),A!K$3+A!K$2)","v":3046.3185793516691},{"$f":"(C148*A!$G$5+'C'!D148*A!$H$5+'C'!E148*A!$I$5+'C'!F148*A!$J$5+'C'!G148*A!$K$5)/SUM(A!$G$5:$K$5)","v":3048.1302198561516}]
[210,120,{"$f":"A!G$2+A!G$3*B149+A!G$4*B149^2","v":3031.4861126399446},{"$f":"IF(B149<(A!H$3/(-2*A!H$4)),A!H$2+A!H$3*B149+A!H$4*B149^2,A!H$2+A!H$3*(A!H$3/(-2*A!H$4))+A!H$3*A!H$3/(4*A!H$4))","v":3056.137947013649},{"$f":"A!I$2+A!I$3*EXP(A!I$4*B149)","v":3067.6173701103194},{"$f":"IF((A!J$2+A!J$3*B149)<A!J$4,A!J$2+A!J$3*B149,A!J$4)","v":3038.9994704232167},{"$f":"IF(B149<A!K$4,A!K$2+A!K$3*(3*B149/(2*A!K$4)-0.5*(B149/A!K$4)^3),A!K$3+A!K$2)","v":3046.3185793516691},{"$f":"(C149*A!$G$5+'C'!D149*A!$H$5+'C'!E149*A!$I$5+'C'!F149*A!$J$5+'C'!G149*A!$K$5)/SUM(A!$G$5:$K$5)","v":3048.1302198561516}]
[212,120,{"$f":"A!G$2+A!G$3*B150+A!G$4*B150^2","v":3031.4861126399446},{"$f":"IF(B150<(A!H$3/(-2*A!H$4)),A!H$2+A!H$3*B150+A!H$4*B150^2,A!H$2+A!H$3*(A!H$3/(-2*A!H$4))+A!H$3*A!H$3/(4*A!H$4))","v":3056.137947013649},{"$f":"A!I$2+A!I$3*EXP(A!I$4*B150)","v":3067.6173701103194},{"$f":"IF((A!J$2+A!J$3*B150)<A!J$4,A!J$2+A!J$3*B150,A!J$4)","v":3038.9994704232167},{"$f":"IF(B150<A!K$4,A!K$2+A!K$3*(3*B150/(2*A!K$4)-0.5*(B150/A!K$4)^3),A!K$3+A!K$2)","v":3046.3185793516691},{"$f":"(C150*A!$G$5+'C'!D150*A!$H$5+'C'!E150*A!$I$5+'C'!F150*A!$J$5+'C'!G150*A!$K$5)/SUM(A!$G$5:$K$5)","v":3048.1302198561516}]
[214,120,{"$f":"A!G$2+A!G$3*B151+A!G$4*B151^2","v":3031.4861126399446},{"$f":"IF(B151<(A!H$3/(-2*A!H$4)),A!H$2+A!H$3*B151+A!H$4*B151^2,A!H$2+A!H$3*(A!H$3/(-2*A!H$4))+A!H$3*A!H$3/(4*A!H$4))","v":3056.137947013649},{"$f":"A!I$2+A!I$3*EXP(A!I$4*B151)","v":3067.6173701103194},{"$f":"IF((A!J$2+A!J$3*B151)<A!J$4,A!J$2+A!J$3*B151,A!J$4)","v":3038.9994704232167},{"$f":"IF(B151<A!K$4,A!K$2+A!K$3*(3*B151/(2*A!K$4)-0.5*(B151/A!K$4)^3),A!K$3+A!K$2)","v":3046.3185793516691},{"$f":"(C151*A!$G$5+'C'!D151*A!$H$5+'C'!E151*A!$I$5+'C'!F151*A!$J$5+'C'!G151*A!$K$5)/SUM(A!$G$5:$K$5)","v":3048.1302198561516}]
[216,120,{"$f":"A!G$2+A!G$3*B152+A!G$4*B152^2","v":3031.4861126399446},{"$f":"IF(B152<(A!H$3/(-2*A!H$4)),A!H$2+A!H$3*B152+A!H$4*B152^2,A!H$2+A!H$3*(A!H$3/(-2*A!H$4))+A!H$3*A!H$3/(4*A!H$4))","v":3056.137947013649},{"$f":"A!I$2+A!I$3*EXP(A!I$4*B152)","v":3067.6173701103194},{"$f":"IF((A!J$2+A!J$3*B152)<A!J$4,A!J$2+A!J$3*B152,A!J$4)","v":3038.9994704232167},{"$f":"IF(B152<A!K$4,A!K$2+A!K$3*(3*B152/(2*A!K$4)-0.5*(B152/A!K$4)^3),A!K$3+A!K$2)","v":3046.3185793516691},{"$f":"(C152*A!$G$5+'C'!D152*A!$H$5+'C'!E152*A!$I$5+'C'!F152*A!$J$5+'C'!G152*A!$K$5)/SUM(A!$G$5:$K$5)","v":3048.1302198561516}]
[218,120,{"$f":"A!G$2+A!G$3*B153+A!G$4*B153^2","v":3031.4861126399446},{"$f":"IF(B153<(A!H$3/(-2*A!H$4)),A!H$2+A!H$3*B153+A!H$4*B153^2,A!H$2+A!H$3*(A!H$3/(-2*A!H$4))+A!H$3*A!H$3/(4*A!H$4))","v":3056.137947013649},{"$f":"A!I$2+A!I$3*EXP(A!I$4*B153)","v":3067.6173701103194},{"$f":"IF((A!J$2+A!J$3*B153)<A!J$4,A!J$2+A!J$3*B153,A!J$4)","v":3038.9994704232167},{"$f":"IF(B153<A!K$4,A!K$2+A!K$3*(3*B153/(2*A!K$4)-0.5*(B153/A!K$4)^3),A!K$3+A!K$2)","v":3046.3185793516691},{"$f":"(C153*A!$G$5+'C'!D153*A!$H$5+'C'!E153*A!$I$5+'C'!F153*A!$J$5+'C'!G153*A!$K$5)/SUM(A!$G$5:$K$5)","v":3048.1302198561516}]
[220,120,{"$f":"A!G$2+A!G$3*B154+A!G$4*B154^2","v":3031.4861126399446},{"$f":"IF(B154<(A!H$3/(-2*A!H$4)),A!H$2+A!H$3*B154+A!H$4*B154^2,A!H$2+A!H$3*(A!H$3/(-2*A!H$4))+A!H$3*A!H$3/(4*A!H$4))","v":3056.137947013649},{"$f":"A!I$2+A!I$3*EXP(A!I$4*B154)","v":3067.6173701103194},{"$f":"IF((A!J$2+A!J$3*B154)<A!J$4,A!J$2+A!J$3*B154,A!J$4)","v":3038.9994704232167},{"$f":"IF(B154<A!K$4,A!K$2+A!K$3*(3*B154/(2*A!K$4)-0.5*(B154/A!K$4)^3),A!K$3+A!K$2)","v":3046.3185793516691},{"$f":"(C154*A!$G$5+'C'!D154*A!$H$5+'C'!E154*A!$I$5+'C'!F154*A!$J$5+'C'!G154*A!$K$5)/SUM(A!$G$5:$K$5)","v":3048.1302198561516}]
[222,120,{"$f":"A!G$2+A!G$3*B155+A!G$4*B155^2","v":3031.4861126399446},{"$f":"IF(B155<(A!H$3/(-2*A!H$4)),A!H$2+A!H$3*B155+A!H$4*B155^2,A!H$2+A!H$3*(A!H$3/(-2*A!H$4))+A!H$3*A!H$3/(4*A!H$4))","v":3056.137947013649},{"$f":"A!I$2+A!I$3*EXP(A!I$4*B155)","v":3067.6173701103194},{"$f":"IF((A!J$2+A!J$3*B155)<A!J$4,A!J$2+A!J$3*B155,A!J$4)","v":3038.9994704232167},{"$f":"IF(B155<A!K$4,A!K$2+A!K$3*(3*B155/(2*A!K$4)-0.5*(B155/A!K$4)^3),A!K$3+A!K$2)","v":3046.3185793516691},{"$f":"(C155*A!$G$5+'C'!D155*A!$H$5+'C'!E155*A!$I$5+'C'!F155*A!$J$5+'C'!G155*A!$K$5)/SUM(A!$G$5:$K$5)","v":3048.1302198561516}]
[224,120,{"$f":"A!G$2+A!G$3*B156+A!G$4*B156^2","v":3031.4861126399446},{"$f":"IF(B156<(A!H$3/(-2*A!H$4)),A!H$2+A!H$3*B156+A!H$4*B156^2,A!H$2+A!H$3*(A!H$3/(-2*A!H$4))+A!H$3*A!H$3/(4*A!H$4))","v":3056.137947013649},{"$f":"A!I$2+A!I$3*EXP(A!I$4*B156)","v":3067.6173701103194},{"$f":"IF((A!J$2+A!J$3*B156)<A!J$4,A!J$2+A!J$3*B156,A!J$4)","v":3038.9994704232167},{"$f":"IF(B156<A!K$4,A!K$2+A!K$3*(3*B156/(2*A!K$4)-0.5*(B156/A!K$4)^3),A!K$3+A!K$2)","v":3046.3185793516691},{"$f":"(C156*A!$G$5+'C'!D156*A!$H$5+'C'!E156*A!$I$5+'C'!F156*A!$J$5+'C'!G156*A!$K$5)/SUM(A!$G$5:$K$5)","v":3048.1302198561516}]
[226,120,{"$f":"A!G$2+A!G$3*B157+A!G$4*B157^2","v":3031.4861126399446},{"$f":"IF(B157<(A!H$3/(-2*A!H$4)),A!H$2+A!H$3*B157+A!H$4*B157^2,A!H$2+A!H$3*(A!H$3/(-2*A!H$4))+A!H$3*A!H$3/(4*A!H$4))","v":3056.137947013649},{"$f":"A!I$2+A!I$3*EXP(A!I$4*B157)","v":3067.6173701103194},{"$f":"IF((A!J$2+A!J$3*B157)<A!J$4,A!J$2+A!J$3*B157,A!J$4)","v":3038.9994704232167},{"$f":"IF(B157<A!K$4,A!K$2+A!K$3*(3*B157/(2*A!K$4)-0.5*(B157/A!K$4)^3),A!K$3+A!K$2)","v":3046.3185793516691},{"$f":"(C157*A!$G$5+'C'!D157*A!$H$5+'C'!E157*A!$I$5+'C'!F157*A!$J$5+'C'!G157*A!$K$5)/SUM(A!$G$5:$K$5)","v":3048.1302198561516}]
[228,120,{"$f":"A!G$2+A!G$3*B158+A!G$4*B158^2","v":3031.4861126399446},{"$f":"IF(B158<(A!H$3/(-2*A!H$4)),A!H$2+A!H$3*B158+A!H$4*B158^2,A!H$2+A!H$3*(A!H$3/(-2*A!H$4))+A!H$3*A!H$3/(4*A!H$4))","v":3056.137947013649},{"$f":"A!I$2+A!I$3*EXP(A!I$4*B158)","v":3067.6173701103194},{"$f":"IF((A!J$2+A!J$3*B158)<A!J$4,A!J$2+A!J$3*B158,A!J$4)","v":3038.9994704232167},{"$f":"IF(B158<A!K$4,A!K$2+A!K$3*(3*B158/(2*A!K$4)-0.5*(B158/A!K$4)^3),A!K$3+A!K$2)","v":3046.3185793516691},{"$f":"(C158*A!$G$5+'C'!D158*A!$H$5+'C'!E158*A!$I$5+'C'!F158*A!$J$5+'C'!G158*A!$K$5)/SUM(A!$G$5:$K$5)","v":3048.1302198561516}]
[230,120,{"$f":"A!G$2+A!G$3*B159+A!G$4*B159^2","v":3031.4861126399446},{"$f":"IF(B159<(A!H$3/(-2*A!H$4)),A!H$2+A!H$3*B159+A!H$4*B159^2,A!H$2+A!H$3*(A!H$3/(-2*A!H$4))+A!H$3*A!H$3/(4*A!H$4))","v":3056.137947013649},{"$f":"A!I$2+A!I$3*EXP(A!I$4*B159)","v":3067.6173701103194},{"$f":"IF((A!J$2+A!J$3*B159)<A!J$4,A!J$2+A!J$3*B159,A!J$4)","v":3038.9994704232167},{"$f":"IF(B159<A!K$4,A!K$2+A!K$3*(3*B159/(2*A!K$4)-0.5*(B159/A!K$4)^3),A!K$3+A!K$2)","v":3046.3185793516691},{"$f":"(C159*A!$G$5+'C'!D159*A!$H$5+'C'!E159*A!$I$5+'C'!F159*A!$J$5+'C'!G159*A!$K$5)/SUM(A!$G$5:$K$5)","v":3048.1302198561516}]
[232,120,{"$f":"A!G$2+A!G$3*B160+A!G$4*B160^2","v":3031.4861126399446},{"$f":"IF(B160<(A!H$3/(-2*A!H$4)),A!H$2+A!H$3*B160+A!H$4*B160^2,A!H$2+A!H$3*(A!H$3/(-2*A!H$4))+A!H$3*A!H$3/(4*A!H$4))","v":3056.137947013649},{"$f":"A!I$2+A!I$3*EXP(A!I$4*B160)","v":3067.6173701103194},{"$f":"IF((A!J$2+A!J$3*B160)<A!J$4,A!J$2+A!J$3*B160,A!J$4)","v":3038.9994704232167},{"$f":"IF(B160<A!K$4,A!K$2+A!K$3*(3*B160/(2*A!K$4)-0.5*(B160/A!K$4)^3),A!K$3+A!K$2)","v":3046.3185793516691},{"$f":"(C160*A!$G$5+'C'!D160*A!$H$5+'C'!E160*A!$I$5+'C'!F160*A!$J$5+'C'!G160*A!$K$5)/SUM(A!$G$5:$K$5)","v":3048.1302198561516}]
[234,120,{"$f":"A!G$2+A!G$3*B161+A!G$4*B161^2","v":3031.4861126399446},{"$f":"IF(B161<(A!H$3/(-2*A!H$4)),A!H$2+A!H$3*B161+A!H$4*B161^2,A!H$2+A!H$3*(A!H$3/(-2*A!H$4))+A!H$3*A!H$3/(4*A!H$4))","v":3056.137947013649},{"$f":"A!I$2+A!I$3*EXP(A!I$4*B161)","v":3067.6173701103194},{"$f":"IF((A!J$2+A!J$3*B161)<A!J$4,A!J$2+A!J$3*B161,A!J$4)","v":3038.9994704232167},{"$f":"IF(B161<A!K$4,A!K$2+A!K$3*(3*B161/(2*A!K$4)-0.5*(B161/A!K$4)^3),A!K$3+A!K$2)","v":3046.3185793516691},{"$f":"(C161*A!$G$5+'C'!D161*A!$H$5+'C'!E161*A!$I$5+'C'!F161*A!$J$5+'C'!G161*A!$K$5)/SUM(A!$G$5:$K$5)","v":3048.1302198561516}]
[236,120,{"$f":"A!G$2+A!G$3*B162+A!G$4*B162^2","v":3031.4861126399446},{"$f":"IF(B162<(A!H$3/(-2*A!H$4)),A!H$2+A!H$3*B162+A!H$4*B162^2,A!H$2+A!H$3*(A!H$3/(-2*A!H$4))+A!H$3*A!H$3/(4*A!H$4))","v":3056.137947013649},{"$f":"A!I$2+A!I$3*EXP(A!I$4*B162)","v":3067.6173701103194},{"$f":"IF((A!J$2+A!J$3*B162)<A!J$4,A!J$2+A!J$3*B162,A!J$4)","v":3038.9994704232167},{"$f":"IF(B162<A!K$4,A!K$2+A!K$3*(3*B162/(2*A!K$4)-0.5*(B162/A!K$4)^3),A!K$3+A!K$2)","v":3046.3185793516691},{"$f":"(C162*A!$G$5+'C'!D162*A!$H$5+'C'!E162*A!$I$5+'C'!F162*A!$J$5+'C'!G162*A!$K$5)/SUM(A!$G$5:$K$5)","v":3048.1302198561516}]
[238,120,{"$f":"A!G$2+A!G$3*B163+A!G$4*B163^2","v":3031.4861126399446},{"$f":"IF(B163<(A!H$3/(-2*A!H$4)),A!H$2+A!H$3*B163+A!H$4*B163^2,A!H$2+A!H$3*(A!H$3/(-2*A!H$4))+A!H$3*A!H$3/(4*A!H$4))","v":3056.137947013649},{"$f":"A!I$2+A!I$3*EXP(A!I$4*B163)","v":3067.6173701103194},{"$f":"IF((A!J$2+A!J$3*B163)<A!J$4,A!J$2+A!J$3*B163,A!J$4)","v":3038.9994704232167},{"$f":"IF(B163<A!K$4,A!K$2+A!K$3*(3*B163/(2*A!K$4)-0.5*(B163/A!K$4)^3),A!K$3+A!K$2)","v":3046.3185793516691},{"$f":"(C163*A!$G$5+'C'!D163*A!$H$5+'C'!E163*A!$I$5+'C'!F163*A!$J$5+'C'!G163*A!$K$5)/SUM(A!$G$5:$K$5)","v":3048.1302198561516}]
[240,120,{"$f":"A!G$2+A!G$3*B164+A!G$4*B164^2","v":3031.4861126399446},{"$f":"IF(B164<(A!H$3/(-2*A!H$4)),A!H$2+A!H$3*B164+A!H$4*B164^2,A!H$2+A!H$3*(A!H$3/(-2*A!H$4))+A!H$3*A!H$3/(4*A!H$4))","v":3056.137947013649},{"$f":"A!I$2+A!I$3*EXP(A!I$4*B164)","v":3067.6173701103194},{"$f":"IF((A!J$2+A!J$3*B164)<A!J$4,A!J$2+A!J$3*B164,A!J$4)","v":3038.9994704232167},{"$f":"IF(B164<A!K$4,A!K$2+A!K$3*(3*B164/(2*A!K$4)-0.5*(B164/A!K$4)^3),A!K$3+A!K$2)","v":3046.3185793516691},{"$f":"(C164*A!$G$5+'C'!D164*A!$H$5+'C'!E164*A!$I$5+'C'!F164*A!$J$5+'C'!G164*A!$K$5)/SUM(A!$G$5:$K$5)","v":3048.1302198561516}]
[242,120,{"$f":"A!G$2+A!G$3*B165+A!G$4*B165^2","v":3031.4861126399446},{"$f":"IF(B165<(A!H$3/(-2*A!H$4)),A!H$2+A!H$3*B165+A!H$4*B165^2,A!H$2+A!H$3*(A!H$3/(-2*A!H$4))+A!H$3*A!H$3/(4*A!H$4))","v":3056.137947013649},{"$f":"A!I$2+A!I$3*EXP(A!I$4*B165)","v":3067.6173701103194},{"$f":"IF((A!J$2+A!J$3*B165)<A!J$4,A!J$2+A!J$3*B165,A!J$4)","v":3038.9994704232167},{"$f":"IF(B165<A!K$4,A!K$2+A!K$3*(3*B165/(2*A!K$4)-0.5*(B165/A!K$4)^3),A!K$3+A!K$2)","v":3046.3185793516691},{"$f":"(C165*A!$G$5+'C'!D165*A!$H$5+'C'!E165*A!$I$5+'C'!F165*A!$J$5+'C'!G165*A!$K$5)/SUM(A!$G$5:$K$5)","v":3048.1302198561516}]
[244,120,{"$f":"A!G$2+A!G$3*B166+A!G$4*B166^2","v":3031.4861126399446},{"$f":"IF(B166<(A!H$3/(-2*A!H$4)),A!H$2+A!H$3*B166+A!H$4*B166^2,A!H$2+A!H$3*(A!H$3/(-2*A!H$4))+A!H$3*A!H$3/(4*A!H$4))","v":3056.137947013649},{"$f":"A!I$2+A!I$3*EXP(A!I$4*B166)","v":3067.6173701103194},{"$f":"IF((A!J$2+A!J$3*B166)<A!J$4,A!J$2+A!J$3*B166,A!J$4)","v":3038.9994704232167},{"$f":"IF(B166<A!K$4,A!K$2+A!K$3*(3*B166/(2*A!K$4)-0.5*(B166/A!K$4)^3),A!K$3+A!K$2)","v":3046.3185793516691},{"$f":"(C166*A!$G$5+'C'!D166*A!$H$5+'C'!E166*A!$I$5+'C'!F166*A!$J$5+'C'!G166*A!$K$5)/SUM(A!$G$5:$K$5)","v":3048.1302198561516}]
[246,120,{"$f":"A!G$2+A!G$3*B167+A!G$4*B167^2","v":3031.4861126399446},{"$f":"IF(B167<(A!H$3/(-2*A!H$4)),A!H$2+A!H$3*B167+A!H$4*B167^2,A!H$2+A!H$3*(A!H$3/(-2*A!H$4))+A!H$3*A!H$3/(4*A!H$4))","v":3056.137947013649},{"$f":"A!I$2+A!I$3*EXP(A!I$4*B167)","v":3067.6173701103194},{"$f":"IF((A!J$2+A!J$3*B167)<A!J$4,A!J$2+A!J$3*B167,A!J$4)","v":3038.9994704232167},{"$f":"IF(B167<A!K$4,A!K$2+A!K$3*(3*B167/(2*A!K$4)-0.5*(B167/A!K$4)^3),A!K$3+A!K$2)","v":3046.3185793516691},{"$f":"(C167*A!$G$5+'C'!D167*A!$H$5+'C'!E167*A!$I$5+'C'!F167*A!$J$5+'C'!G167*A!$K$5)/SUM(A!$G$5:$K$5)","v":3048.1302198561516}]
[248,120,{"$f":"A!G$2+A!G$3*B168+A!G$4*B168^2","v":3031.4861126399446},{"$f":"IF(B168<(A!H$3/(-2*A!H$4)),A!H$2+A!H$3*B168+A!H$4*B168^2,A!H$2+A!H$3*(A!H$3/(-2*A!H$4))+A!H$3*A!H$3/(4*A!H$4))","v":3056.137947013649},{"$f":"A!I$2+A!I$3*EXP(A!I$4*B168)","v":3067.6173701103194},{"$f":"IF((A!J$2+A!J$3*B168)<A!J$4,A!J$2+A!J$3*B168,A!J$4)","v":3038.9994704232167},{"$f":"IF(B168<A!K$4,A!K$2+A!K$3*(3*B168/(2*A!K$4)-0.5*(B168/A!K$4)^3),A!K$3+A!K$2)","v":3046.3185793516691},{"$f":"(C168*A!$G$5+'C'!D168*A!$H$5+'C'!E168*A!$I$5+'C'!F168*A!$J$5+'C'!G168*A!$K$5)/SUM(A!$G$5:$K$5)","v":3048.1302198561516}]
[250,120,{"$f":"A!G$2+A!G$3*B169+A!G$4*B169^2","v":3031.4861126399446},{"$f":"IF(B169<(A!H$3/(-2*A!H$4)),A!H$2+A!H$3*B169+A!H$4*B169^2,A!H$2+A!H$3*(A!H$3/(-2*A!H$4))+A!H$3*A!H$3/(4*A!H$4))","v":3056.137947013649},{"$f":"A!I$2+A!I$3*EXP(A!I$4*B169)","v":3067.6173701103194},{"$f":"IF((A!J$2+A!J$3*B169)<A!J$4,A!J$2+A!J$3*B169,A!J$4)","v":3038.9994704232167},{"$f":"IF(B169<A!K$4,A!K$2+A!K$3*(3*B169/(2*A!K$4)-0.5*(B169/A!K$4)^3),A!K$3+A!K$2)","v":3046.3185793516691},{"$f":"(C169*A!$G$5+'C'!D169*A!$H$5+'C'!E169*A!$I$5+'C'!F169*A!$J$5+'C'!G169*A!$K$5)/SUM(A!$G$5:$K$5)","v":3048.1302198561516}]
[252,120,{"$f":"A!G$2+A!G$3*B170+A!G$4*B170^2","v":3031.4861126399446},{"$f":"IF(B170<(A!H$3/(-2*A!H$4)),A!H$2+A!H$3*B170+A!H$4*B170^2,A!H$2+A!H$3*(A!H$3/(-2*A!H$4))+A!H$3*A!H$3/(4*A!H$4))","v":3056.137947013649},{"$f":"A!I$2+A!I$3*EXP(A!I$4*B170)","v":3067.6173701103194},{"$f":"IF((A!J$2+A!J$3*B170)<A!J$4,A!J$2+A!J$3*B170,A!J$4)","v":3038.9994704232167},{"$f":"IF(B170<A!K$4,A!K$2+A!K$3*(3*B170/(2*A!K$4)-0.5*(B170/A!K$4)^3),A!K$3+A!K$2)","v":3046.3185793516691},{"$f":"(C170*A!$G$5+'C'!D170*A!$H$5+'C'!E170*A!$I$5+'C'!F170*A!$J$5+'C'!G170*A!$K$5)/SUM(A!$G$5:$K$5)","v":3048.1302198561516}]
[254,120,{"$f":"A!G$2+A!G$3*B171+A!G$4*B171^2","v":3031.4861126399446},{"$f":"IF(B171<(A!H$3/(-2*A!H$4)),A!H$2+A!H$3*B171+A!H$4*B171^2,A!H$2+A!H$3*(A!H$3/(-2*A!H$4))+A!H$3*A!H$3/(4*A!H$4))","v":3056.137947013649},{"$f":"A!I$2+A!I$3*EXP(A!I$4*B171)","v":3067.6173701103194},{"$f":"IF((A!J$2+A!J$3*B171)<A!J$4,A!J$2+A!J$3*B171,A!J$4)","v":3038.9994704232167},{"$f":"IF(B171<A!K$4,A!K$2+A!K$3*(3*B171/(2*A!K$4)-0.5*(B171/A!K$4)^3),A!K$3+A!K$2)","v":3046.3185793516691},{"$f":"(C171*A!$G$5+'C'!D171*A!$H$5+'C'!E171*A!$I$5+'C'!F171*A!$J$5+'C'!G171*A!$K$5)/SUM(A!$G$5:$K$5)","v":3048.1302198561516}]
[256,120,{"$f":"A!G$2+A!G$3*B172+A!G$4*B172^2","v":3031.4861126399446},{"$f":"IF(B172<(A!H$3/(-2*A!H$4)),A!H$2+A!H$3*B172+A!H$4*B172^2,A!H$2+A!H$3*(A!H$3/(-2*A!H$4))+A!H$3*A!H$3/(4*A!H$4))","v":3056.137947013649},{"$f":"A!I$2+A!I$3*EXP(A!I$4*B172)","v":3067.6173701103194},{"$f":"IF((A!J$2+A!J$3*B172)<A!J$4,A!J$2+A!J$3*B172,A!J$4)","v":3038.9994704232167},{"$f":"IF(B172<A!K$4,A!K$2+A!K$3*(3*B172/(2*A!K$4)-0.5*(B172/A!K$4)^3),A!K$3+A!K$2)","v":3046.3185793516691},{"$f":"(C172*A!$G$5+'C'!D172*A!$H$5+'C'!E172*A!$I$5+'C'!F172*A!$J$5+'C'!G172*A!$K$5)/SUM(A!$G$5:$K$5)","v":3048.1302198561516}]
[258,{"$f":"IF(A173<MAX($M$44),A173,MAX($M$44))","v":120},{"$f":"A!G$2+A!G$3*B173+A!G$4*B173^2","v":3031.4861126399446},{"$f":"IF(B173<(A!H$3/(-2*A!H$4)),A!H$2+A!H$3*B173+A!H$4*B173^2,A!H$2+A!H$3*(A!H$3/(-2*A!H$4))+A!H$3*A!H$3/(4*A!H$4))","v":3056.137947013649},{"$f":"A!I$2+A!I$3*EXP(A!I$4*B173)","v":3067.6173701103194},{"$f":"IF((A!J$2+A!J$3*B173)<A!J$4,A!J$2+A!J$3*B173,A!J$4)","v":3038.9994704232167},{"$f":"IF(B173<A!K$4,A!K$2+A!K$3*(3*B173/(2*A!K$4)-0.5*(B173/A!K$4)^3),A!K$3+A!K$2)","v":3046.3185793516691},{"$f":"(C173*A!$G$5+'C'!D173*A!$H$5+'C'!E173*A!$I$5+'C'!F173*A!$J$5+'C'!G173*A!$K$5)/SUM(A!$G$5:$K$5)","v":3048.1302198561516}]
[260,120,{"$f":"A!G$2+A!G$3*B174+A!G$4*B174^2","v":3031.4861126399446},{"$f":"IF(B174<(A!H$3/(-2*A!H$4)),A!H$2+A!H$3*B174+A!H$4*B174^2,A!H$2+A!H$3*(A!H$3/(-2*A!H$4))+A!H$3*A!H$3/(4*A!H$4))","v":3056.137947013649},{"$f":"A!I$2+A!I$3*EXP(A!I$4*B174)","v":3067.6173701103194},{"$f":"IF((A!J$2+A!J$3*B174)<A!J$4,A!J$2+A!J$3*B174,A!J$4)","v":3038.9994704232167},{"$f":"IF(B174<A!K$4,A!K$2+A!K$3*(3*B174/(2*A!K$4)-0.5*(B174/A!K$4)^3),A!K$3+A!K$2)","v":3046.3185793516691},{"$f":"(C174*A!$G$5+'C'!D174*A!$H$5+'C'!E174*A!$I$5+'C'!F174*A!$J$5+'C'!G174*A!$K$5)/SUM(A!$G$5:$K$5)","v":3048.1302198561516}]
[262,120,{"$f":"A!G$2+A!G$3*B175+A!G$4*B175^2","v":3031.4861126399446},{"$f":"IF(B175<(A!H$3/(-2*A!H$4)),A!H$2+A!H$3*B175+A!H$4*B175^2,A!H$2+A!H$3*(A!H$3/(-2*A!H$4))+A!H$3*A!H$3/(4*A!H$4))","v":3056.137947013649},{"$f":"A!I$2+A!I$3*EXP(A!I$4*B175)","v":3067.6173701103194},{"$f":"IF((A!J$2+A!J$3*B175)<A!J$4,A!J$2+A!J$3*B175,A!J$4)","v":3038.9994704232167},{"$f":"IF(B175<A!K$4,A!K$2+A!K$3*(3*B175/(2*A!K$4)-0.5*(B175/A!K$4)^3),A!K$3+A!K$2)","v":3046.3185793516691},{"$f":"(C175*A!$G$5+'C'!D175*A!$H$5+'C'!E175*A!$I$5+'C'!F175*A!$J$5+'C'!G175*A!$K$5)/SUM(A!$G$5:$K$5)","v":3048.1302198561516}]
[264,120,{"$f":"A!G$2+A!G$3*B176+A!G$4*B176^2","v":3031.4861126399446},{"$f":"IF(B176<(A!H$3/(-2*A!H$4)),A!H$2+A!H$3*B176+A!H$4*B176^2,A!H$2+A!H$3*(A!H$3/(-2*A!H$4))+A!H$3*A!H$3/(4*A!H$4))","v":3056.137947013649},{"$f":"A!I$2+A!I$3*EXP(A!I$4*B176)","v":3067.6173701103194},{"$f":"IF((A!J$2+A!J$3*B176)<A!J$4,A!J$2+A!J$3*B176,A!J$4)","v":3038.9994704232167},{"$f":"IF(B176<A!K$4,A!K$2+A!K$3*(3*B176/(2*A!K$4)-0.5*(B176/A!K$4)^3),A!K$3+A!K$2)","v":3046.3185793516691},{"$f":"(C176*A!$G$5+'C'!D176*A!$H$5+'C'!E176*A!$I$5+'C'!F176*A!$J$5+'C'!G176*A!$K$5)/SUM(A!$G$5:$K$5)","v":3048.1302198561516}]
[266,120,{"$f":"A!G$2+A!G$3*B177+A!G$4*B177^2","v":3031.4861126399446},{"$f":"IF(B177<(A!H$3/(-2*A!H$4)),A!H$2+A!H$3*B177+A!H$4*B177^2,A!H$2+A!H$3*(A!H$3/(-2*A!H$4))+A!H$3*A!H$3/(4*A!H$4))","v":3056.137947013649},{"$f":"A!I$2+A!I$3*EXP(A!I$4*B177)","v":3067.6173701103194},{"$f":"IF((A!J$2+A!J$3*B177)<A!J$4,A!J$2+A!J$3*B177,A!J$4)","v":3038.9994704232167},{"$f":"IF(B177<A!K$4,A!K$2+A!K$3*(3*B177/(2*A!K$4)-0.5*(B177/A!K$4)^3),A!K$3+A!K$2)","v":3046.3185793516691},{"$f":"(C177*A!$G$5+'C'!D177*A!$H$5+'C'!E177*A!$I$5+'C'!F177*A!$J$5+'C'!G177*A!$K$5)/SUM(A!$G$5:$K$5)","v":3048.1302198561516}]
[268,120,{"$f":"A!G$2+A!G$3*B178+A!G$4*B178^2","v":3031.4861126399446},{"$f":"IF(B178<(A!H$3/(-2*A!H$4)),A!H$2+A!H$3*B178+A!H$4*B178^2,A!H$2+A!H$3*(A!H$3/(-2*A!H$4))+A!H$3*A!H$3/(4*A!H$4))","v":3056.137947013649},{"$f":"A!I$2+A!I$3*EXP(A!I$4*B178)","v":3067.6173701103194},{"$f":"IF((A!J$2+A!J$3*B178)<A!J$4,A!J$2+A!J$3*B178,A!J$4)","v":3038.9994704232167},{"$f":"IF(B178<A!K$4,A!K$2+A!K$3*(3*B178/(2*A!K$4)-0.5*(B178/A!K$4)^3),A!K$3+A!K$2)","v":3046.3185793516691},{"$f":"(C178*A!$G$5+'C'!D178*A!$H$5+'C'!E178*A!$I$5+'C'!F178*A!$J$5+'C'!G178*A!$K$5)/SUM(A!$G$5:$K$5)","v":3048.1302198561516}]
[270,120,{"$f":"A!G$2+A!G$3*B179+A!G$4*B179^2","v":3031.4861126399446},{"$f":"IF(B179<(A!H$3/(-2*A!H$4)),A!H$2+A!H$3*B179+A!H$4*B179^2,A!H$2+A!H$3*(A!H$3/(-2*A!H$4))+A!H$3*A!H$3/(4*A!H$4))","v":3056.137947013649},{"$f":"A!I$2+A!I$3*EXP(A!I$4*B179)","v":3067.6173701103194},{"$f":"IF((A!J$2+A!J$3*B179)<A!J$4,A!J$2+A!J$3*B179,A!J$4)","v":3038.9994704232167},{"$f":"IF(B179<A!K$4,A!K$2+A!K$3*(3*B179/(2*A!K$4)-0.5*(B179/A!K$4)^3),A!K$3+A!K$2)","v":3046.3185793516691},{"$f":"(C179*A!$G$5+'C'!D179*A!$H$5+'C'!E179*A!$I$5+'C'!F179*A!$J$5+'C'!G179*A!$K$5)/SUM(A!$G$5:$K$5)","v":3048.1302198561516}]
[272,120,{"$f":"A!G$2+A!G$3*B180+A!G$4*B180^2","v":3031.4861126399446},{"$f":"IF(B180<(A!H$3/(-2*A!H$4)),A!H$2+A!H$3*B180+A!H$4*B180^2,A!H$2+A!H$3*(A!H$3/(-2*A!H$4))+A!H$3*A!H$3/(4*A!H$4))","v":3056.137947013649},{"$f":"A!I$2+A!I$3*EXP(A!I$4*B180)","v":3067.6173701103194},{"$f":"IF((A!J$2+A!J$3*B180)<A!J$4,A!J$2+A!J$3*B180,A!J$4)","v":3038.9994704232167},{"$f":"IF(B180<A!K$4,A!K$2+A!K$3*(3*B180/(2*A!K$4)-0.5*(B180/A!K$4)^3),A!K$3+A!K$2)","v":3046.3185793516691},{"$f":"(C180*A!$G$5+'C'!D180*A!$H$5+'C'!E180*A!$I$5+'C'!F180*A!$J$5+'C'!G180*A!$K$5)/SUM(A!$G$5:$K$5)","v":3048.1302198561516}]
[274,120,{"$f":"A!G$2+A!G$3*B181+A!G$4*B181^2","v":3031.4861126399446},{"$f":"IF(B181<(A!H$3/(-2*A!H$4)),A!H$2+A!H$3*B181+A!H$4*B181^2,A!H$2+A!H$3*(A!H$3/(-2*A!H$4))+A!H$3*A!H$3/(4*A!H$4))","v":3056.137947013649},{"$f":"A!I$2+A!I$3*EXP(A!I$4*B181)","v":3067.6173701103194},{"$f":"IF((A!J$2+A!J$3*B181)<A!J$4,A!J$2+A!J$3*B181,A!J$4)","v":3038.9994704232167},{"$f":"IF(B181<A!K$4,A!K$2+A!K$3*(3*B181/(2*A!K$4)-0.5*(B181/A!K$4)^3),A!K$3+A!K$2)","v":3046.3185793516691},{"$f":"(C181*A!$G$5+'C'!D181*A!$H$5+'C'!E181*A!$I$5+'C'!F181*A!$J$5+'C'!G181*A!$K$5)/SUM(A!$G$5:$K$5)","v":3048.1302198561516}]
[276,120,{"$f":"A!G$2+A!G$3*B182+A!G$4*B182^2","v":3031.4861126399446},{"$f":"IF(B182<(A!H$3/(-2*A!H$4)),A!H$2+A!H$3*B182+A!H$4*B182^2,A!H$2+A!H$3*(A!H$3/(-2*A!H$4))+A!H$3*A!H$3/(4*A!H$4))","v":3056.137947013649},{"$f":"A!I$2+A!I$3*EXP(A!I$4*B182)","v":3067.6173701103194},{"$f":"IF((A!J$2+A!J$3*B182)<A!J$4,A!J$2+A!J$3*B182,A!J$4)","v":3038.9994704232167},{"$f":"IF(B182<A!K$4,A!K$2+A!K$3*(3*B182/(2*A!K$4)-0.5*(B182/A!K$4)^3),A!K$3+A!K$2)","v":3046.3185793516691},{"$f":"(C182*A!$G$5+'C'!D182*A!$H$5+'C'!E182*A!$I$5+'C'!F182*A!$J$5+'C'!G182*A!$K$5)/SUM(A!$G$5:$K$5)","v":3048.1302198561516}]
[278,120,{"$f":"A!G$2+A!G$3*B183+A!G$4*B183^2","v":3031.4861126399446},{"$f":"IF(B183<(A!H$3/(-2*A!H$4)),A!H$2+A!H$3*B183+A!H$4*B183^2,A!H$2+A!H$3*(A!H$3/(-2*A!H$4))+A!H$3*A!H$3/(4*A!H$4))","v":3056.137947013649},{"$f":"A!I$2+A!I$3*EXP(A!I$4*B183)","v":3067.6173701103194},{"$f":"IF((A!J$2+A!J$3*B183)<A!J$4,A!J$2+A!J$3*B183,A!J$4)","v":3038.9994704232167},{"$f":"IF(B183<A!K$4,A!K$2+A!K$3*(3*B183/(2*A!K$4)-0.5*(B183/A!K$4)^3),A!K$3+A!K$2)","v":3046.3185793516691},{"$f":"(C183*A!$G$5+'C'!D183*A!$H$5+'C'!E183*A!$I$5+'C'!F183*A!$J$5+'C'!G183*A!$K$5)/SUM(A!$G$5:$K$5)","v":3048.1302198561516}]
[280,120,{"$f":"A!G$2+A!G$3*B184+A!G$4*B184^2","v":3031.4861126399446},{"$f":"IF(B184<(A!H$3/(-2*A!H$4)),A!H$2+A!H$3*B184+A!H$4*B184^2,A!H$2+A!H$3*(A!H$3/(-2*A!H$4))+A!H$3*A!H$3/(4*A!H$4))","v":3056.137947013649},{"$f":"A!I$2+A!I$3*EXP(A!I$4*B184)","v":3067.6173701103194},{"$f":"IF((A!J$2+A!J$3*B184)<A!J$4,A!J$2+A!J$3*B184,A!J$4)","v":3038.9994704232167},{"$f":"IF(B184<A!K$4,A!K$2+A!K$3*(3*B184/(2*A!K$4)-0.5*(B184/A!K$4)^3),A!K$3+A!K$2)","v":3046.3185793516691},{"$f":"(C184*A!$G$5+'C'!D184*A!$H$5+'C'!E184*A!$I$5+'C'!F184*A!$J$5+'C'!G184*A!$K$5)/SUM(A!$G$5:$K$5)","v":3048.1302198561516}]
[282,120,{"$f":"A!G$2+A!G$3*B185+A!G$4*B185^2","v":3031.4861126399446},{"$f":"IF(B185<(A!H$3/(-2*A!H$4)),A!H$2+A!H$3*B185+A!H$4*B185^2,A!H$2+A!H$3*(A!H$3/(-2*A!H$4))+A!H$3*A!H$3/(4*A!H$4))","v":3056.137947013649},{"$f":"A!I$2+A!I$3*EXP(A!I$4*B185)","v":3067.6173701103194},{"$f":"IF((A!J$2+A!J$3*B185)<A!J$4,A!J$2+A!J$3*B185,A!J$4)","v":3038.9994704232167},{"$f":"IF(B185<A!K$4,A!K$2+A!K$3*(3*B185/(2*A!K$4)-0.5*(B185/A!K$4)^3),A!K$3+A!K$2)","v":3046.3185793516691},{"$f":"(C185*A!$G$5+'C'!D185*A!$H$5+'C'!E185*A!$I$5+'C'!F185*A!$J$5+'C'!G185*A!$K$5)/SUM(A!$G$5:$K$5)","v":3048.1302198561516}]
[284,120,{"$f":"A!G$2+A!G$3*B186+A!G$4*B186^2","v":3031.4861126399446},{"$f":"IF(B186<(A!H$3/(-2*A!H$4)),A!H$2+A!H$3*B186+A!H$4*B186^2,A!H$2+A!H$3*(A!H$3/(-2*A!H$4))+A!H$3*A!H$3/(4*A!H$4))","v":3056.137947013649},{"$f":"A!I$2+A!I$3*EXP(A!I$4*B186)","v":3067.6173701103194},{"$f":"IF((A!J$2+A!J$3*B186)<A!J$4,A!J$2+A!J$3*B186,A!J$4)","v":3038.9994704232167},{"$f":"IF(B186<A!K$4,A!K$2+A!K$3*(3*B186/(2*A!K$4)-0.5*(B186/A!K$4)^3),A!K$3+A!K$2)","v":3046.3185793516691},{"$f":"(C186*A!$G$5+'C'!D186*A!$H$5+'C'!E186*A!$I$5+'C'!F186*A!$J$5+'C'!G186*A!$K$5)/SUM(A!$G$5:$K$5)","v":3048.1302198561516}]
[286,120,{"$f":"A!G$2+A!G$3*B187+A!G$4*B187^2","v":3031.4861126399446},{"$f":"IF(B187<(A!H$3/(-2*A!H$4)),A!H$2+A!H$3*B187+A!H$4*B187^2,A!H$2+A!H$3*(A!H$3/(-2*A!H$4))+A!H$3*A!H$3/(4*A!H$4))","v":3056.137947013649},{"$f":"A!I$2+A!I$3*EXP(A!I$4*B187)","v":3067.6173701103194},{"$f":"IF((A!J$2+A!J$3*B187)<A!J$4,A!J$2+A!J$3*B187,A!J$4)","v":3038.9994704232167},{"$f":"IF(B187<A!K$4,A!K$2+A!K$3*(3*B187/(2*A!K$4)-0.5*(B187/A!K$4)^3),A!K$3+A!K$2)","v":3046.3185793516691},{"$f":"(C187*A!$G$5+'C'!D187*A!$H$5+'C'!E187*A!$I$5+'C'!F187*A!$J$5+'C'!G187*A!$K$5)/SUM(A!$G$5:$K$5)","v":3048.1302198561516}]
[288,120,{"$f":"A!G$2+A!G$3*B188+A!G$4*B188^2","v":3031.4861126399446},{"$f":"IF(B188<(A!H$3/(-2*A!H$4)),A!H$2+A!H$3*B188+A!H$4*B188^2,A!H$2+A!H$3*(A!H$3/(-2*A!H$4))+A!H$3*A!H$3/(4*A!H$4))","v":3056.137947013649},{"$f":"A!I$2+A!I$3*EXP(A!I$4*B188)","v":3067.6173701103194},{"$f":"IF((A!J$2+A!J$3*B188)<A!J$4,A!J$2+A!J$3*B188,A!J$4)","v":3038.9994704232167},{"$f":"IF(B188<A!K$4,A!K$2+A!K$3*(3*B188/(2*A!K$4)-0.5*(B188/A!K$4)^3),A!K$3+A!K$2)","v":3046.3185793516691},{"$f":"(C188*A!$G$5+'C'!D188*A!$H$5+'C'!E188*A!$I$5+'C'!F188*A!$J$5+'C'!G188*A!$K$5)/SUM(A!$G$5:$K$5)","v":3048.1302198561516}]
[290,120,{"$f":"A!G$2+A!G$3*B189+A!G$4*B189^2","v":3031.4861126399446},{"$f":"IF(B189<(A!H$3/(-2*A!H$4)),A!H$2+A!H$3*B189+A!H$4*B189^2,A!H$2+A!H$3*(A!H$3/(-2*A!H$4))+A!H$3*A!H$3/(4*A!H$4))","v":3056.137947013649},{"$f":"A!I$2+A!I$3*EXP(A!I$4*B189)","v":3067.6173701103194},{"$f":"IF((A!J$2+A!J$3*B189)<A!J$4,A!J$2+A!J$3*B189,A!J$4)","v":3038.9994704232167},{"$f":"IF(B189<A!K$4,A!K$2+A!K$3*(3*B189/(2*A!K$4)-0.5*(B189/A!K$4)^3),A!K$3+A!K$2)","v":3046.3185793516691},{"$f":"(C189*A!$G$5+'C'!D189*A!$H$5+'C'!E189*A!$I$5+'C'!F189*A!$J$5+'C'!G189*A!$K$5)/SUM(A!$G$5:$K$5)","v":3048.1302198561516}]
[292,120,{"$f":"A!G$2+A!G$3*B190+A!G$4*B190^2","v":3031.4861126399446},{"$f":"IF(B190<(A!H$3/(-2*A!H$4)),A!H$2+A!H$3*B190+A!H$4*B190^2,A!H$2+A!H$3*(A!H$3/(-2*A!H$4))+A!H$3*A!H$3/(4*A!H$4))","v":3056.137947013649},{"$f":"A!I$2+A!I$3*EXP(A!I$4*B190)","v":3067.6173701103194},{"$f":"IF((A!J$2+A!J$3*B190)<A!J$4,A!J$2+A!J$3*B190,A!J$4)","v":3038.9994704232167},{"$f":"IF(B190<A!K$4,A!K$2+A!K$3*(3*B190/(2*A!K$4)-0.5*(B190/A!K$4)^3),A!K$3+A!K$2)","v":3046.3185793516691},{"$f":"(C190*A!$G$5+'C'!D190*A!$H$5+'C'!E190*A!$I$5+'C'!F190*A!$J$5+'C'!G190*A!$K$5)/SUM(A!$G$5:$K$5)","v":3048.1302198561516}]
[294,120,{"$f":"A!G$2+A!G$3*B191+A!G$4*B191^2","v":3031.4861126399446},{"$f":"IF(B191<(A!H$3/(-2*A!H$4)),A!H$2+A!H$3*B191+A!H$4*B191^2,A!H$2+A!H$3*(A!H$3/(-2*A!H$4))+A!H$3*A!H$3/(4*A!H$4))","v":3056.137947013649},{"$f":"A!I$2+A!I$3*EXP(A!I$4*B191)","v":3067.6173701103194},{"$f":"IF((A!J$2+A!J$3*B191)<A!J$4,A!J$2+A!J$3*B191,A!J$4)","v":3038.9994704232167},{"$f":"IF(B191<A!K$4,A!K$2+A!K$3*(3*B191/(2*A!K$4)-0.5*(B191/A!K$4)^3),A!K$3+A!K$2)","v":3046.3185793516691},{"$f":"(C191*A!$G$5+'C'!D191*A!$H$5+'C'!E191*A!$I$5+'C'!F191*A!$J$5+'C'!G191*A!$K$5)/SUM(A!$G$5:$K$5)","v":3048.1302198561516}]
[296,120,{"$f":"A!G$2+A!G$3*B192+A!G$4*B192^2","v":3031.4861126399446},{"$f":"IF(B192<(A!H$3/(-2*A!H$4)),A!H$2+A!H$3*B192+A!H$4*B192^2,A!H$2+A!H$3*(A!H$3/(-2*A!H$4))+A!H$3*A!H$3/(4*A!H$4))","v":3056.137947013649},{"$f":"A!I$2+A!I$3*EXP(A!I$4*B192)","v":3067.6173701103194},{"$f":"IF((A!J$2+A!J$3*B192)<A!J$4,A!J$2+A!J$3*B192,A!J$4)","v":3038.9994704232167},{"$f":"IF(B192<A!K$4,A!K$2+A!K$3*(3*B192/(2*A!K$4)-0.5*(B192/A!K$4)^3),A!K$3+A!K$2)","v":3046.3185793516691},{"$f":"(C192*A!$G$5+'C'!D192*A!$H$5+'C'!E192*A!$I$5+'C'!F192*A!$J$5+'C'!G192*A!$K$5)/SUM(A!$G$5:$K$5)","v":3048.1302198561516}]
[298,120,{"$f":"A!G$2+A!G$3*B193+A!G$4*B193^2","v":3031.4861126399446},{"$f":"IF(B193<(A!H$3/(-2*A!H$4)),A!H$2+A!H$3*B193+A!H$4*B193^2,A!H$2+A!H$3*(A!H$3/(-2*A!H$4))+A!H$3*A!H$3/(4*A!H$4))","v":3056.137947013649},{"$f":"A!I$2+A!I$3*EXP(A!I$4*B193)","v":3067.6173701103194},{"$f":"IF((A!J$2+A!J$3*B193)<A!J$4,A!J$2+A!J$3*B193,A!J$4)","v":3038.9994704232167},{"$f":"IF(B193<A!K$4,A!K$2+A!K$3*(3*B193/(2*A!K$4)-0.5*(B193/A!K$4)^3),A!K$3+A!K$2)","v":3046.3185793516691},{"$f":"(C193*A!$G$5+'C'!D193*A!$H$5+'C'!E193*A!$I$5+'C'!F193*A!$J$5+'C'!G193*A!$K$5)/SUM(A!$G$5:$K$5)","v":3048.1302198561516}]
[300,120,{"$f":"A!G$2+A!G$3*B194+A!G$4*B194^2","v":3031.4861126399446},{"$f":"IF(B194<(A!H$3/(-2*A!H$4)),A!H$2+A!H$3*B194+A!H$4*B194^2,A!H$2+A!H$3*(A!H$3/(-2*A!H$4))+A!H$3*A!H$3/(4*A!H$4))","v":3056.137947013649},{"$f":"A!I$2+A!I$3*EXP(A!I$4*B194)","v":3067.6173701103194},{"$f":"IF((A!J$2+A!J$3*B194)<A!J$4,A!J$2+A!J$3*B194,A!J$4)","v":3038.9994704232167},{"$f":"IF(B194<A!K$4,A!K$2+A!K$3*(3*B194/(2*A!K$4)-0.5*(B194/A!K$4)^3),A!K$3+A!K$2)","v":3046.3185793516691},{"$f":"(C194*A!$G$5+'C'!D194*A!$H$5+'C'!E194*A!$I$5+'C'!F194*A!$J$5+'C'!G194*A!$K$5)/SUM(A!$G$5:$K$5)","v":3048.1302198561516}]
[302,120,{"$f":"A!G$2+A!G$3*B195+A!G$4*B195^2","v":3031.4861126399446},{"$f":"IF(B195<(A!H$3/(-2*A!H$4)),A!H$2+A!H$3*B195+A!H$4*B195^2,A!H$2+A!H$3*(A!H$3/(-2*A!H$4))+A!H$3*A!H$3/(4*A!H$4))","v":3056.137947013649},{"$f":"A!I$2+A!I$3*EXP(A!I$4*B195)","v":3067.6173701103194},{"$f":"IF((A!J$2+A!J$3*B195)<A!J$4,A!J$2+A!J$3*B195,A!J$4)","v":3038.9994704232167},{"$f":"IF(B195<A!K$4,A!K$2+A!K$3*(3*B195/(2*A!K$4)-0.5*(B195/A!K$4)^3),A!K$3+A!K$2)","v":3046.3185793516691},{"$f":"(C195*A!$G$5+'C'!D195*A!$H$5+'C'!E195*A!$I$5+'C'!F195*A!$J$5+'C'!G195*A!$K$5)/SUM(A!$G$5:$K$5)","v":3048.1302198561516}]
[304,120,{"$f":"A!G$2+A!G$3*B196+A!G$4*B196^2","v":3031.4861126399446},{"$f":"IF(B196<(A!H$3/(-2*A!H$4)),A!H$2+A!H$3*B196+A!H$4*B196^2,A!H$2+A!H$3*(A!H$3/(-2*A!H$4))+A!H$3*A!H$3/(4*A!H$4))","v":3056.137947013649},{"$f":"A!I$2+A!I$3*EXP(A!I$4*B196)","v":3067.6173701103194},{"$f":"IF((A!J$2+A!J$3*B196)<A!J$4,A!J$2+A!J$3*B196,A!J$4)","v":3038.9994704232167},{"$f":"IF(B196<A!K$4,A!K$2+A!K$3*(3*B196/(2*A!K$4)-0.5*(B196/A!K$4)^3),A!K$3+A!K$2)","v":3046.3185793516691},{"$f":"(C196*A!$G$5+'C'!D196*A!$H$5+'C'!E196*A!$I$5+'C'!F196*A!$J$5+'C'!G196*A!$K$5)/SUM(A!$G$5:$K$5)","v":3048.1302198561516}]
[306,120,{"$f":"A!G$2+A!G$3*B197+A!G$4*B197^2","v":3031.4861126399446},{"$f":"IF(B197<(A!H$3/(-2*A!H$4)),A!H$2+A!H$3*B197+A!H$4*B197^2,A!H$2+A!H$3*(A!H$3/(-2*A!H$4))+A!H$3*A!H$3/(4*A!H$4))","v":3056.137947013649},{"$f":"A!I$2+A!I$3*EXP(A!I$4*B197)","v":3067.6173701103194},{"$f":"IF((A!J$2+A!J$3*B197)<A!J$4,A!J$2+A!J$3*B197,A!J$4)","v":3038.9994704232167},{"$f":"IF(B197<A!K$4,A!K$2+A!K$3*(3*B197/(2*A!K$4)-0.5*(B197/A!K$4)^3),A!K$3+A!K$2)","v":3046.3185793516691},{"$f":"(C197*A!$G$5+'C'!D197*A!$H$5+'C'!E197*A!$I$5+'C'!F197*A!$J$5+'C'!G197*A!$K$5)/SUM(A!$G$5:$K$5)","v":3048.1302198561516}]
[308,120,{"$f":"A!G$2+A!G$3*B198+A!G$4*B198^2","v":3031.4861126399446},{"$f":"IF(B198<(A!H$3/(-2*A!H$4)),A!H$2+A!H$3*B198+A!H$4*B198^2,A!H$2+A!H$3*(A!H$3/(-2*A!H$4))+A!H$3*A!H$3/(4*A!H$4))","v":3056.137947013649},{"$f":"A!I$2+A!I$3*EXP(A!I$4*B198)","v":3067.6173701103194},{"$f":"IF((A!J$2+A!J$3*B198)<A!J$4,A!J$2+A!J$3*B198,A!J$4)","v":3038.9994704232167},{"$f":"IF(B198<A!K$4,A!K$2+A!K$3*(3*B198/(2*A!K$4)-0.5*(B198/A!K$4)^3),A!K$3+A!K$2)","v":3046.3185793516691},{"$f":"(C198*A!$G$5+'C'!D198*A!$H$5+'C'!E198*A!$I$5+'C'!F198*A!$J$5+'C'!G198*A!$K$5)/SUM(A!$G$5:$K$5)","v":3048.1302198561516}]
[310,120,{"$f":"A!G$2+A!G$3*B199+A!G$4*B199^2","v":3031.4861126399446},{"$f":"IF(B199<(A!H$3/(-2*A!H$4)),A!H$2+A!H$3*B199+A!H$4*B199^2,A!H$2+A!H$3*(A!H$3/(-2*A!H$4))+A!H$3*A!H$3/(4*A!H$4))","v":3056.137947013649},{"$f":"A!I$2+A!I$3*EXP(A!I$4*B199)","v":3067.6173701103194},{"$f":"IF((A!J$2+A!J$3*B199)<A!J$4,A!J$2+A!J$3*B199,A!J$4)","v":3038.9994704232167},{"$f":"IF(B199<A!K$4,A!K$2+A!K$3*(3*B199/(2*A!K$4)-0.5*(B199/A!K$4)^3),A!K$3+A!K$2)","v":3046.3185793516691},{"$f":"(C199*A!$G$5+'C'!D199*A!$H$5+'C'!E199*A!$I$5+'C'!F199*A!$J$5+'C'!G199*A!$K$5)/SUM(A!$G$5:$K$5)","v":3048.1302198561516}]
[312,120,{"$f":"A!G$2+A!G$3*B200+A!G$4*B200^2","v":3031.4861126399446},{"$f":"IF(B200<(A!H$3/(-2*A!H$4)),A!H$2+A!H$3*B200+A!H$4*B200^2,A!H$2+A!H$3*(A!H$3/(-2*A!H$4))+A!H$3*A!H$3/(4*A!H$4))","v":3056.137947013649},{"$f":"A!I$2+A!I$3*EXP(A!I$4*B200)","v":3067.6173701103194},{"$f":"IF((A!J$2+A!J$3*B200)<A!J$4,A!J$2+A!J$3*B200,A!J$4)","v":3038.9994704232167},{"$f":"IF(B200<A!K$4,A!K$2+A!K$3*(3*B200/(2*A!K$4)-0.5*(B200/A!K$4)^3),A!K$3+A!K$2)","v":3046.3185793516691},{"$f":"(C200*A!$G$5+'C'!D200*A!$H$5+'C'!E200*A!$I$5+'C'!F200*A!$J$5+'C'!G200*A!$K$5)/SUM(A!$G$5:$K$5)","v":3048.1302198561516}]
[314,120,{"$f":"A!G$2+A!G$3*B201+A!G$4*B201^2","v":3031.4861126399446},{"$f":"IF(B201<(A!H$3/(-2*A!H$4)),A!H$2+A!H$3*B201+A!H$4*B201^2,A!H$2+A!H$3*(A!H$3/(-2*A!H$4))+A!H$3*A!H$3/(4*A!H$4))","v":3056.137947013649},{"$f":"A!I$2+A!I$3*EXP(A!I$4*B201)","v":3067.6173701103194},{"$f":"IF((A!J$2+A!J$3*B201)<A!J$4,A!J$2+A!J$3*B201,A!J$4)","v":3038.9994704232167},{"$f":"IF(B201<A!K$4,A!K$2+A!K$3*(3*B201/(2*A!K$4)-0.5*(B201/A!K$4)^3),A!K$3+A!K$2)","v":3046.3185793516691},{"$f":"(C201*A!$G$5+'C'!D201*A!$H$5+'C'!E201*A!$I$5+'C'!F201*A!$J$5+'C'!G201*A!$K$5)/SUM(A!$G$5:$K$5)","v":3048.1302198561516}]
[316,120,{"$f":"A!G$2+A!G$3*B202+A!G$4*B202^2","v":3031.4861126399446},{"$f":"IF(B202<(A!H$3/(-2*A!H$4)),A!H$2+A!H$3*B202+A!H$4*B202^2,A!H$2+A!H$3*(A!H$3/(-2*A!H$4))+A!H$3*A!H$3/(4*A!H$4))","v":3056.137947013649},{"$f":"A!I$2+A!I$3*EXP(A!I$4*B202)","v":3067.6173701103194},{"$f":"IF((A!J$2+A!J$3*B202)<A!J$4,A!J$2+A!J$3*B202,A!J$4)","v":3038.9994704232167},{"$f":"IF(B202<A!K$4,A!K$2+A!K$3*(3*B202/(2*A!K$4)-0.5*(B202/A!K$4)^3),A!K$3+A!K$2)","v":3046.3185793516691},{"$f":"(C202*A!$G$5+'C'!D202*A!$H$5+'C'!E202*A!$I$5+'C'!F202*A!$J$5+'C'!G202*A!$K$5)/SUM(A!$G$5:$K$5)","v":3048.1302198561516}]
[318,120,{"$f":"A!G$2+A!G$3*B203+A!G$4*B203^2","v":3031.4861126399446},{"$f":"IF(B203<(A!H$3/(-2*A!H$4)),A!H$2+A!H$3*B203+A!H$4*B203^2,A!H$2+A!H$3*(A!H$3/(-2*A!H$4))+A!H$3*A!H$3/(4*A!H$4))","v":3056.137947013649},{"$f":"A!I$2+A!I$3*EXP(A!I$4*B203)","v":3067.6173701103194},{"$f":"IF((A!J$2+A!J$3*B203)<A!J$4,A!J$2+A!J$3*B203,A!J$4)","v":3038.9994704232167},{"$f":"IF(B203<A!K$4,A!K$2+A!K$3*(3*B203/(2*A!K$4)-0.5*(B203/A!K$4)^3),A!K$3+A!K$2)","v":3046.3185793516691},{"$f":"(C203*A!$G$5+'C'!D203*A!$H$5+'C'!E203*A!$I$5+'C'!F203*A!$J$5+'C'!G203*A!$K$5)/SUM(A!$G$5:$K$5)","v":3048.1302198561516}]
[320,120,{"$f":"A!G$2+A!G$3*B204+A!G$4*B204^2","v":3031.4861126399446},{"$f":"IF(B204<(A!H$3/(-2*A!H$4)),A!H$2+A!H$3*B204+A!H$4*B204^2,A!H$2+A!H$3*(A!H$3/(-2*A!H$4))+A!H$3*A!H$3/(4*A!H$4))","v":3056.137947013649},{"$f":"A!I$2+A!I$3*EXP(A!I$4*B204)","v":3067.6173701103194},{"$f":"IF((A!J$2+A!J$3*B204)<A!J$4,A!J$2+A!J$3*B204,A!J$4)","v":3038.9994704232167},{"$f":"IF(B204<A!K$4,A!K$2+A!K$3*(3*B204/(2*A!K$4)-0.5*(B204/A!K$4)^3),A!K$3+A!K$2)","v":3046.3185793516691},{"$f":"(C204*A!$G$5+'C'!D204*A!$H$5+'C'!E204*A!$I$5+'C'!F204*A!$J$5+'C'!G204*A!$K$5)/SUM(A!$G$5:$K$5)","v":3048.1302198561516}]
[322,120,{"$f":"A!G$2+A!G$3*B205+A!G$4*B205^2","v":3031.4861126399446},{"$f":"IF(B205<(A!H$3/(-2*A!H$4)),A!H$2+A!H$3*B205+A!H$4*B205^2,A!H$2+A!H$3*(A!H$3/(-2*A!H$4))+A!H$3*A!H$3/(4*A!H$4))","v":3056.137947013649},{"$f":"A!I$2+A!I$3*EXP(A!I$4*B205)","v":3067.6173701103194},{"$f":"IF((A!J$2+A!J$3*B205)<A!J$4,A!J$2+A!J$3*B205,A!J$4)","v":3038.9994704232167},{"$f":"IF(B205<A!K$4,A!K$2+A!K$3*(3*B205/(2*A!K$4)-0.5*(B205/A!K$4)^3),A!K$3+A!K$2)","v":3046.3185793516691},{"$f":"(C205*A!$G$5+'C'!D205*A!$H$5+'C'!E205*A!$I$5+'C'!F205*A!$J$5+'C'!G205*A!$K$5)/SUM(A!$G$5:$K$5)","v":3048.1302198561516}]
[324,120,{"$f":"A!G$2+A!G$3*B206+A!G$4*B206^2","v":3031.4861126399446},{"$f":"IF(B206<(A!H$3/(-2*A!H$4)),A!H$2+A!H$3*B206+A!H$4*B206^2,A!H$2+A!H$3*(A!H$3/(-2*A!H$4))+A!H$3*A!H$3/(4*A!H$4))","v":3056.137947013649},{"$f":"A!I$2+A!I$3*EXP(A!I$4*B206)","v":3067.6173701103194},{"$f":"IF((A!J$2+A!J$3*B206)<A!J$4,A!J$2+A!J$3*B206,A!J$4)","v":3038.9994704232167},{"$f":"IF(B206<A!K$4,A!K$2+A!K$3*(3*B206/(2*A!K$4)-0.5*(B206/A!K$4)^3),A!K$3+A!K$2)","v":3046.3185793516691},{"$f":"(C206*A!$G$5+'C'!D206*A!$H$5+'C'!E206*A!$I$5+'C'!F206*A!$J$5+'C'!G206*A!$K$5)/SUM(A!$G$5:$K$5)","v":3048.1302198561516}]
[326,120,{"$f":"A!G$2+A!G$3*B207+A!G$4*B207^2","v":3031.4861126399446},{"$f":"IF(B207<(A!H$3/(-2*A!H$4)),A!H$2+A!H$3*B207+A!H$4*B207^2,A!H$2+A!H$3*(A!H$3/(-2*A!H$4))+A!H$3*A!H$3/(4*A!H$4))","v":3056.137947013649},{"$f":"A!I$2+A!I$3*EXP(A!I$4*B207)","v":3067.6173701103194},{"$f":"IF((A!J$2+A!J$3*B207)<A!J$4,A!J$2+A!J$3*B207,A!J$4)","v":3038.9994704232167},{"$f":"IF(B207<A!K$4,A!K$2+A!K$3*(3*B207/(2*A!K$4)-0.5*(B207/A!K$4)^3),A!K$3+A!K$2)","v":3046.3185793516691},{"$f":"(C207*A!$G$5+'C'!D207*A!$H$5+'C'!E207*A!$I$5+'C'!F207*A!$J$5+'C'!G207*A!$K$5)/SUM(A!$G$5:$K$5)","v":3048.1302198561516}]
[328,120,{"$f":"A!G$2+A!G$3*B208+A!G$4*B208^2","v":3031.4861126399446},{"$f":"IF(B208<(A!H$3/(-2*A!H$4)),A!H$2+A!H$3*B208+A!H$4*B208^2,A!H$2+A!H$3*(A!H$3/(-2*A!H$4))+A!H$3*A!H$3/(4*A!H$4))","v":3056.137947013649},{"$f":"A!I$2+A!I$3*EXP(A!I$4*B208)","v":3067.6173701103194},{"$f":"IF((A!J$2+A!J$3*B208)<A!J$4,A!J$2+A!J$3*B208,A!J$4)","v":3038.9994704232167},{"$f":"IF(B208<A!K$4,A!K$2+A!K$3*(3*B208/(2*A!K$4)-0.5*(B208/A!K$4)^3),A!K$3+A!K$2)","v":3046.3185793516691},{"$f":"(C208*A!$G$5+'C'!D208*A!$H$5+'C'!E208*A!$I$5+'C'!F208*A!$J$5+'C'!G208*A!$K$5)/SUM(A!$G$5:$K$5)","v":3048.1302198561516}]
[330,120,{"$f":"A!G$2+A!G$3*B209+A!G$4*B209^2","v":3031.4861126399446},{"$f":"IF(B209<(A!H$3/(-2*A!H$4)),A!H$2+A!H$3*B209+A!H$4*B209^2,A!H$2+A!H$3*(A!H$3/(-2*A!H$4))+A!H$3*A!H$3/(4*A!H$4))","v":3056.137947013649},{"$f":"A!I$2+A!I$3*EXP(A!I$4*B209)","v":3067.6173701103194},{"$f":"IF((A!J$2+A!J$3*B209)<A!J$4,A!J$2+A!J$3*B209,A!J$4)","v":3038.9994704232167},{"$f":"IF(B209<A!K$4,A!K$2+A!K$3*(3*B209/(2*A!K$4)-0.5*(B209/A!K$4)^3),A!K$3+A!K$2)","v":3046.3185793516691},{"$f":"(C209*A!$G$5+'C'!D209*A!$H$5+'C'!E209*A!$I$5+'C'!F209*A!$J$5+'C'!G209*A!$K$5)/SUM(A!$G$5:$K$5)","v":3048.1302198561516}]
[332,120,{"$f":"A!G$2+A!G$3*B210+A!G$4*B210^2","v":3031.4861126399446},{"$f":"IF(B210<(A!H$3/(-2*A!H$4)),A!H$2+A!H$3*B210+A!H$4*B210^2,A!H$2+A!H$3*(A!H$3/(-2*A!H$4))+A!H$3*A!H$3/(4*A!H$4))","v":3056.137947013649},{"$f":"A!I$2+A!I$3*EXP(A!I$4*B210)","v":3067.6173701103194},{"$f":"IF((A!J$2+A!J$3*B210)<A!J$4,A!J$2+A!J$3*B210,A!J$4)","v":3038.9994704232167},{"$f":"IF(B210<A!K$4,A!K$2+A!K$3*(3*B210/(2*A!K$4)-0.5*(B210/A!K$4)^3),A!K$3+A!K$2)","v":3046.3185793516691},{"$f":"(C210*A!$G$5+'C'!D210*A!$H$5+'C'!E210*A!$I$5+'C'!F210*A!$J$5+'C'!G210*A!$K$5)/SUM(A!$G$5:$K$5)","v":3048.1302198561516}]
[334,120,{"$f":"A!G$2+A!G$3*B211+A!G$4*B211^2","v":3031.4861126399446},{"$f":"IF(B211<(A!H$3/(-2*A!H$4)),A!H$2+A!H$3*B211+A!H$4*B211^2,A!H$2+A!H$3*(A!H$3/(-2*A!H$4))+A!H$3*A!H$3/(4*A!H$4))","v":3056.137947013649},{"$f":"A!I$2+A!I$3*EXP(A!I$4*B211)","v":3067.6173701103194},{"$f":"IF((A!J$2+A!J$3*B211)<A!J$4,A!J$2+A!J$3*B211,A!J$4)","v":3038.9994704232167},{"$f":"IF(B211<A!K$4,A!K$2+A!K$3*(3*B211/(2*A!K$4)-0.5*(B211/A!K$4)^3),A!K$3+A!K$2)","v":3046.3185793516691},{"$f":"(C211*A!$G$5+'C'!D211*A!$H$5+'C'!E211*A!$I$5+'C'!F211*A!$J$5+'C'!G211*A!$K$5)/SUM(A!$G$5:$K$5)","v":3048.1302198561516}]
[336,120,{"$f":"A!G$2+A!G$3*B212+A!G$4*B212^2","v":3031.4861126399446},{"$f":"IF(B212<(A!H$3/(-2*A!H$4)),A!H$2+A!H$3*B212+A!H$4*B212^2,A!H$2+A!H$3*(A!H$3/(-2*A!H$4))+A!H$3*A!H$3/(4*A!H$4))","v":3056.137947013649},{"$f":"A!I$2+A!I$3*EXP(A!I$4*B212)","v":3067.6173701103194},{"$f":"IF((A!J$2+A!J$3*B212)<A!J$4,A!J$2+A!J$3*B212,A!J$4)","v":3038.9994704232167},{"$f":"IF(B212<A!K$4,A!K$2+A!K$3*(3*B212/(2*A!K$4)-0.5*(B212/A!K$4)^3),A!K$3+A!K$2)","v":3046.3185793516691},{"$f":"(C212*A!$G$5+'C'!D212*A!$H$5+'C'!E212*A!$I$5+'C'!F212*A!$J$5+'C'!G212*A!$K$5)/SUM(A!$G$5:$K$5)","v":3048.1302198561516}]
[338,120,{"$f":"A!G$2+A!G$3*B213+A!G$4*B213^2","v":3031.4861126399446},{"$f":"IF(B213<(A!H$3/(-2*A!H$4)),A!H$2+A!H$3*B213+A!H$4*B213^2,A!H$2+A!H$3*(A!H$3/(-2*A!H$4))+A!H$3*A!H$3/(4*A!H$4))","v":3056.137947013649},{"$f":"A!I$2+A!I$3*EXP(A!I$4*B213)","v":3067.6173701103194},{"$f":"IF((A!J$2+A!J$3*B213)<A!J$4,A!J$2+A!J$3*B213,A!J$4)","v":3038.9994704232167},{"$f":"IF(B213<A!K$4,A!K$2+A!K$3*(3*B213/(2*A!K$4)-0.5*(B213/A!K$4)^3),A!K$3+A!K$2)","v":3046.3185793516691},{"$f":"(C213*A!$G$5+'C'!D213*A!$H$5+'C'!E213*A!$I$5+'C'!F213*A!$J$5+'C'!G213*A!$K$5)/SUM(A!$G$5:$K$5)","v":3048.1302198561516}]
[340,120,{"$f":"A!G$2+A!G$3*B214+A!G$4*B214^2","v":3031.4861126399446},{"$f":"IF(B214<(A!H$3/(-2*A!H$4)),A!H$2+A!H$3*B214+A!H$4*B214^2,A!H$2+A!H$3*(A!H$3/(-2*A!H$4))+A!H$3*A!H$3/(4*A!H$4))","v":3056.137947013649},{"$f":"A!I$2+A!I$3*EXP(A!I$4*B214)","v":3067.6173701103194},{"$f":"IF((A!J$2+A!J$3*B214)<A!J$4,A!J$2+A!J$3*B214,A!J$4)","v":3038.9994704232167},{"$f":"IF(B214<A!K$4,A!K$2+A!K$3*(3*B214/(2*A!K$4)-0.5*(B214/A!K$4)^3),A!K$3+A!K$2)","v":3046.3185793516691},{"$f":"(C214*A!$G$5+'C'!D214*A!$H$5+'C'!E214*A!$I$5+'C'!F214*A!$J$5+'C'!G214*A!$K$5)/SUM(A!$G$5:$K$5)","v":3048.1302198561516}]
[342,120,{"$f":"A!G$2+A!G$3*B215+A!G$4*B215^2","v":3031.4861126399446},{"$f":"IF(B215<(A!H$3/(-2*A!H$4)),A!H$2+A!H$3*B215+A!H$4*B215^2,A!H$2+A!H$3*(A!H$3/(-2*A!H$4))+A!H$3*A!H$3/(4*A!H$4))","v":3056.137947013649},{"$f":"A!I$2+A!I$3*EXP(A!I$4*B215)","v":3067.6173701103194},{"$f":"IF((A!J$2+A!J$3*B215)<A!J$4,A!J$2+A!J$3*B215,A!J$4)","v":3038.9994704232167},{"$f":"IF(B215<A!K$4,A!K$2+A!K$3*(3*B215/(2*A!K$4)-0.5*(B215/A!K$4)^3),A!K$3+A!K$2)","v":3046.3185793516691},{"$f":"(C215*A!$G$5+'C'!D215*A!$H$5+'C'!E215*A!$I$5+'C'!F215*A!$J$5+'C'!G215*A!$K$5)/SUM(A!$G$5:$K$5)","v":3048.1302198561516}]
[344,120,{"$f":"A!G$2+A!G$3*B216+A!G$4*B216^2","v":3031.4861126399446},{"$f":"IF(B216<(A!H$3/(-2*A!H$4)),A!H$2+A!H$3*B216+A!H$4*B216^2,A!H$2+A!H$3*(A!H$3/(-2*A!H$4))+A!H$3*A!H$3/(4*A!H$4))","v":3056.137947013649},{"$f":"A!I$2+A!I$3*EXP(A!I$4*B216)","v":3067.6173701103194},{"$f":"IF((A!J$2+A!J$3*B216)<A!J$4,A!J$2+A!J$3*B216,A!J$4)","v":3038.9994704232167},{"$f":"IF(B216<A!K$4,A!K$2+A!K$3*(3*B216/(2*A!K$4)-0.5*(B216/A!K$4)^3),A!K$3+A!K$2)","v":3046.3185793516691},{"$f":"(C216*A!$G$5+'C'!D216*A!$H$5+'C'!E216*A!$I$5+'C'!F216*A!$J$5+'C'!G216*A!$K$5)/SUM(A!$G$5:$K$5)","v":3048.1302198561516}]
[346,120,{"$f":"A!G$2+A!G$3*B217+A!G$4*B217^2","v":3031.4861126399446},{"$f":"IF(B217<(A!H$3/(-2*A!H$4)),A!H$2+A!H$3*B217+A!H$4*B217^2,A!H$2+A!H$3*(A!H$3/(-2*A!H$4))+A!H$3*A!H$3/(4*A!H$4))","v":3056.137947013649},{"$f":"A!I$2+A!I$3*EXP(A!I$4*B217)","v":3067.6173701103194},{"$f":"IF((A!J$2+A!J$3*B217)<A!J$4,A!J$2+A!J$3*B217,A!J$4)","v":3038.9994704232167},{"$f":"IF(B217<A!K$4,A!K$2+A!K$3*(3*B217/(2*A!K$4)-0.5*(B217/A!K$4)^3),A!K$3+A!K$2)","v":3046.3185793516691},{"$f":"(C217*A!$G$5+'C'!D217*A!$H$5+'C'!E217*A!$I$5+'C'!F217*A!$J$5+'C'!G217*A!$K$5)/SUM(A!$G$5:$K$5)","v":3048.1302198561516}]
[348,120,{"$f":"A!G$2+A!G$3*B218+A!G$4*B218^2","v":3031.4861126399446},{"$f":"IF(B218<(A!H$3/(-2*A!H$4)),A!H$2+A!H$3*B218+A!H$4*B218^2,A!H$2+A!H$3*(A!H$3/(-2*A!H$4))+A!H$3*A!H$3/(4*A!H$4))","v":3056.137947013649},{"$f":"A!I$2+A!I$3*EXP(A!I$4*B218)","v":3067.6173701103194},{"$f":"IF((A!J$2+A!J$3*B218)<A!J$4,A!J$2+A!J$3*B218,A!J$4)","v":3038.9994704232167},{"$f":"IF(B218<A!K$4,A!K$2+A!K$3*(3*B218/(2*A!K$4)-0.5*(B218/A!K$4)^3),A!K$3+A!K$2)","v":3046.3185793516691},{"$f":"(C218*A!$G$5+'C'!D218*A!$H$5+'C'!E218*A!$I$5+'C'!F218*A!$J$5+'C'!G218*A!$K$5)/SUM(A!$G$5:$K$5)","v":3048.1302198561516}]
[350,120,{"$f":"A!G$2+A!G$3*B219+A!G$4*B219^2","v":3031.4861126399446},{"$f":"IF(B219<(A!H$3/(-2*A!H$4)),A!H$2+A!H$3*B219+A!H$4*B219^2,A!H$2+A!H$3*(A!H$3/(-2*A!H$4))+A!H$3*A!H$3/(4*A!H$4))","v":3056.137947013649},{"$f":"A!I$2+A!I$3*EXP(A!I$4*B219)","v":3067.6173701103194},{"$f":"IF((A!J$2+A!J$3*B219)<A!J$4,A!J$2+A!J$3*B219,A!J$4)","v":3038.9994704232167},{"$f":"IF(B219<A!K$4,A!K$2+A!K$3*(3*B219/(2*A!K$4)-0.5*(B219/A!K$4)^3),A!K$3+A!K$2)","v":3046.3185793516691},{"$f":"(C219*A!$G$5+'C'!D219*A!$H$5+'C'!E219*A!$I$5+'C'!F219*A!$J$5+'C'!G219*A!$K$5)/SUM(A!$G$5:$K$5)","v":3048.1302198561516}]
[352,120,{"$f":"A!G$2+A!G$3*B220+A!G$4*B220^2","v":3031.4861126399446},{"$f":"IF(B220<(A!H$3/(-2*A!H$4)),A!H$2+A!H$3*B220+A!H$4*B220^2,A!H$2+A!H$3*(A!H$3/(-2*A!H$4))+A!H$3*A!H$3/(4*A!H$4))","v":3056.137947013649},{"$f":"A!I$2+A!I$3*EXP(A!I$4*B220)","v":3067.6173701103194},{"$f":"IF((A!J$2+A!J$3*B220)<A!J$4,A!J$2+A!J$3*B220,A!J$4)","v":3038.9994704232167},{"$f":"IF(B220<A!K$4,A!K$2+A!K$3*(3*B220/(2*A!K$4)-0.5*(B220/A!K$4)^3),A!K$3+A!K$2)","v":3046.3185793516691},{"$f":"(C220*A!$G$5+'C'!D220*A!$H$5+'C'!E220*A!$I$5+'C'!F220*A!$J$5+'C'!G220*A!$K$5)/SUM(A!$G$5:$K$5)","v":3048.1302198561516}]
[354,120,{"$f":"A!G$2+A!G$3*B221+A!G$4*B221^2","v":3031.4861126399446},{"$f":"IF(B221<(A!H$3/(-2*A!H$4)),A!H$2+A!H$3*B221+A!H$4*B221^2,A!H$2+A!H$3*(A!H$3/(-2*A!H$4))+A!H$3*A!H$3/(4*A!H$4))","v":3056.137947013649},{"$f":"A!I$2+A!I$3*EXP(A!I$4*B221)","v":3067.6173701103194},{"$f":"IF((A!J$2+A!J$3*B221)<A!J$4,A!J$2+A!J$3*B221,A!J$4)","v":3038.9994704232167},{"$f":"IF(B221<A!K$4,A!K$2+A!K$3*(3*B221/(2*A!K$4)-0.5*(B221/A!K$4)^3),A!K$3+A!K$2)","v":3046.3185793516691},{"$f":"(C221*A!$G$5+'C'!D221*A!$H$5+'C'!E221*A!$I$5+'C'!F221*A!$J$5+'C'!G221*A!$K$5)/SUM(A!$G$5:$K$5)","v":3048.1302198561516}]
[356,120,{"$f":"A!G$2+A!G$3*B222+A!G$4*B222^2","v":3031.4861126399446},{"$f":"IF(B222<(A!H$3/(-2*A!H$4)),A!H$2+A!H$3*B222+A!H$4*B222^2,A!H$2+A!H$3*(A!H$3/(-2*A!H$4))+A!H$3*A!H$3/(4*A!H$4))","v":3056.137947013649},{"$f":"A!I$2+A!I$3*EXP(A!I$4*B222)","v":3067.6173701103194},{"$f":"IF((A!J$2+A!J$3*B222)<A!J$4,A!J$2+A!J$3*B222,A!J$4)","v":3038.9994704232167},{"$f":"IF(B222<A!K$4,A!K$2+A!K$3*(3*B222/(2*A!K$4)-0.5*(B222/A!K$4)^3),A!K$3+A!K$2)","v":3046.3185793516691},{"$f":"(C222*A!$G$5+'C'!D222*A!$H$5+'C'!E222*A!$I$5+'C'!F222*A!$J$5+'C'!G222*A!$K$5)/SUM(A!$G$5:$K$5)","v":3048.1302198561516}]
[358,120,{"$f":"A!G$2+A!G$3*B223+A!G$4*B223^2","v":3031.4861126399446},{"$f":"IF(B223<(A!H$3/(-2*A!H$4)),A!H$2+A!H$3*B223+A!H$4*B223^2,A!H$2+A!H$3*(A!H$3/(-2*A!H$4))+A!H$3*A!H$3/(4*A!H$4))","v":3056.137947013649},{"$f":"A!I$2+A!I$3*EXP(A!I$4*B223)","v":3067.6173701103194},{"$f":"IF((A!J$2+A!J$3*B223)<A!J$4,A!J$2+A!J$3*B223,A!J$4)","v":3038.9994704232167},{"$f":"IF(B223<A!K$4,A!K$2+A!K$3*(3*B223/(2*A!K$4)-0.5*(B223/A!K$4)^3),A!K$3+A!K$2)","v":3046.3185793516691},{"$f":"(C223*A!$G$5+'C'!D223*A!$H$5+'C'!E223*A!$I$5+'C'!F223*A!$J$5+'C'!G223*A!$K$5)/SUM(A!$G$5:$K$5)","v":3048.1302198561516}]
[360,120,{"$f":"A!G$2+A!G$3*B224+A!G$4*B224^2","v":3031.4861126399446},{"$f":"IF(B224<(A!H$3/(-2*A!H$4)),A!H$2+A!H$3*B224+A!H$4*B224^2,A!H$2+A!H$3*(A!H$3/(-2*A!H$4))+A!H$3*A!H$3/(4*A!H$4))","v":3056.137947013649},{"$f":"A!I$2+A!I$3*EXP(A!I$4*B224)","v":3067.6173701103194},{"$f":"IF((A!J$2+A!J$3*B224)<A!J$4,A!J$2+A!J$3*B224,A!J$4)","v":3038.9994704232167},{"$f":"IF(B224<A!K$4,A!K$2+A!K$3*(3*B224/(2*A!K$4)-0.5*(B224/A!K$4)^3),A!K$3+A!K$2)","v":3046.3185793516691},{"$f":"(C224*A!$G$5+'C'!D224*A!$H$5+'C'!E224*A!$I$5+'C'!F224*A!$J$5+'C'!G224*A!$K$5)/SUM(A!$G$5:$K$5)","v":3048.1302198561516}]
[362,120,{"$f":"A!G$2+A!G$3*B225+A!G$4*B225^2","v":3031.4861126399446},{"$f":"IF(B225<(A!H$3/(-2*A!H$4)),A!H$2+A!H$3*B225+A!H$4*B225^2,A!H$2+A!H$3*(A!H$3/(-2*A!H$4))+A!H$3*A!H$3/(4*A!H$4))","v":3056.137947013649},{"$f":"A!I$2+A!I$3*EXP(A!I$4*B225)","v":3067.6173701103194},{"$f":"IF((A!J$2+A!J$3*B225)<A!J$4,A!J$2+A!J$3*B225,A!J$4)","v":3038.9994704232167},{"$f":"IF(B225<A!K$4,A!K$2+A!K$3*(3*B225/(2*A!K$4)-0.5*(B225/A!K$4)^3),A!K$3+A!K$2)","v":3046.3185793516691},{"$f":"(C225*A!$G$5+'C'!D225*A!$H$5+'C'!E225*A!$I$5+'C'!F225*A!$J$5+'C'!G225*A!$K$5)/SUM(A!$G$5:$K$5)","v":3048.1302198561516}]
[364,120,{"$f":"A!G$2+A!G$3*B226+A!G$4*B226^2","v":3031.4861126399446},{"$f":"IF(B226<(A!H$3/(-2*A!H$4)),A!H$2+A!H$3*B226+A!H$4*B226^2,A!H$2+A!H$3*(A!H$3/(-2*A!H$4))+A!H$3*A!H$3/(4*A!H$4))","v":3056.137947013649},{"$f":"A!I$2+A!I$3*EXP(A!I$4*B226)","v":3067.6173701103194},{"$f":"IF((A!J$2+A!J$3*B226)<A!J$4,A!J$2+A!J$3*B226,A!J$4)","v":3038.9994704232167},{"$f":"IF(B226<A!K$4,A!K$2+A!K$3*(3*B226/(2*A!K$4)-0.5*(B226/A!K$4)^3),A!K$3+A!K$2)","v":3046.3185793516691},{"$f":"(C226*A!$G$5+'C'!D226*A!$H$5+'C'!E226*A!$I$5+'C'!F226*A!$J$5+'C'!G226*A!$K$5)/SUM(A!$G$5:$K$5)","v":3048.1302198561516}]
[366,120,{"$f":"A!G$2+A!G$3*B227+A!G$4*B227^2","v":3031.4861126399446},{"$f":"IF(B227<(A!H$3/(-2*A!H$4)),A!H$2+A!H$3*B227+A!H$4*B227^2,A!H$2+A!H$3*(A!H$3/(-2*A!H$4))+A!H$3*A!H$3/(4*A!H$4))","v":3056.137947013649},{"$f":"A!I$2+A!I$3*EXP(A!I$4*B227)","v":3067.6173701103194},{"$f":"IF((A!J$2+A!J$3*B227)<A!J$4,A!J$2+A!J$3*B227,A!J$4)","v":3038.9994704232167},{"$f":"IF(B227<A!K$4,A!K$2+A!K$3*(3*B227/(2*A!K$4)-0.5*(B227/A!K$4)^3),A!K$3+A!K$2)","v":3046.3185793516691},{"$f":"(C227*A!$G$5+'C'!D227*A!$H$5+'C'!E227*A!$I$5+'C'!F227*A!$J$5+'C'!G227*A!$K$5)/SUM(A!$G$5:$K$5)","v":3048.1302198561516}]
[368,120,{"$f":"A!G$2+A!G$3*B228+A!G$4*B228^2","v":3031.4861126399446},{"$f":"IF(B228<(A!H$3/(-2*A!H$4)),A!H$2+A!H$3*B228+A!H$4*B228^2,A!H$2+A!H$3*(A!H$3/(-2*A!H$4))+A!H$3*A!H$3/(4*A!H$4))","v":3056.137947013649},{"$f":"A!I$2+A!I$3*EXP(A!I$4*B228)","v":3067.6173701103194},{"$f":"IF((A!J$2+A!J$3*B228)<A!J$4,A!J$2+A!J$3*B228,A!J$4)","v":3038.9994704232167},{"$f":"IF(B228<A!K$4,A!K$2+A!K$3*(3*B228/(2*A!K$4)-0.5*(B228/A!K$4)^3),A!K$3+A!K$2)","v":3046.3185793516691},{"$f":"(C228*A!$G$5+'C'!D228*A!$H$5+'C'!E228*A!$I$5+'C'!F228*A!$J$5+'C'!G228*A!$K$5)/SUM(A!$G$5:$K$5)","v":3048.1302198561516}]
[370,120,{"$f":"A!G$2+A!G$3*B229+A!G$4*B229^2","v":3031.4861126399446},{"$f":"IF(B229<(A!H$3/(-2*A!H$4)),A!H$2+A!H$3*B229+A!H$4*B229^2,A!H$2+A!H$3*(A!H$3/(-2*A!H$4))+A!H$3*A!H$3/(4*A!H$4))","v":3056.137947013649},{"$f":"A!I$2+A!I$3*EXP(A!I$4*B229)","v":3067.6173701103194},{"$f":"IF((A!J$2+A!J$3*B229)<A!J$4,A!J$2+A!J$3*B229,A!J$4)","v":3038.9994704232167},{"$f":"IF(B229<A!K$4,A!K$2+A!K$3*(3*B229/(2*A!K$4)-0.5*(B229/A!K$4)^3),A!K$3+A!K$2)","v":3046.3185793516691},{"$f":"(C229*A!$G$5+'C'!D229*A!$H$5+'C'!E229*A!$I$5+'C'!F229*A!$J$5+'C'!G229*A!$K$5)/SUM(A!$G$5:$K$5)","v":3048.1302198561516}]
[372,120,{"$f":"A!G$2+A!G$3*B230+A!G$4*B230^2","v":3031.4861126399446},{"$f":"IF(B230<(A!H$3/(-2*A!H$4)),A!H$2+A!H$3*B230+A!H$4*B230^2,A!H$2+A!H$3*(A!H$3/(-2*A!H$4))+A!H$3*A!H$3/(4*A!H$4))","v":3056.137947013649},{"$f":"A!I$2+A!I$3*EXP(A!I$4*B230)","v":3067.6173701103194},{"$f":"IF((A!J$2+A!J$3*B230)<A!J$4,A!J$2+A!J$3*B230,A!J$4)","v":3038.9994704232167},{"$f":"IF(B230<A!K$4,A!K$2+A!K$3*(3*B230/(2*A!K$4)-0.5*(B230/A!K$4)^3),A!K$3+A!K$2)","v":3046.3185793516691},{"$f":"(C230*A!$G$5+'C'!D230*A!$H$5+'C'!E230*A!$I$5+'C'!F230*A!$J$5+'C'!G230*A!$K$5)/SUM(A!$G$5:$K$5)","v":3048.1302198561516}]
[374,120,{"$f":"A!G$2+A!G$3*B231+A!G$4*B231^2","v":3031.4861126399446},{"$f":"IF(B231<(A!H$3/(-2*A!H$4)),A!H$2+A!H$3*B231+A!H$4*B231^2,A!H$2+A!H$3*(A!H$3/(-2*A!H$4))+A!H$3*A!H$3/(4*A!H$4))","v":3056.137947013649},{"$f":"A!I$2+A!I$3*EXP(A!I$4*B231)","v":3067.6173701103194},{"$f":"IF((A!J$2+A!J$3*B231)<A!J$4,A!J$2+A!J$3*B231,A!J$4)","v":3038.9994704232167},{"$f":"IF(B231<A!K$4,A!K$2+A!K$3*(3*B231/(2*A!K$4)-0.5*(B231/A!K$4)^3),A!K$3+A!K$2)","v":3046.3185793516691},{"$f":"(C231*A!$G$5+'C'!D231*A!$H$5+'C'!E231*A!$I$5+'C'!F231*A!$J$5+'C'!G231*A!$K$5)/SUM(A!$G$5:$K$5)","v":3048.1302198561516}]
[376,120,{"$f":"A!G$2+A!G$3*B232+A!G$4*B232^2","v":3031.4861126399446},{"$f":"IF(B232<(A!H$3/(-2*A!H$4)),A!H$2+A!H$3*B232+A!H$4*B232^2,A!H$2+A!H$3*(A!H$3/(-2*A!H$4))+A!H$3*A!H$3/(4*A!H$4))","v":3056.137947013649},{"$f":"A!I$2+A!I$3*EXP(A!I$4*B232)","v":3067.6173701103194},{"$f":"IF((A!J$2+A!J$3*B232)<A!J$4,A!J$2+A!J$3*B232,A!J$4)","v":3038.9994704232167},{"$f":"IF(B232<A!K$4,A!K$2+A!K$3*(3*B232/(2*A!K$4)-0.5*(B232/A!K$4)^3),A!K$3+A!K$2)","v":3046.3185793516691},{"$f":"(C232*A!$G$5+'C'!D232*A!$H$5+'C'!E232*A!$I$5+'C'!F232*A!$J$5+'C'!G232*A!$K$5)/SUM(A!$G$5:$K$5)","v":3048.1302198561516}]
[378,120,{"$f":"A!G$2+A!G$3*B233+A!G$4*B233^2","v":3031.4861126399446},{"$f":"IF(B233<(A!H$3/(-2*A!H$4)),A!H$2+A!H$3*B233+A!H$4*B233^2,A!H$2+A!H$3*(A!H$3/(-2*A!H$4))+A!H$3*A!H$3/(4*A!H$4))","v":3056.137947013649},{"$f":"A!I$2+A!I$3*EXP(A!I$4*B233)","v":3067.6173701103194},{"$f":"IF((A!J$2+A!J$3*B233)<A!J$4,A!J$2+A!J$3*B233,A!J$4)","v":3038.9994704232167},{"$f":"IF(B233<A!K$4,A!K$2+A!K$3*(3*B233/(2*A!K$4)-0.5*(B233/A!K$4)^3),A!K$3+A!K$2)","v":3046.3185793516691},{"$f":"(C233*A!$G$5+'C'!D233*A!$H$5+'C'!E233*A!$I$5+'C'!F233*A!$J$5+'C'!G233*A!$K$5)/SUM(A!$G$5:$K$5)","v":3048.1302198561516}]
[380,120,{"$f":"A!G$2+A!G$3*B234+A!G$4*B234^2","v":3031.4861126399446},{"$f":"IF(B234<(A!H$3/(-2*A!H$4)),A!H$2+A!H$3*B234+A!H$4*B234^2,A!H$2+A!H$3*(A!H$3/(-2*A!H$4))+A!H$3*A!H$3/(4*A!H$4))","v":3056.137947013649},{"$f":"A!I$2+A!I$3*EXP(A!I$4*B234)","v":3067.6173701103194},{"$f":"IF((A!J$2+A!J$3*B234)<A!J$4,A!J$2+A!J$3*B234,A!J$4)","v":3038.9994704232167},{"$f":"IF(B234<A!K$4,A!K$2+A!K$3*(3*B234/(2*A!K$4)-0.5*(B234/A!K$4)^3),A!K$3+A!K$2)","v":3046.3185793516691},{"$f":"(C234*A!$G$5+'C'!D234*A!$H$5+'C'!E234*A!$I$5+'C'!F234*A!$J$5+'C'!G234*A!$K$5)/SUM(A!$G$5:$K$5)","v":3048.1302198561516}]
[382,120,{"$f":"A!G$2+A!G$3*B235+A!G$4*B235^2","v":3031.4861126399446},{"$f":"IF(B235<(A!H$3/(-2*A!H$4)),A!H$2+A!H$3*B235+A!H$4*B235^2,A!H$2+A!H$3*(A!H$3/(-2*A!H$4))+A!H$3*A!H$3/(4*A!H$4))","v":3056.137947013649},{"$f":"A!I$2+A!I$3*EXP(A!I$4*B235)","v":3067.6173701103194},{"$f":"IF((A!J$2+A!J$3*B235)<A!J$4,A!J$2+A!J$3*B235,A!J$4)","v":3038.9994704232167},{"$f":"IF(B235<A!K$4,A!K$2+A!K$3*(3*B235/(2*A!K$4)-0.5*(B235/A!K$4)^3),A!K$3+A!K$2)","v":3046.3185793516691},{"$f":"(C235*A!$G$5+'C'!D235*A!$H$5+'C'!E235*A!$I$5+'C'!F235*A!$J$5+'C'!G235*A!$K$5)/SUM(A!$G$5:$K$5)","v":3048.1302198561516}]
[384,120,{"$f":"A!G$2+A!G$3*B236+A!G$4*B236^2","v":3031.4861126399446},{"$f":"IF(B236<(A!H$3/(-2*A!H$4)),A!H$2+A!H$3*B236+A!H$4*B236^2,A!H$2+A!H$3*(A!H$3/(-2*A!H$4))+A!H$3*A!H$3/(4*A!H$4))","v":3056.137947013649},{"$f":"A!I$2+A!I$3*EXP(A!I$4*B236)","v":3067.6173701103194},{"$f":"IF((A!J$2+A!J$3*B236)<A!J$4,A!J$2+A!J$3*B236,A!J$4)","v":3038.9994704232167},{"$f":"IF(B236<A!K$4,A!K$2+A!K$3*(3*B236/(2*A!K$4)-0.5*(B236/A!K$4)^3),A!K$3+A!K$2)","v":3046.3185793516691},{"$f":"(C236*A!$G$5+'C'!D236*A!$H$5+'C'!E236*A!$I$5+'C'!F236*A!$J$5+'C'!G236*A!$K$5)/SUM(A!$G$5:$K$5)","v":3048.1302198561516}]
[386,{"$f":"IF(A237<MAX($M$44),A237,MAX($M$44))","v":120},{"$f":"A!G$2+A!G$3*B237+A!G$4*B237^2","v":3031.4861126399446},{"$f":"IF(B237<(A!H$3/(-2*A!H$4)),A!H$2+A!H$3*B237+A!H$4*B237^2,A!H$2+A!H$3*(A!H$3/(-2*A!H$4))+A!H$3*A!H$3/(4*A!H$4))","v":3056.137947013649},{"$f":"A!I$2+A!I$3*EXP(A!I$4*B237)","v":3067.6173701103194},{"$f":"IF((A!J$2+A!J$3*B237)<A!J$4,A!J$2+A!J$3*B237,A!J$4)","v":3038.9994704232167},{"$f":"IF(B237<A!K$4,A!K$2+A!K$3*(3*B237/(2*A!K$4)-0.5*(B237/A!K$4)^3),A!K$3+A!K$2)","v":3046.3185793516691},{"$f":"(C237*A!$G$5+'C'!D237*A!$H$5+'C'!E237*A!$I$5+'C'!F237*A!$J$5+'C'!G237*A!$K$5)/SUM(A!$G$5:$K$5)","v":3048.1302198561516}]
[388,120,{"$f":"A!G$2+A!G$3*B238+A!G$4*B238^2","v":3031.4861126399446},{"$f":"IF(B238<(A!H$3/(-2*A!H$4)),A!H$2+A!H$3*B238+A!H$4*B238^2,A!H$2+A!H$3*(A!H$3/(-2*A!H$4))+A!H$3*A!H$3/(4*A!H$4))","v":3056.137947013649},{"$f":"A!I$2+A!I$3*EXP(A!I$4*B238)","v":3067.6173701103194},{"$f":"IF((A!J$2+A!J$3*B238)<A!J$4,A!J$2+A!J$3*B238,A!J$4)","v":3038.9994704232167},{"$f":"IF(B238<A!K$4,A!K$2+A!K$3*(3*B238/(2*A!K$4)-0.5*(B238/A!K$4)^3),A!K$3+A!K$2)","v":3046.3185793516691},{"$f":"(C238*A!$G$5+'C'!D238*A!$H$5+'C'!E238*A!$I$5+'C'!F238*A!$J$5+'C'!G238*A!$K$5)/SUM(A!$G$5:$K$5)","v":3048.1302198561516}]
[390,120,{"$f":"A!G$2+A!G$3*B239+A!G$4*B239^2","v":3031.4861126399446},{"$f":"IF(B239<(A!H$3/(-2*A!H$4)),A!H$2+A!H$3*B239+A!H$4*B239^2,A!H$2+A!H$3*(A!H$3/(-2*A!H$4))+A!H$3*A!H$3/(4*A!H$4))","v":3056.137947013649},{"$f":"A!I$2+A!I$3*EXP(A!I$4*B239)","v":3067.6173701103194},{"$f":"IF((A!J$2+A!J$3*B239)<A!J$4,A!J$2+A!J$3*B239,A!J$4)","v":3038.9994704232167},{"$f":"IF(B239<A!K$4,A!K$2+A!K$3*(3*B239/(2*A!K$4)-0.5*(B239/A!K$4)^3),A!K$3+A!K$2)","v":3046.3185793516691},{"$f":"(C239*A!$G$5+'C'!D239*A!$H$5+'C'!E239*A!$I$5+'C'!F239*A!$J$5+'C'!G239*A!$K$5)/SUM(A!$G$5:$K$5)","v":3048.1302198561516}]
[392,120,{"$f":"A!G$2+A!G$3*B240+A!G$4*B240^2","v":3031.4861126399446},{"$f":"IF(B240<(A!H$3/(-2*A!H$4)),A!H$2+A!H$3*B240+A!H$4*B240^2,A!H$2+A!H$3*(A!H$3/(-2*A!H$4))+A!H$3*A!H$3/(4*A!H$4))","v":3056.137947013649},{"$f":"A!I$2+A!I$3*EXP(A!I$4*B240)","v":3067.6173701103194},{"$f":"IF((A!J$2+A!J$3*B240)<A!J$4,A!J$2+A!J$3*B240,A!J$4)","v":3038.9994704232167},{"$f":"IF(B240<A!K$4,A!K$2+A!K$3*(3*B240/(2*A!K$4)-0.5*(B240/A!K$4)^3),A!K$3+A!K$2)","v":3046.3185793516691},{"$f":"(C240*A!$G$5+'C'!D240*A!$H$5+'C'!E240*A!$I$5+'C'!F240*A!$J$5+'C'!G240*A!$K$5)/SUM(A!$G$5:$K$5)","v":3048.1302198561516}]
[394,120,{"$f":"A!G$2+A!G$3*B241+A!G$4*B241^2","v":3031.4861126399446},{"$f":"IF(B241<(A!H$3/(-2*A!H$4)),A!H$2+A!H$3*B241+A!H$4*B241^2,A!H$2+A!H$3*(A!H$3/(-2*A!H$4))+A!H$3*A!H$3/(4*A!H$4))","v":3056.137947013649},{"$f":"A!I$2+A!I$3*EXP(A!I$4*B241)","v":3067.6173701103194},{"$f":"IF((A!J$2+A!J$3*B241)<A!J$4,A!J$2+A!J$3*B241,A!J$4)","v":3038.9994704232167},{"$f":"IF(B241<A!K$4,A!K$2+A!K$3*(3*B241/(2*A!K$4)-0.5*(B241/A!K$4)^3),A!K$3+A!K$2)","v":3046.3185793516691},{"$f":"(C241*A!$G$5+'C'!D241*A!$H$5+'C'!E241*A!$I$5+'C'!F241*A!$J$5+'C'!G241*A!$K$5)/SUM(A!$G$5:$K$5)","v":3048.1302198561516}]
[396,120,{"$f":"A!G$2+A!G$3*B242+A!G$4*B242^2","v":3031.4861126399446},{"$f":"IF(B242<(A!H$3/(-2*A!H$4)),A!H$2+A!H$3*B242+A!H$4*B242^2,A!H$2+A!H$3*(A!H$3/(-2*A!H$4))+A!H$3*A!H$3/(4*A!H$4))","v":3056.137947013649},{"$f":"A!I$2+A!I$3*EXP(A!I$4*B242)","v":3067.6173701103194},{"$f":"IF((A!J$2+A!J$3*B242)<A!J$4,A!J$2+A!J$3*B242,A!J$4)","v":3038.9994704232167},{"$f":"IF(B242<A!K$4,A!K$2+A!K$3*(3*B242/(2*A!K$4)-0.5*(B242/A!K$4)^3),A!K$3+A!K$2)","v":3046.3185793516691},{"$f":"(C242*A!$G$5+'C'!D242*A!$H$5+'C'!E242*A!$I$5+'C'!F242*A!$J$5+'C'!G242*A!$K$5)/SUM(A!$G$5:$K$5)","v":3048.1302198561516}]
[398,120,{"$f":"A!G$2+A!G$3*B243+A!G$4*B243^2","v":3031.4861126399446},{"$f":"IF(B243<(A!H$3/(-2*A!H$4)),A!H$2+A!H$3*B243+A!H$4*B243^2,A!H$2+A!H$3*(A!H$3/(-2*A!H$4))+A!H$3*A!H$3/(4*A!H$4))","v":3056.137947013649},{"$f":"A!I$2+A!I$3*EXP(A!I$4*B243)","v":3067.6173701103194},{"$f":"IF((A!J$2+A!J$3*B243)<A!J$4,A!J$2+A!J$3*B243,A!J$4)","v":3038.9994704232167},{"$f":"IF(B243<A!K$4,A!K$2+A!K$3*(3*B243/(2*A!K$4)-0.5*(B243/A!K$4)^3),A!K$3+A!K$2)","v":3046.3185793516691},{"$f":"(C243*A!$G$5+'C'!D243*A!$H$5+'C'!E243*A!$I$5+'C'!F243*A!$J$5+'C'!G243*A!$K$5)/SUM(A!$G$5:$K$5)","v":3048.1302198561516}]
[400,120,{"$f":"A!G$2+A!G$3*B244+A!G$4*B244^2","v":3031.4861126399446},{"$f":"IF(B244<(A!H$3/(-2*A!H$4)),A!H$2+A!H$3*B244+A!H$4*B244^2,A!H$2+A!H$3*(A!H$3/(-2*A!H$4))+A!H$3*A!H$3/(4*A!H$4))","v":3056.137947013649},{"$f":"A!I$2+A!I$3*EXP(A!I$4*B244)","v":3067.6173701103194},{"$f":"IF((A!J$2+A!J$3*B244)<A!J$4,A!J$2+A!J$3*B244,A!J$4)","v":3038.9994704232167},{"$f":"IF(B244<A!K$4,A!K$2+A!K$3*(3*B244/(2*A!K$4)-0.5*(B244/A!K$4)^3),A!K$3+A!K$2)","v":3046.3185793516691},{"$f":"(C244*A!$G$5+'C'!D244*A!$H$5+'C'!E244*A!$I$5+'C'!F244*A!$J$5+'C'!G244*A!$K$5)/SUM(A!$G$5:$K$5)","v":3048.1302198561516}]
[402,120,{"$f":"A!G$2+A!G$3*B245+A!G$4*B245^2","v":3031.4861126399446},{"$f":"IF(B245<(A!H$3/(-2*A!H$4)),A!H$2+A!H$3*B245+A!H$4*B245^2,A!H$2+A!H$3*(A!H$3/(-2*A!H$4))+A!H$3*A!H$3/(4*A!H$4))","v":3056.137947013649},{"$f":"A!I$2+A!I$3*EXP(A!I$4*B245)","v":3067.6173701103194},{"$f":"IF((A!J$2+A!J$3*B245)<A!J$4,A!J$2+A!J$3*B245,A!J$4)","v":3038.9994704232167},{"$f":"IF(B245<A!K$4,A!K$2+A!K$3*(3*B245/(2*A!K$4)-0.5*(B245/A!K$4)^3),A!K$3+A!K$2)","v":3046.3185793516691},{"$f":"(C245*A!$G$5+'C'!D245*A!$H$5+'C'!E245*A!$I$5+'C'!F245*A!$J$5+'C'!G245*A!$K$5)/SUM(A!$G$5:$K$5)","v":3048.1302198561516}]
[404,120,{"$f":"A!G$2+A!G$3*B246+A!G$4*B246^2","v":3031.4861126399446},{"$f":"IF(B246<(A!H$3/(-2*A!H$4)),A!H$2+A!H$3*B246+A!H$4*B246^2,A!H$2+A!H$3*(A!H$3/(-2*A!H$4))+A!H$3*A!H$3/(4*A!H$4))","v":3056.137947013649},{"$f":"A!I$2+A!I$3*EXP(A!I$4*B246)","v":3067.6173701103194},{"$f":"IF((A!J$2+A!J$3*B246)<A!J$4,A!J$2+A!J$3*B246,A!J$4)","v":3038.9994704232167},{"$f":"IF(B246<A!K$4,A!K$2+A!K$3*(3*B246/(2*A!K$4)-0.5*(B246/A!K$4)^3),A!K$3+A!K$2)","v":3046.3185793516691},{"$f":"(C246*A!$G$5+'C'!D246*A!$H$5+'C'!E246*A!$I$5+'C'!F246*A!$J$5+'C'!G246*A!$K$5)/SUM(A!$G$5:$K$5)","v":3048.1302198561516}]
[406,120,{"$f":"A!G$2+A!G$3*B247+A!G$4*B247^2","v":3031.4861126399446},{"$f":"IF(B247<(A!H$3/(-2*A!H$4)),A!H$2+A!H$3*B247+A!H$4*B247^2,A!H$2+A!H$3*(A!H$3/(-2*A!H$4))+A!H$3*A!H$3/(4*A!H$4))","v":3056.137947013649},{"$f":"A!I$2+A!I$3*EXP(A!I$4*B247)","v":3067.6173701103194},{"$f":"IF((A!J$2+A!J$3*B247)<A!J$4,A!J$2+A!J$3*B247,A!J$4)","v":3038.9994704232167},{"$f":"IF(B247<A!K$4,A!K$2+A!K$3*(3*B247/(2*A!K$4)-0.5*(B247/A!K$4)^3),A!K$3+A!K$2)","v":3046.3185793516691},{"$f":"(C247*A!$G$5+'C'!D247*A!$H$5+'C'!E247*A!$I$5+'C'!F247*A!$J$5+'C'!G247*A!$K$5)/SUM(A!$G$5:$K$5)","v":3048.1302198561516}]
[408,120,{"$f":"A!G$2+A!G$3*B248+A!G$4*B248^2","v":3031.4861126399446},{"$f":"IF(B248<(A!H$3/(-2*A!H$4)),A!H$2+A!H$3*B248+A!H$4*B248^2,A!H$2+A!H$3*(A!H$3/(-2*A!H$4))+A!H$3*A!H$3/(4*A!H$4))","v":3056.137947013649},{"$f":"A!I$2+A!I$3*EXP(A!I$4*B248)","v":3067.6173701103194},{"$f":"IF((A!J$2+A!J$3*B248)<A!J$4,A!J$2+A!J$3*B248,A!J$4)","v":3038.9994704232167},{"$f":"IF(B248<A!K$4,A!K$2+A!K$3*(3*B248/(2*A!K$4)-0.5*(B248/A!K$4)^3),A!K$3+A!K$2)","v":3046.3185793516691},{"$f":"(C248*A!$G$5+'C'!D248*A!$H$5+'C'!E248*A!$I$5+'C'!F248*A!$J$5+'C'!G248*A!$K$5)/SUM(A!$G$5:$K$5)","v":3048.1302198561516}]
[410,120,{"$f":"A!G$2+A!G$3*B249+A!G$4*B249^2","v":3031.4861126399446},{"$f":"IF(B249<(A!H$3/(-2*A!H$4)),A!H$2+A!H$3*B249+A!H$4*B249^2,A!H$2+A!H$3*(A!H$3/(-2*A!H$4))+A!H$3*A!H$3/(4*A!H$4))","v":3056.137947013649},{"$f":"A!I$2+A!I$3*EXP(A!I$4*B249)","v":3067.6173701103194},{"$f":"IF((A!J$2+A!J$3*B249)<A!J$4,A!J$2+A!J$3*B249,A!J$4)","v":3038.9994704232167},{"$f":"IF(B249<A!K$4,A!K$2+A!K$3*(3*B249/(2*A!K$4)-0.5*(B249/A!K$4)^3),A!K$3+A!K$2)","v":3046.3185793516691},{"$f":"(C249*A!$G$5+'C'!D249*A!$H$5+'C'!E249*A!$I$5+'C'!F249*A!$J$5+'C'!G249*A!$K$5)/SUM(A!$G$5:$K$5)","v":3048.1302198561516}]
[412,120,{"$f":"A!G$2+A!G$3*B250+A!G$4*B250^2","v":3031.4861126399446},{"$f":"IF(B250<(A!H$3/(-2*A!H$4)),A!H$2+A!H$3*B250+A!H$4*B250^2,A!H$2+A!H$3*(A!H$3/(-2*A!H$4))+A!H$3*A!H$3/(4*A!H$4))","v":3056.137947013649},{"$f":"A!I$2+A!I$3*EXP(A!I$4*B250)","v":3067.6173701103194},{"$f":"IF((A!J$2+A!J$3*B250)<A!J$4,A!J$2+A!J$3*B250,A!J$4)","v":3038.9994704232167},{"$f":"IF(B250<A!K$4,A!K$2+A!K$3*(3*B250/(2*A!K$4)-0.5*(B250/A!K$4)^3),A!K$3+A!K$2)","v":3046.3185793516691},{"$f":"(C250*A!$G$5+'C'!D250*A!$H$5+'C'!E250*A!$I$5+'C'!F250*A!$J$5+'C'!G250*A!$K$5)/SUM(A!$G$5:$K$5)","v":3048.1302198561516}]
[414,120,{"$f":"A!G$2+A!G$3*B251+A!G$4*B251^2","v":3031.4861126399446},{"$f":"IF(B251<(A!H$3/(-2*A!H$4)),A!H$2+A!H$3*B251+A!H$4*B251^2,A!H$2+A!H$3*(A!H$3/(-2*A!H$4))+A!H$3*A!H$3/(4*A!H$4))","v":3056.137947013649},{"$f":"A!I$2+A!I$3*EXP(A!I$4*B251)","v":3067.6173701103194},{"$f":"IF((A!J$2+A!J$3*B251)<A!J$4,A!J$2+A!J$3*B251,A!J$4)","v":3038.9994704232167},{"$f":"IF(B251<A!K$4,A!K$2+A!K$3*(3*B251/(2*A!K$4)-0.5*(B251/A!K$4)^3),A!K$3+A!K$2)","v":3046.3185793516691},{"$f":"(C251*A!$G$5+'C'!D251*A!$H$5+'C'!E251*A!$I$5+'C'!F251*A!$J$5+'C'!G251*A!$K$5)/SUM(A!$G$5:$K$5)","v":3048.1302198561516}]
[416,120,{"$f":"A!G$2+A!G$3*B252+A!G$4*B252^2","v":3031.4861126399446},{"$f":"IF(B252<(A!H$3/(-2*A!H$4)),A!H$2+A!H$3*B252+A!H$4*B252^2,A!H$2+A!H$3*(A!H$3/(-2*A!H$4))+A!H$3*A!H$3/(4*A!H$4))","v":3056.137947013649},{"$f":"A!I$2+A!I$3*EXP(A!I$4*B252)","v":3067.6173701103194},{"$f":"IF((A!J$2+A!J$3*B252)<A!J$4,A!J$2+A!J$3*B252,A!J$4)","v":3038.9994704232167},{"$f":"IF(B252<A!K$4,A!K$2+A!K$3*(3*B252/(2*A!K$4)-0.5*(B252/A!K$4)^3),A!K$3+A!K$2)","v":3046.3185793516691},{"$f":"(C252*A!$G$5+'C'!D252*A!$H$5+'C'!E252*A!$I$5+'C'!F252*A!$J$5+'C'!G252*A!$K$5)/SUM(A!$G$5:$K$5)","v":3048.1302198561516}]
[418,120,{"$f":"A!G$2+A!G$3*B253+A!G$4*B253^2","v":3031.4861126399446},{"$f":"IF(B253<(A!H$3/(-2*A!H$4)),A!H$2+A!H$3*B253+A!H$4*B253^2,A!H$2+A!H$3*(A!H$3/(-2*A!H$4))+A!H$3*A!H$3/(4*A!H$4))","v":3056.137947013649},{"$f":"A!I$2+A!I$3*EXP(A!I$4*B253)","v":3067.6173701103194},{"$f":"IF((A!J$2+A!J$3*B253)<A!J$4,A!J$2+A!J$3*B253,A!J$4)","v":3038.9994704232167},{"$f":"IF(B253<A!K$4,A!K$2+A!K$3*(3*B253/(2*A!K$4)-0.5*(B253/A!K$4)^3),A!K$3+A!K$2)","v":3046.3185793516691},{"$f":"(C253*A!$G$5+'C'!D253*A!$H$5+'C'!E253*A!$I$5+'C'!F253*A!$J$5+'C'!G253*A!$K$5)/SUM(A!$G$5:$K$5)","v":3048.1302198561516}]
[420,120,{"$f":"A!G$2+A!G$3*B254+A!G$4*B254^2","v":3031.4861126399446},{"$f":"IF(B254<(A!H$3/(-2*A!H$4)),A!H$2+A!H$3*B254+A!H$4*B254^2,A!H$2+A!H$3*(A!H$3/(-2*A!H$4))+A!H$3*A!H$3/(4*A!H$4))","v":3056.137947013649},{"$f":"A!I$2+A!I$3*EXP(A!I$4*B254)","v":3067.6173701103194},{"$f":"IF((A!J$2+A!J$3*B254)<A!J$4,A!J$2+A!J$3*B254,A!J$4)","v":3038.9994704232167},{"$f":"IF(B254<A!K$4,A!K$2+A!K$3*(3*B254/(2*A!K$4)-0.5*(B254/A!K$4)^3),A!K$3+A!K$2)","v":3046.3185793516691},{"$f":"(C254*A!$G$5+'C'!D254*A!$H$5+'C'!E254*A!$I$5+'C'!F254*A!$J$5+'C'!G254*A!$K$5)/SUM(A!$G$5:$K$5)","v":3048.1302198561516}]
[422,120,{"$f":"A!G$2+A!G$3*B255+A!G$4*B255^2","v":3031.4861126399446},{"$f":"IF(B255<(A!H$3/(-2*A!H$4)),A!H$2+A!H$3*B255+A!H$4*B255^2,A!H$2+A!H$3*(A!H$3/(-2*A!H$4))+A!H$3*A!H$3/(4*A!H$4))","v":3056.137947013649},{"$f":"A!I$2+A!I$3*EXP(A!I$4*B255)","v":3067.6173701103194},{"$f":"IF((A!J$2+A!J$3*B255)<A!J$4,A!J$2+A!J$3*B255,A!J$4)","v":3038.9994704232167},{"$f":"IF(B255<A!K$4,A!K$2+A!K$3*(3*B255/(2*A!K$4)-0.5*(B255/A!K$4)^3),A!K$3+A!K$2)","v":3046.3185793516691},{"$f":"(C255*A!$G$5+'C'!D255*A!$H$5+'C'!E255*A!$I$5+'C'!F255*A!$J$5+'C'!G255*A!$K$5)/SUM(A!$G$5:$K$5)","v":3048.1302198561516}]
[424,120,{"$f":"A!G$2+A!G$3*B256+A!G$4*B256^2","v":3031.4861126399446},{"$f":"IF(B256<(A!H$3/(-2*A!H$4)),A!H$2+A!H$3*B256+A!H$4*B256^2,A!H$2+A!H$3*(A!H$3/(-2*A!H$4))+A!H$3*A!H$3/(4*A!H$4))","v":3056.137947013649},{"$f":"A!I$2+A!I$3*EXP(A!I$4*B256)","v":3067.6173701103194},{"$f":"IF((A!J$2+A!J$3*B256)<A!J$4,A!J$2+A!J$3*B256,A!J$4)","v":3038.9994704232167},{"$f":"IF(B256<A!K$4,A!K$2+A!K$3*(3*B256/(2*A!K$4)-0.5*(B256/A!K$4)^3),A!K$3+A!K$2)","v":3046.3185793516691},{"$f":"(C256*A!$G$5+'C'!D256*A!$H$5+'C'!E256*A!$I$5+'C'!F256*A!$J$5+'C'!G256*A!$K$5)/SUM(A!$G$5:$K$5)","v":3048.1302198561516}]
[426,120,{"$f":"A!G$2+A!G$3*B257+A!G$4*B257^2","v":3031.4861126399446},{"$f":"IF(B257<(A!H$3/(-2*A!H$4)),A!H$2+A!H$3*B257+A!H$4*B257^2,A!H$2+A!H$3*(A!H$3/(-2*A!H$4))+A!H$3*A!H$3/(4*A!H$4))","v":3056.137947013649},{"$f":"A!I$2+A!I$3*EXP(A!I$4*B257)","v":3067.6173701103194},{"$f":"IF((A!J$2+A!J$3*B257)<A!J$4,A!J$2+A!J$3*B257,A!J$4)","v":3038.9994704232167},{"$f":"IF(B257<A!K$4,A!K$2+A!K$3*(3*B257/(2*A!K$4)-0.5*(B257/A!K$4)^3),A!K$3+A!K$2)","v":3046.3185793516691},{"$f":"(C257*A!$G$5+'C'!D257*A!$H$5+'C'!E257*A!$I$5+'C'!F257*A!$J$5+'C'!G257*A!$K$5)/SUM(A!$G$5:$K$5)","v":3048.1302198561516}]
[428,120,{"$f":"A!G$2+A!G$3*B258+A!G$4*B258^2","v":3031.4861126399446},{"$f":"IF(B258<(A!H$3/(-2*A!H$4)),A!H$2+A!H$3*B258+A!H$4*B258^2,A!H$2+A!H$3*(A!H$3/(-2*A!H$4))+A!H$3*A!H$3/(4*A!H$4))","v":3056.137947013649},{"$f":"A!I$2+A!I$3*EXP(A!I$4*B258)","v":3067.6173701103194},{"$f":"IF((A!J$2+A!J$3*B258)<A!J$4,A!J$2+A!J$3*B258,A!J$4)","v":3038.9994704232167},{"$f":"IF(B258<A!K$4,A!K$2+A!K$3*(3*B258/(2*A!K$4)-0.5*(B258/A!K$4)^3),A!K$3+A!K$2)","v":3046.3185793516691},{"$f":"(C258*A!$G$5+'C'!D258*A!$H$5+'C'!E258*A!$I$5+'C'!F258*A!$J$5+'C'!G258*A!$K$5)/SUM(A!$G$5:$K$5)","v":3048.1302198561516}]
[430,120,{"$f":"A!G$2+A!G$3*B259+A!G$4*B259^2","v":3031.4861126399446},{"$f":"IF(B259<(A!H$3/(-2*A!H$4)),A!H$2+A!H$3*B259+A!H$4*B259^2,A!H$2+A!H$3*(A!H$3/(-2*A!H$4))+A!H$3*A!H$3/(4*A!H$4))","v":3056.137947013649},{"$f":"A!I$2+A!I$3*EXP(A!I$4*B259)","v":3067.6173701103194},{"$f":"IF((A!J$2+A!J$3*B259)<A!J$4,A!J$2+A!J$3*B259,A!J$4)","v":3038.9994704232167},{"$f":"IF(B259<A!K$4,A!K$2+A!K$3*(3*B259/(2*A!K$4)-0.5*(B259/A!K$4)^3),A!K$3+A!K$2)","v":3046.3185793516691},{"$f":"(C259*A!$G$5+'C'!D259*A!$H$5+'C'!E259*A!$I$5+'C'!F259*A!$J$5+'C'!G259*A!$K$5)/SUM(A!$G$5:$K$5)","v":3048.1302198561516}]
[432,120,{"$f":"A!G$2+A!G$3*B260+A!G$4*B260^2","v":3031.4861126399446},{"$f":"IF(B260<(A!H$3/(-2*A!H$4)),A!H$2+A!H$3*B260+A!H$4*B260^2,A!H$2+A!H$3*(A!H$3/(-2*A!H$4))+A!H$3*A!H$3/(4*A!H$4))","v":3056.137947013649},{"$f":"A!I$2+A!I$3*EXP(A!I$4*B260)","v":3067.6173701103194},{"$f":"IF((A!J$2+A!J$3*B260)<A!J$4,A!J$2+A!J$3*B260,A!J$4)","v":3038.9994704232167},{"$f":"IF(B260<A!K$4,A!K$2+A!K$3*(3*B260/(2*A!K$4)-0.5*(B260/A!K$4)^3),A!K$3+A!K$2)","v":3046.3185793516691},{"$f":"(C260*A!$G$5+'C'!D260*A!$H$5+'C'!E260*A!$I$5+'C'!F260*A!$J$5+'C'!G260*A!$K$5)/SUM(A!$G$5:$K$5)","v":3048.1302198561516}]
[434,120,{"$f":"A!G$2+A!G$3*B261+A!G$4*B261^2","v":3031.4861126399446},{"$f":"IF(B261<(A!H$3/(-2*A!H$4)),A!H$2+A!H$3*B261+A!H$4*B261^2,A!H$2+A!H$3*(A!H$3/(-2*A!H$4))+A!H$3*A!H$3/(4*A!H$4))","v":3056.137947013649},{"$f":"A!I$2+A!I$3*EXP(A!I$4*B261)","v":3067.6173701103194},{"$f":"IF((A!J$2+A!J$3*B261)<A!J$4,A!J$2+A!J$3*B261,A!J$4)","v":3038.9994704232167},{"$f":"IF(B261<A!K$4,A!K$2+A!K$3*(3*B261/(2*A!K$4)-0.5*(B261/A!K$4)^3),A!K$3+A!K$2)","v":3046.3185793516691},{"$f":"(C261*A!$G$5+'C'!D261*A!$H$5+'C'!E261*A!$I$5+'C'!F261*A!$J$5+'C'!G261*A!$K$5)/SUM(A!$G$5:$K$5)","v":3048.1302198561516}]
[436,120,{"$f":"A!G$2+A!G$3*B262+A!G$4*B262^2","v":3031.4861126399446},{"$f":"IF(B262<(A!H$3/(-2*A!H$4)),A!H$2+A!H$3*B262+A!H$4*B262^2,A!H$2+A!H$3*(A!H$3/(-2*A!H$4))+A!H$3*A!H$3/(4*A!H$4))","v":3056.137947013649},{"$f":"A!I$2+A!I$3*EXP(A!I$4*B262)","v":3067.6173701103194},{"$f":"IF((A!J$2+A!J$3*B262)<A!J$4,A!J$2+A!J$3*B262,A!J$4)","v":3038.9994704232167},{"$f":"IF(B262<A!K$4,A!K$2+A!K$3*(3*B262/(2*A!K$4)-0.5*(B262/A!K$4)^3),A!K$3+A!K$2)","v":3046.3185793516691},{"$f":"(C262*A!$G$5+'C'!D262*A!$H$5+'C'!E262*A!$I$5+'C'!F262*A!$J$5+'C'!G262*A!$K$5)/SUM(A!$G$5:$K$5)","v":3048.1302198561516}]
[438,120,{"$f":"A!G$2+A!G$3*B263+A!G$4*B263^2","v":3031.4861126399446},{"$f":"IF(B263<(A!H$3/(-2*A!H$4)),A!H$2+A!H$3*B263+A!H$4*B263^2,A!H$2+A!H$3*(A!H$3/(-2*A!H$4))+A!H$3*A!H$3/(4*A!H$4))","v":3056.137947013649},{"$f":"A!I$2+A!I$3*EXP(A!I$4*B263)","v":3067.6173701103194},{"$f":"IF((A!J$2+A!J$3*B263)<A!J$4,A!J$2+A!J$3*B263,A!J$4)","v":3038.9994704232167},{"$f":"IF(B263<A!K$4,A!K$2+A!K$3*(3*B263/(2*A!K$4)-0.5*(B263/A!K$4)^3),A!K$3+A!K$2)","v":3046.3185793516691},{"$f":"(C263*A!$G$5+'C'!D263*A!$H$5+'C'!E263*A!$I$5+'C'!F263*A!$J$5+'C'!G263*A!$K$5)/SUM(A!$G$5:$K$5)","v":3048.1302198561516}]
[440,120,{"$f":"A!G$2+A!G$3*B264+A!G$4*B264^2","v":3031.4861126399446},{"$f":"IF(B264<(A!H$3/(-2*A!H$4)),A!H$2+A!H$3*B264+A!H$4*B264^2,A!H$2+A!H$3*(A!H$3/(-2*A!H$4))+A!H$3*A!H$3/(4*A!H$4))","v":3056.137947013649},{"$f":"A!I$2+A!I$3*EXP(A!I$4*B264)","v":3067.6173701103194},{"$f":"IF((A!J$2+A!J$3*B264)<A!J$4,A!J$2+A!J$3*B264,A!J$4)","v":3038.9994704232167},{"$f":"IF(B264<A!K$4,A!K$2+A!K$3*(3*B264/(2*A!K$4)-0.5*(B264/A!K$4)^3),A!K$3+A!K$2)","v":3046.3185793516691},{"$f":"(C264*A!$G$5+'C'!D264*A!$H$5+'C'!E264*A!$I$5+'C'!F264*A!$J$5+'C'!G264*A!$K$5)/SUM(A!$G$5:$K$5)","v":3048.1302198561516}]
[442,120,{"$f":"A!G$2+A!G$3*B265+A!G$4*B265^2","v":3031.4861126399446},{"$f":"IF(B265<(A!H$3/(-2*A!H$4)),A!H$2+A!H$3*B265+A!H$4*B265^2,A!H$2+A!H$3*(A!H$3/(-2*A!H$4))+A!H$3*A!H$3/(4*A!H$4))","v":3056.137947013649},{"$f":"A!I$2+A!I$3*EXP(A!I$4*B265)","v":3067.6173701103194},{"$f":"IF((A!J$2+A!J$3*B265)<A!J$4,A!J$2+A!J$3*B265,A!J$4)","v":3038.9994704232167},{"$f":"IF(B265<A!K$4,A!K$2+A!K$3*(3*B265/(2*A!K$4)-0.5*(B265/A!K$4)^3),A!K$3+A!K$2)","v":3046.3185793516691},{"$f":"(C265*A!$G$5+'C'!D265*A!$H$5+'C'!E265*A!$I$5+'C'!F265*A!$J$5+'C'!G265*A!$K$5)/SUM(A!$G$5:$K$5)","v":3048.1302198561516}]
[444,120,{"$f":"A!G$2+A!G$3*B266+A!G$4*B266^2","v":3031.4861126399446},{"$f":"IF(B266<(A!H$3/(-2*A!H$4)),A!H$2+A!H$3*B266+A!H$4*B266^2,A!H$2+A!H$3*(A!H$3/(-2*A!H$4))+A!H$3*A!H$3/(4*A!H$4))","v":3056.137947013649},{"$f":"A!I$2+A!I$3*EXP(A!I$4*B266)","v":3067.6173701103194},{"$f":"IF((A!J$2+A!J$3*B266)<A!J$4,A!J$2+A!J$3*B266,A!J$4)","v":3038.9994704232167},{"$f":"IF(B266<A!K$4,A!K$2+A!K$3*(3*B266/(2*A!K$4)-0.5*(B266/A!K$4)^3),A!K$3+A!K$2)","v":3046.3185793516691},{"$f":"(C266*A!$G$5+'C'!D266*A!$H$5+'C'!E266*A!$I$5+'C'!F266*A!$J$5+'C'!G266*A!$K$5)/SUM(A!$G$5:$K$5)","v":3048.1302198561516}]
[446,120,{"$f":"A!G$2+A!G$3*B267+A!G$4*B267^2","v":3031.4861126399446},{"$f":"IF(B267<(A!H$3/(-2*A!H$4)),A!H$2+A!H$3*B267+A!H$4*B267^2,A!H$2+A!H$3*(A!H$3/(-2*A!H$4))+A!H$3*A!H$3/(4*A!H$4))","v":3056.137947013649},{"$f":"A!I$2+A!I$3*EXP(A!I$4*B267)","v":3067.6173701103194},{"$f":"IF((A!J$2+A!J$3*B267)<A!J$4,A!J$2+A!J$3*B267,A!J$4)","v":3038.9994704232167},{"$f":"IF(B267<A!K$4,A!K$2+A!K$3*(3*B267/(2*A!K$4)-0.5*(B267/A!K$4)^3),A!K$3+A!K$2)","v":3046.3185793516691},{"$f":"(C267*A!$G$5+'C'!D267*A!$H$5+'C'!E267*A!$I$5+'C'!F267*A!$J$5+'C'!G267*A!$K$5)/SUM(A!$G$5:$K$5)","v":3048.1302198561516}]
[448,120,{"$f":"A!G$2+A!G$3*B268+A!G$4*B268^2","v":3031.4861126399446},{"$f":"IF(B268<(A!H$3/(-2*A!H$4)),A!H$2+A!H$3*B268+A!H$4*B268^2,A!H$2+A!H$3*(A!H$3/(-2*A!H$4))+A!H$3*A!H$3/(4*A!H$4))","v":3056.137947013649},{"$f":"A!I$2+A!I$3*EXP(A!I$4*B268)","v":3067.6173701103194},{"$f":"IF((A!J$2+A!J$3*B268)<A!J$4,A!J$2+A!J$3*B268,A!J$4)","v":3038.9994704232167},{"$f":"IF(B268<A!K$4,A!K$2+A!K$3*(3*B268/(2*A!K$4)-0.5*(B268/A!K$4)^3),A!K$3+A!K$2)","v":3046.3185793516691},{"$f":"(C268*A!$G$5+'C'!D268*A!$H$5+'C'!E268*A!$I$5+'C'!F268*A!$J$5+'C'!G268*A!$K$5)/SUM(A!$G$5:$K$5)","v":3048.1302198561516}]
[450,120,{"$f":"A!G$2+A!G$3*B269+A!G$4*B269^2","v":3031.4861126399446},{"$f":"IF(B269<(A!H$3/(-2*A!H$4)),A!H$2+A!H$3*B269+A!H$4*B269^2,A!H$2+A!H$3*(A!H$3/(-2*A!H$4))+A!H$3*A!H$3/(4*A!H$4))","v":3056.137947013649},{"$f":"A!I$2+A!I$3*EXP(A!I$4*B269)","v":3067.6173701103194},{"$f":"IF((A!J$2+A!J$3*B269)<A!J$4,A!J$2+A!J$3*B269,A!J$4)","v":3038.9994704232167},{"$f":"IF(B269<A!K$4,A!K$2+A!K$3*(3*B269/(2*A!K$4)-0.5*(B269/A!K$4)^3),A!K$3+A!K$2)","v":3046.3185793516691},{"$f":"(C269*A!$G$5+'C'!D269*A!$H$5+'C'!E269*A!$I$5+'C'!F269*A!$J$5+'C'!G269*A!$K$5)/SUM(A!$G$5:$K$5)","v":3048.1302198561516}]
[452,120,{"$f":"A!G$2+A!G$3*B270+A!G$4*B270^2","v":3031.4861126399446},{"$f":"IF(B270<(A!H$3/(-2*A!H$4)),A!H$2+A!H$3*B270+A!H$4*B270^2,A!H$2+A!H$3*(A!H$3/(-2*A!H$4))+A!H$3*A!H$3/(4*A!H$4))","v":3056.137947013649},{"$f":"A!I$2+A!I$3*EXP(A!I$4*B270)","v":3067.6173701103194},{"$f":"IF((A!J$2+A!J$3*B270)<A!J$4,A!J$2+A!J$3*B270,A!J$4)","v":3038.9994704232167},{"$f":"IF(B270<A!K$4,A!K$2+A!K$3*(3*B270/(2*A!K$4)-0.5*(B270/A!K$4)^3),A!K$3+A!K$2)","v":3046.3185793516691},{"$f":"(C270*A!$G$5+'C'!D270*A!$H$5+'C'!E270*A!$I$5+'C'!F270*A!$J$5+'C'!G270*A!$K$5)/SUM(A!$G$5:$K$5)","v":3048.1302198561516}]
[454,120,{"$f":"A!G$2+A!G$3*B271+A!G$4*B271^2","v":3031.4861126399446},{"$f":"IF(B271<(A!H$3/(-2*A!H$4)),A!H$2+A!H$3*B271+A!H$4*B271^2,A!H$2+A!H$3*(A!H$3/(-2*A!H$4))+A!H$3*A!H$3/(4*A!H$4))","v":3056.137947013649},{"$f":"A!I$2+A!I$3*EXP(A!I$4*B271)","v":3067.6173701103194},{"$f":"IF((A!J$2+A!J$3*B271)<A!J$4,A!J$2+A!J$3*B271,A!J$4)","v":3038.9994704232167},{"$f":"IF(B271<A!K$4,A!K$2+A!K$3*(3*B271/(2*A!K$4)-0.5*(B271/A!K$4)^3),A!K$3+A!K$2)","v":3046.3185793516691},{"$f":"(C271*A!$G$5+'C'!D271*A!$H$5+'C'!E271*A!$I$5+'C'!F271*A!$J$5+'C'!G271*A!$K$5)/SUM(A!$G$5:$K$5)","v":3048.1302198561516}]
[456,120,{"$f":"A!G$2+A!G$3*B272+A!G$4*B272^2","v":3031.4861126399446},{"$f":"IF(B272<(A!H$3/(-2*A!H$4)),A!H$2+A!H$3*B272+A!H$4*B272^2,A!H$2+A!H$3*(A!H$3/(-2*A!H$4))+A!H$3*A!H$3/(4*A!H$4))","v":3056.137947013649},{"$f":"A!I$2+A!I$3*EXP(A!I$4*B272)","v":3067.6173701103194},{"$f":"IF((A!J$2+A!J$3*B272)<A!J$4,A!J$2+A!J$3*B272,A!J$4)","v":3038.9994704232167},{"$f":"IF(B272<A!K$4,A!K$2+A!K$3*(3*B272/(2*A!K$4)-0.5*(B272/A!K$4)^3),A!K$3+A!K$2)","v":3046.3185793516691},{"$f":"(C272*A!$G$5+'C'!D272*A!$H$5+'C'!E272*A!$I$5+'C'!F272*A!$J$5+'C'!G272*A!$K$5)/SUM(A!$G$5:$K$5)","v":3048.1302198561516}]
[458,120,{"$f":"A!G$2+A!G$3*B273+A!G$4*B273^2","v":3031.4861126399446},{"$f":"IF(B273<(A!H$3/(-2*A!H$4)),A!H$2+A!H$3*B273+A!H$4*B273^2,A!H$2+A!H$3*(A!H$3/(-2*A!H$4))+A!H$3*A!H$3/(4*A!H$4))","v":3056.137947013649},{"$f":"A!I$2+A!I$3*EXP(A!I$4*B273)","v":3067.6173701103194},{"$f":"IF((A!J$2+A!J$3*B273)<A!J$4,A!J$2+A!J$3*B273,A!J$4)","v":3038.9994704232167},{"$f":"IF(B273<A!K$4,A!K$2+A!K$3*(3*B273/(2*A!K$4)-0.5*(B273/A!K$4)^3),A!K$3+A!K$2)","v":3046.3185793516691},{"$f":"(C273*A!$G$5+'C'!D273*A!$H$5+'C'!E273*A!$I$5+'C'!F273*A!$J$5+'C'!G273*A!$K$5)/SUM(A!$G$5:$K$5)","v":3048.1302198561516}]
[460,120,{"$f":"A!G$2+A!G$3*B274+A!G$4*B274^2","v":3031.4861126399446},{"$f":"IF(B274<(A!H$3/(-2*A!H$4)),A!H$2+A!H$3*B274+A!H$4*B274^2,A!H$2+A!H$3*(A!H$3/(-2*A!H$4))+A!H$3*A!H$3/(4*A!H$4))","v":3056.137947013649},{"$f":"A!I$2+A!I$3*EXP(A!I$4*B274)","v":3067.6173701103194},{"$f":"IF((A!J$2+A!J$3*B274)<A!J$4,A!J$2+A!J$3*B274,A!J$4)","v":3038.9994704232167},{"$f":"IF(B274<A!K$4,A!K$2+A!K$3*(3*B274/(2*A!K$4)-0.5*(B274/A!K$4)^3),A!K$3+A!K$2)","v":3046.3185793516691},{"$f":"(C274*A!$G$5+'C'!D274*A!$H$5+'C'!E274*A!$I$5+'C'!F274*A!$J$5+'C'!G274*A!$K$5)/SUM(A!$G$5:$K$5)","v":3048.1302198561516}]
[462,120,{"$f":"A!G$2+A!G$3*B275+A!G$4*B275^2","v":3031.4861126399446},{"$f":"IF(B275<(A!H$3/(-2*A!H$4)),A!H$2+A!H$3*B275+A!H$4*B275^2,A!H$2+A!H$3*(A!H$3/(-2*A!H$4))+A!H$3*A!H$3/(4*A!H$4))","v":3056.137947013649},{"$f":"A!I$2+A!I$3*EXP(A!I$4*B275)","v":3067.6173701103194},{"$f":"IF((A!J$2+A!J$3*B275)<A!J$4,A!J$2+A!J$3*B275,A!J$4)","v":3038.9994704232167},{"$f":"IF(B275<A!K$4,A!K$2+A!K$3*(3*B275/(2*A!K$4)-0.5*(B275/A!K$4)^3),A!K$3+A!K$2)","v":3046.3185793516691},{"$f":"(C275*A!$G$5+'C'!D275*A!$H$5+'C'!E275*A!$I$5+'C'!F275*A!$J$5+'C'!G275*A!$K$5)/SUM(A!$G$5:$K$5)","v":3048.1302198561516}]
[464,120,{"$f":"A!G$2+A!G$3*B276+A!G$4*B276^2","v":3031.4861126399446},{"$f":"IF(B276<(A!H$3/(-2*A!H$4)),A!H$2+A!H$3*B276+A!H$4*B276^2,A!H$2+A!H$3*(A!H$3/(-2*A!H$4))+A!H$3*A!H$3/(4*A!H$4))","v":3056.137947013649},{"$f":"A!I$2+A!I$3*EXP(A!I$4*B276)","v":3067.6173701103194},{"$f":"IF((A!J$2+A!J$3*B276)<A!J$4,A!J$2+A!J$3*B276,A!J$4)","v":3038.9994704232167},{"$f":"IF(B276<A!K$4,A!K$2+A!K$3*(3*B276/(2*A!K$4)-0.5*(B276/A!K$4)^3),A!K$3+A!K$2)","v":3046.3185793516691},{"$f":"(C276*A!$G$5+'C'!D276*A!$H$5+'C'!E276*A!$I$5+'C'!F276*A!$J$5+'C'!G276*A!$K$5)/SUM(A!$G$5:$K$5)","v":3048.1302198561516}]
[466,120,{"$f":"A!G$2+A!G$3*B277+A!G$4*B277^2","v":3031.4861126399446},{"$f":"IF(B277<(A!H$3/(-2*A!H$4)),A!H$2+A!H$3*B277+A!H$4*B277^2,A!H$2+A!H$3*(A!H$3/(-2*A!H$4))+A!H$3*A!H$3/(4*A!H$4))","v":3056.137947013649},{"$f":"A!I$2+A!I$3*EXP(A!I$4*B277)","v":3067.6173701103194},{"$f":"IF((A!J$2+A!J$3*B277)<A!J$4,A!J$2+A!J$3*B277,A!J$4)","v":3038.9994704232167},{"$f":"IF(B277<A!K$4,A!K$2+A!K$3*(3*B277/(2*A!K$4)-0.5*(B277/A!K$4)^3),A!K$3+A!K$2)","v":3046.3185793516691},{"$f":"(C277*A!$G$5+'C'!D277*A!$H$5+'C'!E277*A!$I$5+'C'!F277*A!$J$5+'C'!G277*A!$K$5)/SUM(A!$G$5:$K$5)","v":3048.1302198561516}]
[468,120,{"$f":"A!G$2+A!G$3*B278+A!G$4*B278^2","v":3031.4861126399446},{"$f":"IF(B278<(A!H$3/(-2*A!H$4)),A!H$2+A!H$3*B278+A!H$4*B278^2,A!H$2+A!H$3*(A!H$3/(-2*A!H$4))+A!H$3*A!H$3/(4*A!H$4))","v":3056.137947013649},{"$f":"A!I$2+A!I$3*EXP(A!I$4*B278)","v":3067.6173701103194},{"$f":"IF((A!J$2+A!J$3*B278)<A!J$4,A!J$2+A!J$3*B278,A!J$4)","v":3038.9994704232167},{"$f":"IF(B278<A!K$4,A!K$2+A!K$3*(3*B278/(2*A!K$4)-0.5*(B278/A!K$4)^3),A!K$3+A!K$2)","v":3046.3185793516691},{"$f":"(C278*A!$G$5+'C'!D278*A!$H$5+'C'!E278*A!$I$5+'C'!F278*A!$J$5+'C'!G278*A!$K$5)/SUM(A!$G$5:$K$5)","v":3048.1302198561516}]
[470,120,{"$f":"A!G$2+A!G$3*B279+A!G$4*B279^2","v":3031.4861126399446},{"$f":"IF(B279<(A!H$3/(-2*A!H$4)),A!H$2+A!H$3*B279+A!H$4*B279^2,A!H$2+A!H$3*(A!H$3/(-2*A!H$4))+A!H$3*A!H$3/(4*A!H$4))","v":3056.137947013649},{"$f":"A!I$2+A!I$3*EXP(A!I$4*B279)","v":3067.6173701103194},{"$f":"IF((A!J$2+A!J$3*B279)<A!J$4,A!J$2+A!J$3*B279,A!J$4)","v":3038.9994704232167},{"$f":"IF(B279<A!K$4,A!K$2+A!K$3*(3*B279/(2*A!K$4)-0.5*(B279/A!K$4)^3),A!K$3+A!K$2)","v":3046.3185793516691},{"$f":"(C279*A!$G$5+'C'!D279*A!$H$5+'C'!E279*A!$I$5+'C'!F279*A!$J$5+'C'!G279*A!$K$5)/SUM(A!$G$5:$K$5)","v":3048.1302198561516}]
[472,120,{"$f":"A!G$2+A!G$3*B280+A!G$4*B280^2","v":3031.4861126399446},{"$f":"IF(B280<(A!H$3/(-2*A!H$4)),A!H$2+A!H$3*B280+A!H$4*B280^2,A!H$2+A!H$3*(A!H$3/(-2*A!H$4))+A!H$3*A!H$3/(4*A!H$4))","v":3056.137947013649},{"$f":"A!I$2+A!I$3*EXP(A!I$4*B280)","v":3067.6173701103194},{"$f":"IF((A!J$2+A!J$3*B280)<A!J$4,A!J$2+A!J$3*B280,A!J$4)","v":3038.9994704232167},{"$f":"IF(B280<A!K$4,A!K$2+A!K$3*(3*B280/(2*A!K$4)-0.5*(B280/A!K$4)^3),A!K$3+A!K$2)","v":3046.3185793516691},{"$f":"(C280*A!$G$5+'C'!D280*A!$H$5+'C'!E280*A!$I$5+'C'!F280*A!$J$5+'C'!G280*A!$K$5)/SUM(A!$G$5:$K$5)","v":3048.1302198561516}]
[474,120,{"$f":"A!G$2+A!G$3*B281+A!G$4*B281^2","v":3031.4861126399446},{"$f":"IF(B281<(A!H$3/(-2*A!H$4)),A!H$2+A!H$3*B281+A!H$4*B281^2,A!H$2+A!H$3*(A!H$3/(-2*A!H$4))+A!H$3*A!H$3/(4*A!H$4))","v":3056.137947013649},{"$f":"A!I$2+A!I$3*EXP(A!I$4*B281)","v":3067.6173701103194},{"$f":"IF((A!J$2+A!J$3*B281)<A!J$4,A!J$2+A!J$3*B281,A!J$4)","v":3038.9994704232167},{"$f":"IF(B281<A!K$4,A!K$2+A!K$3*(3*B281/(2*A!K$4)-0.5*(B281/A!K$4)^3),A!K$3+A!K$2)","v":3046.3185793516691},{"$f":"(C281*A!$G$5+'C'!D281*A!$H$5+'C'!E281*A!$I$5+'C'!F281*A!$J$5+'C'!G281*A!$K$5)/SUM(A!$G$5:$K$5)","v":3048.1302198561516}]
[476,120,{"$f":"A!G$2+A!G$3*B282+A!G$4*B282^2","v":3031.4861126399446},{"$f":"IF(B282<(A!H$3/(-2*A!H$4)),A!H$2+A!H$3*B282+A!H$4*B282^2,A!H$2+A!H$3*(A!H$3/(-2*A!H$4))+A!H$3*A!H$3/(4*A!H$4))","v":3056.137947013649},{"$f":"A!I$2+A!I$3*EXP(A!I$4*B282)","v":3067.6173701103194},{"$f":"IF((A!J$2+A!J$3*B282)<A!J$4,A!J$2+A!J$3*B282,A!J$4)","v":3038.9994704232167},{"$f":"IF(B282<A!K$4,A!K$2+A!K$3*(3*B282/(2*A!K$4)-0.5*(B282/A!K$4)^3),A!K$3+A!K$2)","v":3046.3185793516691},{"$f":"(C282*A!$G$5+'C'!D282*A!$H$5+'C'!E282*A!$I$5+'C'!F282*A!$J$5+'C'!G282*A!$K$5)/SUM(A!$G$5:$K$5)","v":3048.1302198561516}]
[478,120,{"$f":"A!G$2+A!G$3*B283+A!G$4*B283^2","v":3031.4861126399446},{"$f":"IF(B283<(A!H$3/(-2*A!H$4)),A!H$2+A!H$3*B283+A!H$4*B283^2,A!H$2+A!H$3*(A!H$3/(-2*A!H$4))+A!H$3*A!H$3/(4*A!H$4))","v":3056.137947013649},{"$f":"A!I$2+A!I$3*EXP(A!I$4*B283)","v":3067.6173701103194},{"$f":"IF((A!J$2+A!J$3*B283)<A!J$4,A!J$2+A!J$3*B283,A!J$4)","v":3038.9994704232167},{"$f":"IF(B283<A!K$4,A!K$2+A!K$3*(3*B283/(2*A!K$4)-0.5*(B283/A!K$4)^3),A!K$3+A!K$2)","v":3046.3185793516691},{"$f":"(C283*A!$G$5+'C'!D283*A!$H$5+'C'!E283*A!$I$5+'C'!F283*A!$J$5+'C'!G283*A!$K$5)/SUM(A!$G$5:$K$5)","v":3048.1302198561516}]
[480,120,{"$f":"A!G$2+A!G$3*B284+A!G$4*B284^2","v":3031.4861126399446},{"$f":"IF(B284<(A!H$3/(-2*A!H$4)),A!H$2+A!H$3*B284+A!H$4*B284^2,A!H$2+A!H$3*(A!H$3/(-2*A!H$4))+A!H$3*A!H$3/(4*A!H$4))","v":3056.137947013649},{"$f":"A!I$2+A!I$3*EXP(A!I$4*B284)","v":3067.6173701103194},{"$f":"IF((A!J$2+A!J$3*B284)<A!J$4,A!J$2+A!J$3*B284,A!J$4)","v":3038.9994704232167},{"$f":"IF(B284<A!K$4,A!K$2+A!K$3*(3*B284/(2*A!K$4)-0.5*(B284/A!K$4)^3),A!K$3+A!K$2)","v":3046.3185793516691},{"$f":"(C284*A!$G$5+'C'!D284*A!$H$5+'C'!E284*A!$I$5+'C'!F284*A!$J$5+'C'!G284*A!$K$5)/SUM(A!$G$5:$K$5)","v":3048.1302198561516}]
[482,120,{"$f":"A!G$2+A!G$3*B285+A!G$4*B285^2","v":3031.4861126399446},{"$f":"IF(B285<(A!H$3/(-2*A!H$4)),A!H$2+A!H$3*B285+A!H$4*B285^2,A!H$2+A!H$3*(A!H$3/(-2*A!H$4))+A!H$3*A!H$3/(4*A!H$4))","v":3056.137947013649},{"$f":"A!I$2+A!I$3*EXP(A!I$4*B285)","v":3067.6173701103194},{"$f":"IF((A!J$2+A!J$3*B285)<A!J$4,A!J$2+A!J$3*B285,A!J$4)","v":3038.9994704232167},{"$f":"IF(B285<A!K$4,A!K$2+A!K$3*(3*B285/(2*A!K$4)-0.5*(B285/A!K$4)^3),A!K$3+A!K$2)","v":3046.3185793516691},{"$f":"(C285*A!$G$5+'C'!D285*A!$H$5+'C'!E285*A!$I$5+'C'!F285*A!$J$5+'C'!G285*A!$K$5)/SUM(A!$G$5:$K$5)","v":3048.1302198561516}]
[484,120,{"$f":"A!G$2+A!G$3*B286+A!G$4*B286^2","v":3031.4861126399446},{"$f":"IF(B286<(A!H$3/(-2*A!H$4)),A!H$2+A!H$3*B286+A!H$4*B286^2,A!H$2+A!H$3*(A!H$3/(-2*A!H$4))+A!H$3*A!H$3/(4*A!H$4))","v":3056.137947013649},{"$f":"A!I$2+A!I$3*EXP(A!I$4*B286)","v":3067.6173701103194},{"$f":"IF((A!J$2+A!J$3*B286)<A!J$4,A!J$2+A!J$3*B286,A!J$4)","v":3038.9994704232167},{"$f":"IF(B286<A!K$4,A!K$2+A!K$3*(3*B286/(2*A!K$4)-0.5*(B286/A!K$4)^3),A!K$3+A!K$2)","v":3046.3185793516691},{"$f":"(C286*A!$G$5+'C'!D286*A!$H$5+'C'!E286*A!$I$5+'C'!F286*A!$J$5+'C'!G286*A!$K$5)/SUM(A!$G$5:$K$5)","v":3048.1302198561516}]
[486,120,{"$f":"A!G$2+A!G$3*B287+A!G$4*B287^2","v":3031.4861126399446},{"$f":"IF(B287<(A!H$3/(-2*A!H$4)),A!H$2+A!H$3*B287+A!H$4*B287^2,A!H$2+A!H$3*(A!H$3/(-2*A!H$4))+A!H$3*A!H$3/(4*A!H$4))","v":3056.137947013649},{"$f":"A!I$2+A!I$3*EXP(A!I$4*B287)","v":3067.6173701103194},{"$f":"IF((A!J$2+A!J$3*B287)<A!J$4,A!J$2+A!J$3*B287,A!J$4)","v":3038.9994704232167},{"$f":"IF(B287<A!K$4,A!K$2+A!K$3*(3*B287/(2*A!K$4)-0.5*(B287/A!K$4)^3),A!K$3+A!K$2)","v":3046.3185793516691},{"$f":"(C287*A!$G$5+'C'!D287*A!$H$5+'C'!E287*A!$I$5+'C'!F287*A!$J$5+'C'!G287*A!$K$5)/SUM(A!$G$5:$K$5)","v":3048.1302198561516}]
[488,120,{"$f":"A!G$2+A!G$3*B288+A!G$4*B288^2","v":3031.4861126399446},{"$f":"IF(B288<(A!H$3/(-2*A!H$4)),A!H$2+A!H$3*B288+A!H$4*B288^2,A!H$2+A!H$3*(A!H$3/(-2*A!H$4))+A!H$3*A!H$3/(4*A!H$4))","v":3056.137947013649},{"$f":"A!I$2+A!I$3*EXP(A!I$4*B288)","v":3067.6173701103194},{"$f":"IF((A!J$2+A!J$3*B288)<A!J$4,A!J$2+A!J$3*B288,A!J$4)","v":3038.9994704232167},{"$f":"IF(B288<A!K$4,A!K$2+A!K$3*(3*B288/(2*A!K$4)-0.5*(B288/A!K$4)^3),A!K$3+A!K$2)","v":3046.3185793516691},{"$f":"(C288*A!$G$5+'C'!D288*A!$H$5+'C'!E288*A!$I$5+'C'!F288*A!$J$5+'C'!G288*A!$K$5)/SUM(A!$G$5:$K$5)","v":3048.1302198561516}]
[490,120,{"$f":"A!G$2+A!G$3*B289+A!G$4*B289^2","v":3031.4861126399446},{"$f":"IF(B289<(A!H$3/(-2*A!H$4)),A!H$2+A!H$3*B289+A!H$4*B289^2,A!H$2+A!H$3*(A!H$3/(-2*A!H$4))+A!H$3*A!H$3/(4*A!H$4))","v":3056.137947013649},{"$f":"A!I$2+A!I$3*EXP(A!I$4*B289)","v":3067.6173701103194},{"$f":"IF((A!J$2+A!J$3*B289)<A!J$4,A!J$2+A!J$3*B289,A!J$4)","v":3038.9994704232167},{"$f":"IF(B289<A!K$4,A!K$2+A!K$3*(3*B289/(2*A!K$4)-0.5*(B289/A!K$4)^3),A!K$3+A!K$2)","v":3046.3185793516691},{"$f":"(C289*A!$G$5+'C'!D289*A!$H$5+'C'!E289*A!$I$5+'C'!F289*A!$J$5+'C'!G289*A!$K$5)/SUM(A!$G$5:$K$5)","v":3048.1302198561516}]
[492,120,{"$f":"A!G$2+A!G$3*B290+A!G$4*B290^2","v":3031.4861126399446},{"$f":"IF(B290<(A!H$3/(-2*A!H$4)),A!H$2+A!H$3*B290+A!H$4*B290^2,A!H$2+A!H$3*(A!H$3/(-2*A!H$4))+A!H$3*A!H$3/(4*A!H$4))","v":3056.137947013649},{"$f":"A!I$2+A!I$3*EXP(A!I$4*B290)","v":3067.6173701103194},{"$f":"IF((A!J$2+A!J$3*B290)<A!J$4,A!J$2+A!J$3*B290,A!J$4)","v":3038.9994704232167},{"$f":"IF(B290<A!K$4,A!K$2+A!K$3*(3*B290/(2*A!K$4)-0.5*(B290/A!K$4)^3),A!K$3+A!K$2)","v":3046.3185793516691},{"$f":"(C290*A!$G$5+'C'!D290*A!$H$5+'C'!E290*A!$I$5+'C'!F290*A!$J$5+'C'!G290*A!$K$5)/SUM(A!$G$5:$K$5)","v":3048.1302198561516}]
[494,120,{"$f":"A!G$2+A!G$3*B291+A!G$4*B291^2","v":3031.4861126399446},{"$f":"IF(B291<(A!H$3/(-2*A!H$4)),A!H$2+A!H$3*B291+A!H$4*B291^2,A!H$2+A!H$3*(A!H$3/(-2*A!H$4))+A!H$3*A!H$3/(4*A!H$4))","v":3056.137947013649},{"$f":"A!I$2+A!I$3*EXP(A!I$4*B291)","v":3067.6173701103194},{"$f":"IF((A!J$2+A!J$3*B291)<A!J$4,A!J$2+A!J$3*B291,A!J$4)","v":3038.9994704232167},{"$f":"IF(B291<A!K$4,A!K$2+A!K$3*(3*B291/(2*A!K$4)-0.5*(B291/A!K$4)^3),A!K$3+A!K$2)","v":3046.3185793516691},{"$f":"(C291*A!$G$5+'C'!D291*A!$H$5+'C'!E291*A!$I$5+'C'!F291*A!$J$5+'C'!G291*A!$K$5)/SUM(A!$G$5:$K$5)","v":3048.1302198561516}]
[496,120,{"$f":"A!G$2+A!G$3*B292+A!G$4*B292^2","v":3031.4861126399446},{"$f":"IF(B292<(A!H$3/(-2*A!H$4)),A!H$2+A!H$3*B292+A!H$4*B292^2,A!H$2+A!H$3*(A!H$3/(-2*A!H$4))+A!H$3*A!H$3/(4*A!H$4))","v":3056.137947013649},{"$f":"A!I$2+A!I$3*EXP(A!I$4*B292)","v":3067.6173701103194},{"$f":"IF((A!J$2+A!J$3*B292)<A!J$4,A!J$2+A!J$3*B292,A!J$4)","v":3038.9994704232167},{"$f":"IF(B292<A!K$4,A!K$2+A!K$3*(3*B292/(2*A!K$4)-0.5*(B292/A!K$4)^3),A!K$3+A!K$2)","v":3046.3185793516691},{"$f":"(C292*A!$G$5+'C'!D292*A!$H$5+'C'!E292*A!$I$5+'C'!F292*A!$J$5+'C'!G292*A!$K$5)/SUM(A!$G$5:$K$5)","v":3048.1302198561516}]
[498,120,{"$f":"A!G$2+A!G$3*B293+A!G$4*B293^2","v":3031.4861126399446},{"$f":"IF(B293<(A!H$3/(-2*A!H$4)),A!H$2+A!H$3*B293+A!H$4*B293^2,A!H$2+A!H$3*(A!H$3/(-2*A!H$4))+A!H$3*A!H$3/(4*A!H$4))","v":3056.137947013649},{"$f":"A!I$2+A!I$3*EXP(A!I$4*B293)","v":3067.6173701103194},{"$f":"IF((A!J$2+A!J$3*B293)<A!J$4,A!J$2+A!J$3*B293,A!J$4)","v":3038.9994704232167},{"$f":"IF(B293<A!K$4,A!K$2+A!K$3*(3*B293/(2*A!K$4)-0.5*(B293/A!K$4)^3),A!K$3+A!K$2)","v":3046.3185793516691},{"$f":"(C293*A!$G$5+'C'!D293*A!$H$5+'C'!E293*A!$I$5+'C'!F293*A!$J$5+'C'!G293*A!$K$5)/SUM(A!$G$5:$K$5)","v":3048.1302198561516}]
[500,120,{"$f":"A!G$2+A!G$3*B294+A!G$4*B294^2","v":3031.4861126399446},{"$f":"IF(B294<(A!H$3/(-2*A!H$4)),A!H$2+A!H$3*B294+A!H$4*B294^2,A!H$2+A!H$3*(A!H$3/(-2*A!H$4))+A!H$3*A!H$3/(4*A!H$4))","v":3056.137947013649},{"$f":"A!I$2+A!I$3*EXP(A!I$4*B294)","v":3067.6173701103194},{"$f":"IF((A!J$2+A!J$3*B294)<A!J$4,A!J$2+A!J$3*B294,A!J$4)","v":3038.9994704232167},{"$f":"IF(B294<A!K$4,A!K$2+A!K$3*(3*B294/(2*A!K$4)-0.5*(B294/A!K$4)^3),A!K$3+A!K$2)","v":3046.3185793516691},{"$f":"(C294*A!$G$5+'C'!D294*A!$H$5+'C'!E294*A!$I$5+'C'!F294*A!$J$5+'C'!G294*A!$K$5)/SUM(A!$G$5:$K$5)","v":3048.1302198561516}]